BEGIN:VCALENDAR
VERSION:2.0
PRODID:IEEE vTools.Events//EN
CALSCALE:GREGORIAN
BEGIN:VTIMEZONE
TZID:US/Eastern
BEGIN:DAYLIGHT
DTSTART:20200308T030000
TZOFFSETFROM:-0500
TZOFFSETTO:-0400
RRULE:FREQ=YEARLY;BYDAY=2SU;BYMONTH=3
TZNAME:EDT
END:DAYLIGHT
BEGIN:STANDARD
DTSTART:20201101T010000
TZOFFSETFROM:-0400
TZOFFSETTO:-0500
RRULE:FREQ=YEARLY;BYDAY=1SU;BYMONTH=11
TZNAME:EST
END:STANDARD
END:VTIMEZONE
BEGIN:VEVENT
DTSTAMP:20201120T132641Z
UID:9DE73543-415F-4E10-B126-E669E77BC3CA
DTSTART;TZID=US/Eastern:20200902T190000
DTEND;TZID=US/Eastern:20200902T210000
DESCRIPTION:Even though the Sections Congress was not held in-person this y
 ear\, MGA is in the process of considering the NH Section&#39;s recommendation
 \, along with other recommendations from all the regions. You will find th
 at list attached to this meeting announcement\, or at the link goven below
 .\n\nMGA compiled a list of 3 recommendations from all 10 regions\, then c
 onsulted with recommendation authors to remove to similar recommendations.
  Our recommendation has made the cut\, and is on the list of a final 19 re
 commendations that will be voted on.\n\nI am the NH section&#39;s delegate. I 
 would like to hear what you think about the recommendations in the list.\n
 \nThis event is limited to IEEE members only. Access code and link to WEbe
 x will only be distributed to registered participants. Preregistration is 
 required!!\n\nAgenda: \n1. Introduction\n\n2. Presentation of Recommendati
 ons\n\nLink to 2020 Sections Congress Recommendations for discussion:\nhtt
 ps://drive.google.com/drive/folders/1iRhJ7wTmogvREevEwWAO2rRj282iWvA3?usp=
 sharing\n\n3. Discussion of Recommendations\n\nVirtual: https://events.vto
 ols.ieee.org/m/238043
LOCATION:Virtual: https://events.vtools.ieee.org/m/238043
ORGANIZER:enelson@ieee.org
SEQUENCE:6
SUMMARY:Discuss Sections Congress Recomendations with NH Section Delegate
URL;VALUE=URI:https://events.vtools.ieee.org/m/238043
X-ALT-DESC:Description: &lt;br /&gt;&lt;p&gt;Even though the Sections Congress was not 
 held in-person this year\, MGA is in the process of considering the NH Sec
 tion&#39;s recommendation\, along with other recommendations from all the regi
 ons.&amp;nbsp\; You will find that list attached to this meeting announcement\
 , or at the link goven below.&lt;/p&gt;\n&lt;p&gt;MGA compiled a list of 3 recommendat
 ions from all 10 regions\, then consulted with recommendation authors to r
 emove to similar recommendations.&amp;nbsp\; Our recommendation has made the c
 ut\, and is on the list of a final 19 recommendations that will be voted o
 n.&lt;/p&gt;\n&lt;p&gt;I am the NH section&#39;s delegate.&amp;nbsp\; I would like to hear wha
 t you think about the recommendations in the list.&lt;/p&gt;\n&lt;p&gt;This event is l
 imited to IEEE members only.&amp;nbsp\; Access code and link to WEbex will onl
 y be distributed to registered participants. Preregistration is required!!
 &lt;/p&gt;&lt;br /&gt;&lt;br /&gt;Agenda: &lt;br /&gt;&lt;p&gt;1.&amp;nbsp\; Introduction&lt;/p&gt;\n&lt;p&gt;2.&amp;nbsp\; 
 Presentation of Recommendations&lt;/p&gt;\n&lt;p&gt;Link to 2020 Sections Congress Rec
 ommendations for discussion:&lt;br /&gt;&lt;a href=&quot;https://drive.google.com/drive/
 folders/1iRhJ7wTmogvREevEwWAO2rRj282iWvA3?usp=sharing&quot; target=&quot;_blank&quot; rel
 =&quot;noopener&quot;&gt;https://drive.google.com/drive/folders/1iRhJ7wTmogvREevEwWAO2r
 Rj282iWvA3?usp=sharing&lt;/a&gt;&lt;/p&gt;\n&lt;p&gt;3. Discussion of Recommendations&lt;/p&gt;
END:VEVENT
END:VCALENDAR

