BEGIN:VCALENDAR
VERSION:2.0
PRODID:IEEE vTools.Events//EN
CALSCALE:GREGORIAN
BEGIN:VTIMEZONE
TZID:Africa/Johannesburg
BEGIN:STANDARD
DTSTART:19440319T010000
TZOFFSETFROM:+0300
TZOFFSETTO:+0200
TZNAME:SAST
END:STANDARD
END:VTIMEZONE
BEGIN:VEVENT
DTSTAMP:20200831T174344Z
UID:C41A1A2F-A51A-401A-AB90-D33163C4F9C6
DTSTART;TZID=Africa/Johannesburg:20200828T170000
DTEND;TZID=Africa/Johannesburg:20200828T183000
DESCRIPTION:IEEE WiE / PES Women in Power [WiP] South Africa Chapter brings
  to you a virtual panel on:\n\nJohanessburg\, Gauteng\, South Africa\, Vir
 tual: https://events.vtools.ieee.org/m/238244
LOCATION:Johanessburg\, Gauteng\, South Africa\, Virtual: https://events.vt
 ools.ieee.org/m/238244
ORGANIZER:omowunmimary@ieee.org
SEQUENCE:5
SUMMARY:Towards increased women&#39;s participation and leadership in Engineeri
 ng
URL;VALUE=URI:https://events.vtools.ieee.org/m/238244
X-ALT-DESC:Description: &lt;br /&gt;&lt;p&gt;IEEE WiE / PES Women in Power [WiP]&amp;nbsp\;
  South Africa Chapter brings to you a virtual panel on:&lt;/p&gt;
END:VEVENT
END:VCALENDAR

