BEGIN:VCALENDAR
VERSION:2.0
PRODID:IEEE vTools.Events//EN
CALSCALE:GREGORIAN
BEGIN:VTIMEZONE
TZID:US/Eastern
BEGIN:DAYLIGHT
DTSTART:20200308T030000
TZOFFSETFROM:-0500
TZOFFSETTO:-0400
RRULE:FREQ=YEARLY;BYDAY=2SU;BYMONTH=3
TZNAME:EDT
END:DAYLIGHT
BEGIN:STANDARD
DTSTART:20201101T010000
TZOFFSETFROM:-0400
TZOFFSETTO:-0500
RRULE:FREQ=YEARLY;BYDAY=1SU;BYMONTH=11
TZNAME:EST
END:STANDARD
END:VTIMEZONE
BEGIN:VEVENT
DTSTAMP:20200911T173726Z
UID:314411F0-D4A4-4239-B4D1-8274201E1012
DTSTART;TZID=US/Eastern:20200910T163000
DTEND;TZID=US/Eastern:20200910T173000
DESCRIPTION:Current trends in artificial intelligence/machine learning (AI/
 ML) have increased the interest in multi-source techniques\, especially th
 ose of multispectral image fusion. The presentation will highlight develop
 ments in image fusion applications\, methods\, and evaluation.\n\nImage fu
 sion applications include: surveillance\, medical\, and inspection utilizi
 ng multi-focus\, multi-resolution\, multi-view\, multi-exposure\, multi-sp
 ectrum\, and multi-modal data. Image fusion methods include statistical pr
 ocessing\, wavelet transforms as well as recent methods with generative ad
 versarial networks (GANs). Evaluation includes data sets and collection\, 
 performance metrics\, and quantitative and qualitative performance.\n\nThe
  talk will focus on basic methods and approaches\, provide examples\, and 
 discuss guidelines as well as recent trends in image fusion. Examples and 
 references will be provided so as to point the audience to more details on
  fundamental constructs towards their areas of interest.\n\nCo-sponsored b
 y: CH02182 - Washington/Baltimore/No VA Jt Sections Chap\,CAS04\n\nSpeaker
 (s): Erik Blasch\, PhD\, MBA\, \n\nVirtual: https://events.vtools.ieee.org
 /m/238351
LOCATION:Virtual: https://events.vtools.ieee.org/m/238351
ORGANIZER:tomburkeii@gmail.com
SEQUENCE:1
SUMMARY:Multispectral Image Fusion
URL;VALUE=URI:https://events.vtools.ieee.org/m/238351
X-ALT-DESC:Description: &lt;br /&gt;&lt;p&gt;Current trends in artificial intelligence/
 machine learning (AI/ML) have increased the interest in multi-source techn
 iques\, especially those of multispectral image fusion. The presentation w
 ill highlight developments in image fusion applications\, methods\, and ev
 aluation.&lt;/p&gt;\n&lt;p&gt;Image fusion applications include: surveillance\, medica
 l\, and inspection utilizing multi-focus\, multi-resolution\, multi-view\,
  multi-exposure\, multi-spectrum\, and multi-modal data.&amp;nbsp\; Image fusi
 on methods include statistical processing\, wavelet transforms as well as 
 recent methods with generative adversarial networks (GANs). Evaluation inc
 ludes data sets and collection\, performance metrics\, and quantitative an
 d qualitative performance.&amp;nbsp\;&lt;/p&gt;\n&lt;p&gt;The talk will focus on basic met
 hods and approaches\, provide examples\, and discuss guidelines as well as
  recent trends in image fusion. Examples and references will be provided s
 o as to point the audience to more details on fundamental constructs towar
 ds their areas of interest.&amp;nbsp\;&lt;/p&gt;
END:VEVENT
END:VCALENDAR

