BEGIN:VCALENDAR
VERSION:2.0
PRODID:IEEE vTools.Events//EN
CALSCALE:GREGORIAN
BEGIN:VTIMEZONE
TZID:Canada/Eastern
BEGIN:DAYLIGHT
DTSTART:20200308T030000
TZOFFSETFROM:-0500
TZOFFSETTO:-0400
RRULE:FREQ=YEARLY;BYDAY=2SU;BYMONTH=3
TZNAME:EDT
END:DAYLIGHT
BEGIN:STANDARD
DTSTART:20201101T010000
TZOFFSETFROM:-0400
TZOFFSETTO:-0500
RRULE:FREQ=YEARLY;BYDAY=1SU;BYMONTH=11
TZNAME:EST
END:STANDARD
END:VTIMEZONE
BEGIN:VEVENT
DTSTAMP:20201007T084028Z
UID:77C88033-D2F1-43CC-8064-4A801F2BA626
DTSTART;TZID=Canada/Eastern:20201006T110000
DTEND;TZID=Canada/Eastern:20201006T140000
DESCRIPTION:IEEE Montréal Section is inviting you to celebrate the 11th an
 niversary of IEEE Day\, a day commemorating the first time IEEE members ga
 thered to share their technical ideas in 1884. Come join us for a virtual 
 conference gathering bright minds from academia and industry where keynote
  speakers will share their ideas on how to leverage technology for a bette
 r tomorrow and deal with the current pandemic running across the entire wo
 rld. Meet Montréal’s active IEEE student branches and affinity groups\,
  check out their exciting projects and activities\, and listen to successf
 ul IEEE members from academia and industry share their experience. This FR
 EE event is open to all students\, young professionals\, and IEEE members.
  It offers a unique opportunity to expand your social and professional net
 work and get involved in your university’s IEEE student branch. There wi
 ll be a contest inspired by the COVID situation and the top three winners 
 will be awarded gift cards.\n\nAwards:\n\n1st place: 80$CAD\n2nd place: 60
 $CAD\n3rd place: 40$CAD\n\nParticipating Groups: IEEE YP Montreal\, IEEE W
 IE Montreal\, IEEE SIGHT Montreal\n\nParticipating IEEE Student Branches: 
 Polytechnique Montreal\, INRS\, ÉTS\n\nSpeaker(s): Dr. Saida Maaroufi\, A
 my Pinchuk\n\nAgenda: \n11:00 -- 11:25 Opening remarks - Introduction to I
 EEE Montreal section: Dr. Saida Maaroufi\n\n11:25 -- 11:30 Video clip feat
 uring IEEE Montreal section activities along with different groups (5-10 m
 inutes)\n\n11:30 --: A quick instructions to voters about the contest\n\n1
 1:30 -- 11:55 Invited speaker: Dr. Amy Pinchuk\n\n11:55 Q&amp;A with Dr. Amy P
 inchuk - A music track with photos will be played as an alternative if the
 re are no Qs.\n\n11:55 -- 12:00 Break: A funny video clip with a piece of 
 music featuring involving groups in the event: best shots and best moments
  of AGs and SBs activities\n\n12:00 -- 12:25 Invited Speaker: Dr. Syed Has
 san Ahmed\, &quot;Towards Named Data Networking in Connected Cities”\n\n12:25
  -- 12:50 Invited Speaker: Dr. Takfarinas Saber\n\n12:50 -- 01:00: Q&amp;A wit
 h Dr. Syed Hassan Ahmed and Dr. Takfarinas Saber\n\n01:00 --: A quick call
  to make final votes\n\n01:00 -- 01:30 Invited Speaker: Prof. Fabric Labea
 u\n\n01:30 -- 01:35 Q&amp;A with Prof. Labeau\n\n01:35 -- 01:40 Student Branch
  Presentation (Poly)\n\n01:40 -- 01:45 Student Branch Presentation (ETS)\n
 \n01:45 -- 01:50 Student Branch Presentation (INRS)\n\n01:50 --: Closing v
 ideo\n\nMontreal\, Quebec\, Canada\, Virtual: https://events.vtools.ieee.o
 rg/m/238699
LOCATION:Montreal\, Quebec\, Canada\, Virtual: https://events.vtools.ieee.o
 rg/m/238699
ORGANIZER:mansour.nch@ieee.org
SEQUENCE:35
SUMMARY:IEEE Day 2020
URL;VALUE=URI:https://events.vtools.ieee.org/m/238699
X-ALT-DESC:Description: &lt;br /&gt;&lt;p style=&quot;text-align: justify\;&quot;&gt;&lt;strong&gt;&lt;spa
 n style=&quot;color: #3366ff\;&quot;&gt;IEEE Montr&amp;eacute\;al Section&lt;/span&gt;&lt;/strong&gt; i
 s inviting you to celebrate the 11th anniversary of &lt;strong&gt;&lt;span style=&quot;c
 olor: blue\;&quot;&gt;IEEE Day&lt;/span&gt;&lt;/strong&gt;\, a day commemorating the first tim
 e IEEE members gathered to share their technical ideas in 1884. Come join 
 us for a virtual conference gathering bright minds from academia and indus
 try where keynote speakers will share their ideas on how to leverage techn
 ology for a better tomorrow and deal with the current pandemic running acr
 oss the entire world. Meet Montr&amp;eacute\;al&amp;rsquo\;s active IEEE student b
 ranches and affinity groups\, check out their exciting projects and activi
 ties\, and listen to successful IEEE members from academia and industry sh
 are their experience. This &lt;strong&gt;FREE&lt;/strong&gt; event is open to all stud
 ents\, young professionals\, and IEEE members. It offers a unique opportun
 ity to expand your social and professional network and get involved in you
 r university&amp;rsquo\;s IEEE student branch. &lt;strong&gt;There will be a contest
  inspired by the COVID&lt;span style=&quot;color: #3366ff\;&quot;&gt;&lt;span style=&quot;color: #
 000000\;&quot;&gt; situation&lt;/span&gt; &lt;span style=&quot;color: #000000\;&quot;&gt;and the&lt;/span&gt; 
 top three winners will be awarded gift cards. &lt;br /&gt;&lt;/span&gt;&lt;/strong&gt;&lt;/p&gt;\n
 &lt;p style=&quot;text-align: justify\;&quot;&gt;&lt;img src=&quot;http://site.ieee.org/montreal-y
 p/files/2020/09/Photo-Contest-1-scaled-2.jpg&quot; width=&quot;422&quot; height=&quot;596&quot; /&gt;&lt;
 /p&gt;\n&lt;p&gt;&lt;strong&gt;&lt;span style=&quot;color: #3366ff\;&quot;&gt;Awards:&lt;/span&gt; &lt;br /&gt;&lt;/stro
 ng&gt;&lt;/p&gt;\n&lt;table&gt;\n&lt;tbody&gt;\n&lt;tr&gt;\n&lt;td width=&quot;312&quot;&gt;&amp;nbsp\;&lt;strong&gt;1&lt;sup&gt;st&lt;/
 sup&gt; place: 80$CAD&lt;/strong&gt;&lt;/td&gt;\n&lt;td width=&quot;312&quot;&gt;&amp;nbsp\;&lt;/td&gt;\n&lt;/tr&gt;\n&lt;tr
 &gt;\n&lt;td width=&quot;312&quot;&gt;&amp;nbsp\;&lt;strong&gt;2&lt;sup&gt;nd&lt;/sup&gt; place: 60$CAD&lt;/strong&gt;&lt;/t
 d&gt;\n&lt;td width=&quot;312&quot;&gt;&amp;nbsp\;&lt;/td&gt;\n&lt;/tr&gt;\n&lt;tr&gt;\n&lt;td width=&quot;312&quot;&gt;&amp;nbsp\;&lt;str
 ong&gt;3&lt;sup&gt;rd&lt;/sup&gt; place: 40$CAD&lt;/strong&gt;&lt;/td&gt;\n&lt;td width=&quot;312&quot;&gt;&amp;nbsp\;&lt;/t
 d&gt;\n&lt;/tr&gt;\n&lt;tr&gt;\n&lt;td width=&quot;312&quot;&gt;&amp;nbsp\;&lt;/td&gt;\n&lt;td width=&quot;312&quot;&gt;&amp;nbsp\;&lt;/td
 &gt;\n&lt;/tr&gt;\n&lt;tr&gt;\n&lt;td width=&quot;312&quot;&gt;&amp;nbsp\;&lt;/td&gt;\n&lt;td width=&quot;312&quot;&gt;&amp;nbsp\;&lt;/td&gt;
 \n&lt;/tr&gt;\n&lt;tr&gt;\n&lt;td width=&quot;312&quot;&gt;&amp;nbsp\;&lt;/td&gt;\n&lt;td width=&quot;312&quot;&gt;&amp;nbsp\;&lt;/td&gt;\
 n&lt;/tr&gt;\n&lt;/tbody&gt;\n&lt;/table&gt;\n&lt;p&gt;&lt;strong&gt;&amp;nbsp\;&lt;/strong&gt;&lt;/p&gt;\n&lt;p&gt;Participat
 ing Groups:&lt;strong&gt; IEEE YP Montreal\, IEEE WIE Montreal\, IEEE SIGHT Mont
 real&lt;/strong&gt;&lt;/p&gt;\n&lt;p&gt;Participating IEEE Student Branches: &lt;strong&gt;Polytec
 hnique Montreal\, INRS\,&lt;/strong&gt; &lt;strong&gt;&amp;Eacute\;TS&lt;/strong&gt;&lt;/p&gt;\n&lt;p&gt;&lt;st
 rong&gt;&amp;nbsp\;&lt;/strong&gt;&lt;/p&gt;&lt;br /&gt;&lt;br /&gt;Agenda: &lt;br /&gt;&lt;p&gt;&lt;strong&gt;11:00 -- 11:
 25 &amp;nbsp\; &lt;/strong&gt;Opening remarks - Introduction to IEEE Montreal sectio
 n: Dr. Saida Maaroufi&lt;/p&gt;\n&lt;p&gt;&lt;strong&gt;11:25 -- 11:30 &amp;nbsp\; &lt;/strong&gt;Vide
 o clip featuring IEEE Montreal section activities along with different gro
 ups (5-10 minutes)&lt;/p&gt;\n&lt;p&gt;&lt;strong&gt;11:30 --: &lt;/strong&gt;A quick instructions
  to voters about the contest&lt;/p&gt;\n&lt;p&gt;&lt;strong&gt;11:30 -- 11:55 &amp;nbsp\; &lt;/stro
 ng&gt;Invited speaker: Dr. Amy Pinchuk&lt;/p&gt;\n&lt;p&gt;&lt;strong&gt;11:55&amp;nbsp\; &lt;/strong&gt;
 Q&amp;amp\;A with Dr. Amy Pinchuk - A music track with photos will be played a
 s an alternative if there are no Qs.&lt;/p&gt;\n&lt;p&gt;&lt;strong&gt;11:55 -- 12:00 &amp;nbsp\
 ;&amp;nbsp\;&lt;/strong&gt;Break: A funny video clip with a piece of music featuring
  involving groups in the event: best shots and best moments of AGs and SBs
  activities&lt;/p&gt;\n&lt;p&gt;&lt;strong&gt;12:00 -- 12:25&amp;nbsp\; &lt;/strong&gt;Invited Speaker
 : Dr. Syed Hassan Ahmed\, &quot;Towards Named Data Networking in Connected Citi
 es&amp;rdquo\;&lt;/p&gt;\n&lt;p&gt;&lt;strong&gt;12:25 -- 12:50&amp;nbsp\; &lt;/strong&gt;Invited Speaker:
  Dr. Takfarinas Saber&lt;/p&gt;\n&lt;p&gt;&lt;strong&gt;12:50 -- 01:00:&amp;nbsp\; &lt;/strong&gt;Q&amp;am
 p\;A with Dr. Syed Hassan Ahmed and Dr. Takfarinas Saber&lt;strong&gt;&lt;br /&gt;&lt;/st
 rong&gt;&lt;/p&gt;\n&lt;p&gt;&lt;strong&gt;01:00 --:&amp;nbsp\;&amp;nbsp\;&amp;nbsp\;&amp;nbsp\;&amp;nbsp\;&amp;nbsp\;&amp;
 nbsp\;&amp;nbsp\;&amp;nbsp\;&amp;nbsp\; &lt;/strong&gt;A quick call to make final votes&lt;/p&gt;\
 n&lt;p&gt;&lt;strong&gt;01:00 -- 01:30 &amp;nbsp\; &lt;/strong&gt;Invited Speaker: Prof. Fabric 
 Labeau&lt;/p&gt;\n&lt;p&gt;&lt;strong&gt;01:30 -- 01:35&amp;nbsp\; &lt;/strong&gt;Q&amp;amp\;A with Prof. 
 Labeau&lt;/p&gt;\n&lt;p&gt;&lt;strong&gt;01:35 -- 01:40 &amp;nbsp\; &lt;/strong&gt;Student Branch Pres
 entation (Poly)&lt;/p&gt;\n&lt;p&gt;&lt;strong&gt;01:40 -- 01:45 &amp;nbsp\; &lt;/strong&gt;Student Br
 anch Presentation (ETS)&lt;strong&gt;&lt;br /&gt;&lt;/strong&gt;&lt;/p&gt;\n&lt;p&gt;&lt;strong&gt;01:45 -- 01
 :50 &amp;nbsp\; &lt;/strong&gt;Student Branch Presentation (INRS)&lt;/p&gt;\n&lt;p&gt;&lt;strong&gt;01
 :50 --: &amp;nbsp\;&amp;nbsp\;&amp;nbsp\;&amp;nbsp\;&amp;nbsp\;&amp;nbsp\;&amp;nbsp\; &lt;/strong&gt;Closing
  video&lt;strong&gt;&lt;br /&gt;&lt;/strong&gt;&lt;/p&gt;
END:VEVENT
END:VCALENDAR

