BEGIN:VCALENDAR
VERSION:2.0
PRODID:IEEE vTools.Events//EN
CALSCALE:GREGORIAN
BEGIN:VTIMEZONE
TZID:US/Eastern
BEGIN:DAYLIGHT
DTSTART:20200308T030000
TZOFFSETFROM:-0500
TZOFFSETTO:-0400
RRULE:FREQ=YEARLY;BYDAY=2SU;BYMONTH=3
TZNAME:EDT
END:DAYLIGHT
BEGIN:STANDARD
DTSTART:20201101T010000
TZOFFSETFROM:-0400
TZOFFSETTO:-0500
RRULE:FREQ=YEARLY;BYDAY=1SU;BYMONTH=11
TZNAME:EST
END:STANDARD
END:VTIMEZONE
BEGIN:VEVENT
DTSTAMP:20200902T184312Z
UID:CC264853-57A6-4F94-9D46-9F6D1C24351D
DTSTART;TZID=US/Eastern:20200902T090000
DTEND;TZID=US/Eastern:20200902T110000
DESCRIPTION:The talk will be related to discussion on AP-S activities for S
 TEM Education and Coping with Race/Gender Inequality\n\nVirtual Meeting: P
 articipants can join from anywhere.\n\nTime: Sep 2\, 2020 09:00 AM Eastern
  Time (US and Canada)\n\nJoin Zoom Meeting\n\nhttps://us02web.zoom.us/j/85
 012749011\n\nMeeting ID: 850 1274 9011\n\nOne tap mobile\n\n+13126266799\,
 \,85012749011# US (Chicago)\n\n+16465588656\,\,85012749011# US (New York)\
 n\nDial by your location\n\n+1 312 626 6799 US (Chicago)\n\n+1 646 558 865
 6 US (New York)\n\n+1 301 715 8592 US (Germantown)\n\n+1 346 248 7799 US (
 Houston)\n\n+1 669 900 9128 US (San Jose)\n\n+1 253 215 8782 US (Tacoma)\n
 \nFind your local number: https://us02web.zoom.us/u/k8H5iJYR2\n\nSpeaker(s
 ): Prof. Weng Cho Chew\, \n\nAgenda: \nVirtual Meeting: Participants can j
 oin from anywhere.\n\nTime: Sep 2\, 2020 09:00 AM Eastern Time (US and Can
 ada)\n\nJoin Zoom Meeting\n\nhttps://us02web.zoom.us/j/85012749011\n\nMeet
 ing ID: 850 1274 9011\n\nOne tap mobile\n\n+13126266799\,\,85012749011# US
  (Chicago)\n\n+16465588656\,\,85012749011# US (New York)\n\nDial by your l
 ocation\n\n+1 312 626 6799 US (Chicago)\n\n+1 646 558 8656 US (New York)\n
 \n+1 301 715 8592 US (Germantown)\n\n+1 346 248 7799 US (Houston)\n\n+1 66
 9 900 9128 US (San Jose)\n\n+1 253 215 8782 US (Tacoma)\n\nFind your local
  number: https://us02web.zoom.us/u/k8H5iJYR2\n\nBldg: Remote-Anywhere\, No
 rth Jersey\, New Jersey\, United States
LOCATION:Bldg: Remote-Anywhere\, North Jersey\, New Jersey\, United States
ORGANIZER:akpoddar@ieee.org
SEQUENCE:6
SUMMARY:IEEE AP-S Activities: STEM Education\, Coping with Problem with Eeq
 uality 
URL;VALUE=URI:https://events.vtools.ieee.org/m/239121
X-ALT-DESC:Description: &lt;br /&gt;&lt;p&gt;&lt;span style=&quot;display: inline !important\; 
 float: none\; background-color: #ffffff\; color: #000000\; cursor: text\; 
 font-family: Verdana\,Arial\,Helvetica\,sans-serif\; font-size: 14px\; fon
 t-style: normal\; font-variant: normal\; font-weight: 400\; letter-spacing
 : normal\; orphans: 2\; text-align: left\; text-decoration: none\; text-in
 dent: 0px\; text-transform: none\; -webkit-text-stroke-width: 0px\; white-
 space: normal\; word-spacing: 0px\;&quot;&gt;The talk will be related to discussio
 n on AP-S activities for STEM Education and Coping with Race/Gender Inequa
 lity &lt;/span&gt;&lt;/p&gt;\n&lt;p&gt;&amp;nbsp\;Virtual Meeting: Participants can join from an
 ywhere.&lt;/p&gt;\n&lt;p style=&quot;color: #000000\; font-family: Verdana\,Arial\,Helve
 tica\,sans-serif\; font-size: 14px\; font-style: normal\; font-variant: no
 rmal\; font-weight: 400\; letter-spacing: normal\; orphans: 2\; text-align
 : left\; text-decoration: none\; text-indent: 0px\; text-transform: none\;
  -webkit-text-stroke-width: 0px\; white-space: normal\; word-spacing: 0px\
 ;&quot;&gt;&amp;nbsp\;&lt;/p&gt;\n&lt;p class=&quot;yiv1627514418ydp11c51991MsoNormal&quot;&gt;Time: Sep 2\,
  2020 09:00 AM Eastern Time (US and Canada)&lt;/p&gt;\n&lt;p class=&quot;yiv1627514418yd
 p11c51991MsoNormal&quot;&gt;&amp;nbsp\;&lt;strong&gt;Join Zoom Meeting&lt;/strong&gt;&lt;/p&gt;\n&lt;p clas
 s=&quot;yiv1627514418ydp11c51991MsoNormal&quot;&gt;https://us02web.zoom.us/j/8501274901
 1&lt;/p&gt;\n&lt;p class=&quot;yiv1627514418ydp11c51991MsoNormal&quot;&gt;&amp;nbsp\;Meeting ID: 850
  1274 9011&lt;/p&gt;\n&lt;p class=&quot;yiv1627514418ydp11c51991MsoNormal&quot;&gt;&amp;nbsp\;&amp;nbsp\
 ;&lt;/p&gt;\n&lt;p class=&quot;yiv1627514418ydp11c51991MsoNormal&quot;&gt;&lt;strong&gt;One tap mobile
 &lt;/strong&gt;&lt;/p&gt;\n&lt;p class=&quot;yiv1627514418ydp11c51991MsoNormal&quot;&gt;+13126266799\,
 \,85012749011# US (Chicago)&lt;/p&gt;\n&lt;p class=&quot;yiv1627514418ydp11c51991MsoNorm
 al&quot;&gt;+16465588656\,\,85012749011# US (New York)&lt;/p&gt;\n&lt;p class=&quot;yiv162751441
 8ydp11c51991MsoNormal&quot;&gt;&lt;strong&gt;&amp;nbsp\;Dial by your location&lt;/strong&gt;&lt;/p&gt;\n
 &lt;p class=&quot;yiv1627514418ydp11c51991MsoNormal&quot;&gt;&amp;nbsp\; &amp;nbsp\; &amp;nbsp\; &amp;nbsp
 \; +1 312 626 6799 US (Chicago)&lt;/p&gt;\n&lt;p class=&quot;yiv1627514418ydp11c51991Mso
 Normal&quot;&gt;&amp;nbsp\; &amp;nbsp\; &amp;nbsp\; &amp;nbsp\; +1 646 558 8656 US (New York)&lt;/p&gt;\
 n&lt;p class=&quot;yiv1627514418ydp11c51991MsoNormal&quot;&gt;&amp;nbsp\; &amp;nbsp\; &amp;nbsp\; &amp;nbs
 p\; +1 301 715 8592 US (Germantown)&lt;/p&gt;\n&lt;p class=&quot;yiv1627514418ydp11c5199
 1MsoNormal&quot;&gt;&amp;nbsp\; &amp;nbsp\; &amp;nbsp\; &amp;nbsp\; +1 346 248 7799 US (Houston)&lt;/
 p&gt;\n&lt;p class=&quot;yiv1627514418ydp11c51991MsoNormal&quot;&gt;&amp;nbsp\; &amp;nbsp\; &amp;nbsp\; &amp;
 nbsp\; +1 669 900 9128 US (San Jose)&lt;/p&gt;\n&lt;p class=&quot;yiv1627514418ydp11c519
 91MsoNormal&quot;&gt;&amp;nbsp\; &amp;nbsp\; &amp;nbsp\; &amp;nbsp\; +1 253 215 8782 US (Tacoma)&lt;/
 p&gt;\n&lt;p class=&quot;yiv1627514418ydp11c51991MsoNormal&quot;&gt;&lt;strong&gt;Find your local n
 umber&lt;/strong&gt;: https://us02web.zoom.us/u/k8H5iJYR2&lt;/p&gt;&lt;br /&gt;&lt;br /&gt;Agenda:
  &lt;br /&gt;&lt;p style=&quot;color: #000000\; font-family: Verdana\,Arial\,Helvetica\,
 sans-serif\; font-size: 14px\; font-style: normal\; font-variant: normal\;
  font-weight: 400\; letter-spacing: normal\; orphans: 2\; text-align: left
 \; text-decoration: none\; text-indent: 0px\; text-transform: none\; -webk
 it-text-stroke-width: 0px\; white-space: normal\; word-spacing: 0px\;&quot;&gt;Vir
 tual Meeting: Participants can join from anywhere.&lt;/p&gt;\n&lt;p&gt;&amp;nbsp\;&lt;/p&gt;\n&lt;p
  class=&quot;yiv1627514418ydp11c51991MsoNormal&quot;&gt;Time: Sep 2\, 2020 09:00 AM Eas
 tern Time (US and Canada)&lt;/p&gt;\n&lt;p class=&quot;yiv1627514418ydp11c51991MsoNormal
 &quot;&gt;&amp;nbsp\;&lt;strong&gt;Join Zoom Meeting&lt;/strong&gt;&lt;/p&gt;\n&lt;p class=&quot;yiv1627514418yd
 p11c51991MsoNormal&quot;&gt;https://us02web.zoom.us/j/85012749011&lt;/p&gt;\n&lt;p class=&quot;y
 iv1627514418ydp11c51991MsoNormal&quot;&gt;&amp;nbsp\;Meeting ID: 850 1274 9011&lt;/p&gt;\n&lt;p
  class=&quot;yiv1627514418ydp11c51991MsoNormal&quot;&gt;&amp;nbsp\;&amp;nbsp\;&lt;/p&gt;\n&lt;p class=&quot;y
 iv1627514418ydp11c51991MsoNormal&quot;&gt;&lt;strong&gt;One tap mobile&lt;/strong&gt;&lt;/p&gt;\n&lt;p 
 class=&quot;yiv1627514418ydp11c51991MsoNormal&quot;&gt;+13126266799\,\,85012749011# US 
 (Chicago)&lt;/p&gt;\n&lt;p class=&quot;yiv1627514418ydp11c51991MsoNormal&quot;&gt;+16465588656\,
 \,85012749011# US (New York)&lt;/p&gt;\n&lt;p class=&quot;yiv1627514418ydp11c51991MsoNor
 mal&quot;&gt;&lt;strong&gt;&amp;nbsp\;Dial by your location&lt;/strong&gt;&lt;/p&gt;\n&lt;p class=&quot;yiv16275
 14418ydp11c51991MsoNormal&quot;&gt;&amp;nbsp\; &amp;nbsp\; &amp;nbsp\; &amp;nbsp\; +1 312 626 6799
  US (Chicago)&lt;/p&gt;\n&lt;p class=&quot;yiv1627514418ydp11c51991MsoNormal&quot;&gt;&amp;nbsp\; &amp;n
 bsp\; &amp;nbsp\; &amp;nbsp\; +1 646 558 8656 US (New York)&lt;/p&gt;\n&lt;p class=&quot;yiv1627
 514418ydp11c51991MsoNormal&quot;&gt;&amp;nbsp\; &amp;nbsp\; &amp;nbsp\; &amp;nbsp\; +1 301 715 859
 2 US (Germantown)&lt;/p&gt;\n&lt;p class=&quot;yiv1627514418ydp11c51991MsoNormal&quot;&gt;&amp;nbsp\
 ; &amp;nbsp\; &amp;nbsp\; &amp;nbsp\; +1 346 248 7799 US (Houston)&lt;/p&gt;\n&lt;p class=&quot;yiv1
 627514418ydp11c51991MsoNormal&quot;&gt;&amp;nbsp\; &amp;nbsp\; &amp;nbsp\; &amp;nbsp\; +1 669 900 
 9128 US (San Jose)&lt;/p&gt;\n&lt;p class=&quot;yiv1627514418ydp11c51991MsoNormal&quot;&gt;&amp;nbsp
 \; &amp;nbsp\; &amp;nbsp\; &amp;nbsp\; +1 253 215 8782 US (Tacoma)&lt;/p&gt;\n&lt;p class=&quot;yiv1
 627514418ydp11c51991MsoNormal&quot;&gt;&lt;strong&gt;Find your local number&lt;/strong&gt;: ht
 tps://us02web.zoom.us/u/k8H5iJYR2&lt;/p&gt;
END:VEVENT
END:VCALENDAR

