BEGIN:VCALENDAR
VERSION:2.0
PRODID:IEEE vTools.Events//EN
CALSCALE:GREGORIAN
BEGIN:VTIMEZONE
TZID:US/Pacific
BEGIN:DAYLIGHT
DTSTART:20200308T030000
TZOFFSETFROM:-0800
TZOFFSETTO:-0700
RRULE:FREQ=YEARLY;BYDAY=2SU;BYMONTH=3
TZNAME:PDT
END:DAYLIGHT
BEGIN:STANDARD
DTSTART:20201101T010000
TZOFFSETFROM:-0700
TZOFFSETTO:-0800
RRULE:FREQ=YEARLY;BYDAY=1SU;BYMONTH=11
TZNAME:PST
END:STANDARD
END:VTIMEZONE
BEGIN:VEVENT
DTSTAMP:20200917T224100Z
UID:F333D653-62FD-404B-8D64-214EB143AD4D
DTSTART;TZID=US/Pacific:20200914T180000
DTEND;TZID=US/Pacific:20200914T193000
DESCRIPTION:Monday\, September 14\, 2020\n\nWith all the news on cyber secu
 rity attacks\, ransomware\, data breaches\, etc\, how do we simplify all t
 hat &quot;FUD&quot; (Fear\, Uncertainty and Doubt = scare tactics) into what really 
 matters\, and what&#39;s a reasonable security posture to aim for... and who s
 ays so?\nAt our meeting next Monday\, our speaker will provide his perspec
 tives on all that\, references\, etc. - plus offer helpful resources in a 
 variety of cyber risk areas. In the meantime\, you can get a head start on
  the topic reviewing the two articles below.\n\nCyber risk\, what really m
 atters?\n\nCyber Security Risk\, what does a “reasonable” posture enta
 il\, and who says so?\n\nBio:\n\nMike Davis is the Chief Information Secur
 ity Officer (CISO) in alliantgroup’s Houston national office. As the CIS
 O he operationalizes Data Security\, Privacy Compliance\, &amp; Risk Managemen
 t while advising leadership on protecting critical information resources a
 nd managing an enterprise cyber security portfolio. Mike and his security 
 team’s mission includes executing a risk based security strategy that su
 pports enabling the company’s success objectives by securing and protect
 ing both sensitive company and client information and resources.\n\nBefore
  joining alliantgroup\, Mike was the CISO of a large global maritime class
 ification company. He is an experienced cyber security professional with 2
 5+ years in several environments (commercial\, military and government) an
 d diverse leadership positions: CISO\, Senior Cyber Technical Authority\, 
 Cyber Security / Risk management consultant\, Cyber Program Manager\, Chie
 f Systems Engineer\, among others (Nuclear power plant manager for example
 ). Mike is also a retired U.S. Navy Engineering Duty Officer and Federal G
 overnment employee (GS-15).\n\nMike supports several professional associat
 ions: the FBI InfraGard\, IEEE (Life Member)\, and ISSA/ISC2\, among sever
 al others. His certifications are: CISSP\, CISO\, and Systems Engineering\
 , along with senior qualifications in Program Management and Risk Manageme
 nt\, and holds a MS in Electrical Engineering and a MA in Management.\n\nS
 peaker(s): Mike Davis\, \n\nAgenda: \nConnection Information:\n\nThis meet
 ing will be held online.\n\nIEEE/CN of San Diego - “What really matters 
 in Cyber Security nowadays?” Sept 2020\nMon\, Sep 14\, 2020 6:00 PM - 7:
 30 PM (PDT)\n\nPlease join our meeting from your computer\, tablet or smar
 tphone.\nhttps://global.gotomeeting.com/join/743103925\n\nYou can also dia
 l in using your phone.\nUnited States: +1 (312) 757-3121\n\nAccess Code: 7
 43-103-925\n\nNew to GoToMeeting? Get the app now and be ready when your f
 irst meeting starts: https://global.gotomeeting.com/install/743103925\n\nS
 an Diego IEEE Consultants&#39; Network Meeting Date and Time:\nSeptember 14\, 
 2020 (Monday)\n6:00 - 7:00 pm – Presentation\n7:00 – 7:30 pm – Intro
 ductions and Announcements\n\nPlease see the AGENDA item below &quot;How To Att
 end this Meeting&quot; for information\, on how to join this meeting.\, (Virtua
 l Meeting) San Diego\, California\, United States\, Virtual: https://event
 s.vtools.ieee.org/m/239690
LOCATION:Please see the AGENDA item below &quot;How To Attend this Meeting&quot; for 
 information\, on how to join this meeting.\, (Virtual Meeting) San Diego\,
  California\, United States\, Virtual: https://events.vtools.ieee.org/m/23
 9690
ORGANIZER:jp@capistranocomputers.com
SEQUENCE:3
SUMMARY:Consultants Network of San Diego: “What really matters in cyber S
 ecurity nowadays?” - Mike Davis
URL;VALUE=URI:https://events.vtools.ieee.org/m/239690
X-ALT-DESC:Description: &lt;br /&gt;&lt;p&gt;&lt;strong&gt;Monday\, September 14&lt;/strong&gt;\,&lt;s
 trong&gt; 2020&lt;br /&gt; &lt;br /&gt; &lt;/strong&gt;&lt;/p&gt;\n&lt;p&gt;With all the news on cyber secu
 rity attacks\, ransomware\, data breaches\, etc\, how do we simplify all t
 hat &quot;FUD&quot; (Fear\, Uncertainty and Doubt = scare tactics) into what really 
 matters\, and what&#39;s a reasonable security posture to aim for... and who s
 ays so?&lt;br /&gt;At our meeting next Monday\, our speaker will provide his per
 spectives on all that\, references\, etc. - plus offer helpful resources i
 n a variety of cyber risk areas. In the meantime\, you can get a head star
 t on the topic reviewing the two articles below.&lt;/p&gt;\n&lt;p&gt;Cyber risk\, what
  really matters?&lt;/p&gt;\n&lt;p&gt;Cyber Security Risk\, what does a &amp;ldquo\;reasona
 ble&amp;rdquo\; posture entail\, and who says so?&lt;/p&gt;\n&lt;p&gt;&lt;br /&gt;&lt;strong&gt;Bio:&lt;/
 strong&gt;&lt;/p&gt;\n&lt;p&gt;Mike Davis is the Chief Information Security Officer (CISO
 ) in alliantgroup&amp;rsquo\;s Houston national office. As the CISO he operati
 onalizes Data Security\, Privacy Compliance\, &amp;amp\; Risk Management while
  advising leadership on protecting critical information resources and mana
 ging an enterprise cyber security portfolio. Mike and his security team&amp;rs
 quo\;s mission includes executing a risk based security strategy that supp
 orts enabling the company&amp;rsquo\;s success objectives by securing and prot
 ecting both sensitive company and client information and resources.&lt;/p&gt;\n&lt;
 p&gt;Before joining alliantgroup\, Mike was the CISO of a large global mariti
 me classification company. He is an experienced cyber security professiona
 l with 25+ years in several environments (commercial\, military and govern
 ment) and diverse leadership positions: CISO\, Senior Cyber Technical Auth
 ority\, Cyber Security / Risk management consultant\, Cyber Program Manage
 r\, Chief Systems Engineer\, among others (Nuclear power plant manager for
  example). Mike is also a retired U.S. Navy Engineering Duty Officer and F
 ederal Government employee (GS-15).&lt;/p&gt;\n&lt;p&gt;Mike supports several professi
 onal associations: the FBI InfraGard\, IEEE (Life Member)\, and ISSA/ISC2\
 , among several others. His certifications are: CISSP\, CISO\, and Systems
  Engineering\, along with senior qualifications in Program Management and 
 Risk Management\, and holds a MS in Electrical Engineering and a MA in Man
 agement.&lt;/p&gt;\n&lt;p&gt;&amp;nbsp\;&lt;/p&gt;\n&lt;p&gt;&amp;nbsp\;&lt;/p&gt;&lt;br /&gt;&lt;br /&gt;Agenda: &lt;br /&gt;&lt;p&gt;&lt;
 strong&gt;Connection Information:&lt;/strong&gt;&lt;/p&gt;\n&lt;p&gt;&lt;strong&gt;This meeting will 
 be held online.&amp;nbsp\; &lt;br /&gt;&lt;/strong&gt;&lt;/p&gt;\n&lt;p&gt;&lt;span class=&quot;yiv3022611717y
 dpd5175835yiv6202928968ydpdefe31e6inv-subject&quot;&gt;IEEE/CN of San Diego - &amp;ldq
 uo\;What really matters in Cyber Security nowadays?&amp;rdquo\; Sept 2020&lt;/spa
 n&gt; &lt;br clear=&quot;none&quot; /&gt; &lt;span class=&quot;yiv3022611717ydpd5175835yiv6202928968y
 dpdefe31e6inv-date&quot;&gt;Mon\, Sep 14\, 2020 6:00 PM - 7:30 PM (PDT)&lt;/span&gt; &lt;br
  clear=&quot;none&quot; /&gt; &lt;br clear=&quot;none&quot; /&gt; &lt;strong&gt; Please join our meeting from
  your computer\, tablet or smartphone. &lt;/strong&gt; &lt;br clear=&quot;none&quot; /&gt; &lt;span
  class=&quot;yiv3022611717ydpd5175835yiv6202928968ydpdefe31e6inv-meeting-url&quot;&gt; 
 &lt;a href=&quot;https://global.gotomeeting.com/join/743103925&quot; target=&quot;_blank&quot; re
 l=&quot;nofollow noopener&quot; shape=&quot;rect&quot;&gt;https://global.gotomeeting.com/join/743
 103925&lt;/a&gt; &lt;/span&gt; &lt;br clear=&quot;none&quot; /&gt; &lt;br clear=&quot;none&quot; /&gt; &lt;strong&gt;You can
  also dial in using your phone.&lt;/strong&gt; &lt;br clear=&quot;none&quot; /&gt; United States
 : +1 (312) 757-3121 &lt;br clear=&quot;none&quot; /&gt; &lt;br clear=&quot;none&quot; /&gt; &lt;strong&gt;Access
  Code:&lt;/strong&gt; 743-103-925 &lt;br clear=&quot;none&quot; /&gt; &lt;br clear=&quot;none&quot; /&gt; &lt;br cl
 ear=&quot;none&quot; /&gt; New to GoToMeeting? Get the app now and be ready when your f
 irst meeting starts: &lt;a href=&quot;https://global.gotomeeting.com/install/74310
 3925&quot; target=&quot;_blank&quot; rel=&quot;nofollow noopener&quot; shape=&quot;rect&quot;&gt;https://global.
 gotomeeting.com/install/743103925&lt;/a&gt;&lt;/p&gt;\n&lt;p&gt;&lt;strong&gt;&amp;nbsp\;&lt;/strong&gt;&lt;/p&gt;
 \n&lt;p&gt;&lt;strong&gt;San Diego IEEE Consultants&#39; Network Meeting Date and Time: &lt;/
 strong&gt;&lt;br /&gt; September 14\, 2020 (Monday)&lt;br /&gt; 6:00 - 7:00 pm &amp;ndash\; P
 resentation&lt;br /&gt; 7:00 &amp;ndash\; 7:30 pm &amp;ndash\; Introductions and Announc
 ements&lt;/p&gt;\n&lt;p&gt;&lt;strong&gt;&lt;span style=&quot;font-size: 18pt\;&quot;&gt;&amp;nbsp\;&amp;nbsp\;&amp;nbsp
 \;&amp;nbsp\;&amp;nbsp\;&amp;nbsp\;&amp;nbsp\;&amp;nbsp\;&amp;nbsp\;&amp;nbsp\;&lt;/span&gt; &lt;br /&gt;&lt;/strong&gt;
 &lt;/p&gt;\n&lt;div dir=&quot;ltr&quot;&gt;&amp;nbsp\;&lt;/div&gt;\n&lt;div dir=&quot;ltr&quot;&gt;&amp;nbsp\;&lt;/div&gt;\n&lt;p&gt;&amp;nbsp
 \;&lt;/p&gt;
END:VEVENT
END:VCALENDAR

