BEGIN:VCALENDAR
VERSION:2.0
PRODID:IEEE vTools.Events//EN
CALSCALE:GREGORIAN
BEGIN:VTIMEZONE
TZID:Canada/Eastern
BEGIN:DAYLIGHT
DTSTART:20210314T030000
TZOFFSETFROM:-0500
TZOFFSETTO:-0400
RRULE:FREQ=YEARLY;BYDAY=2SU;BYMONTH=3
TZNAME:EDT
END:DAYLIGHT
BEGIN:STANDARD
DTSTART:20201101T010000
TZOFFSETFROM:-0400
TZOFFSETTO:-0500
RRULE:FREQ=YEARLY;BYDAY=1SU;BYMONTH=11
TZNAME:EST
END:STANDARD
END:VTIMEZONE
BEGIN:VEVENT
DTSTAMP:20210206T193108Z
UID:6236048E-9A68-4292-984B-C356E41D5EF5
DTSTART;TZID=Canada/Eastern:20210204T180000
DTEND;TZID=Canada/Eastern:20210204T200000
DESCRIPTION:Meeting to discuss items related to the Toronto Section Executi
 ve Committee.\n\nAgenda: \nAgenda will be sent out shortly before the meet
 ing.\n\nZoom\, Toronto\, Ontario\, Canada\, Virtual: https://events.vtools
 .ieee.org/m/239704
LOCATION:Zoom\, Toronto\, Ontario\, Canada\, Virtual: https://events.vtools
 .ieee.org/m/239704
ORGANIZER:dustin.dunwell@ieee.org
SEQUENCE:2
SUMMARY:IEEE Toronto Section Excom Meeting
URL;VALUE=URI:https://events.vtools.ieee.org/m/239704
X-ALT-DESC:Description: &lt;br /&gt;&lt;p&gt;Meeting to discuss items related to the To
 ronto Section Executive Committee.&lt;/p&gt;&lt;br /&gt;&lt;br /&gt;Agenda: &lt;br /&gt;&lt;p&gt;Agenda 
 will be sent out shortly before the meeting.&lt;/p&gt;
END:VEVENT
END:VCALENDAR

