BEGIN:VCALENDAR
VERSION:2.0
PRODID:IEEE vTools.Events//EN
CALSCALE:GREGORIAN
BEGIN:VTIMEZONE
TZID:America/Lima
BEGIN:DAYLIGHT
DTSTART:20380118T221407
TZOFFSETFROM:-0500
TZOFFSETTO:-0500
RRULE:FREQ=YEARLY;BYDAY=3MO;BYMONTH=1
TZNAME:-05
END:DAYLIGHT
BEGIN:STANDARD
DTSTART:19940331T230000
TZOFFSETFROM:-0400
TZOFFSETTO:-0500
RRULE:FREQ=YEARLY;BYDAY=-1TH;BYMONTH=3
TZNAME:-05
END:STANDARD
END:VTIMEZONE
BEGIN:VEVENT
DTSTAMP:20200926T205120Z
UID:A77DEF92-4C66-4D9B-9305-3354B6EFEA5C
DTSTART;TZID=America/Lima:20200925T104000
DTEND;TZID=America/Lima:20200925T114000
DESCRIPTION:Model for failure analysis for overhead lines with distributed\
 nparameters associated to atmospheric discharges\n\nCo-sponsored by: UNSA 
 - Webex meeting clic here: https://meet.google.com/the-pdms-wja   \n\nSpea
 ker(s): Ricardo Arias\, \n\nAgenda: \nViernes 25 de septiembre de 2020 10:
 40h @ 11:40h.\n\nBldg:  https://meet.google.com/the-pdms-wja \,  Virtual m
 eeting\, Boston\, Massachusetts\, United States\, Virtual: https://events.
 vtools.ieee.org/m/240052
LOCATION:Bldg:  https://meet.google.com/the-pdms-wja \,  Virtual meeting\, 
 Boston\, Massachusetts\, United States\, Virtual: https://events.vtools.ie
 ee.org/m/240052
ORGANIZER:epiel.egresados@unsa.edu.pe
SEQUENCE:6
SUMMARY:Model for failure analysis for overhead lines with distributed para
 meters associated to atmospheric discharges
URL;VALUE=URI:https://events.vtools.ieee.org/m/240052
X-ALT-DESC:Description: &lt;br /&gt;&lt;p&gt;Model for failure analysis for overhead li
 nes with distributed&lt;br /&gt;parameters associated to atmospheric discharges&lt;
 /p&gt;&lt;br /&gt;&lt;br /&gt;Agenda: &lt;br /&gt;&lt;p&gt;Viernes 25 de septiembre de 2020 10:40h @ 
 11:40h.&lt;/p&gt;
END:VEVENT
END:VCALENDAR

