BEGIN:VCALENDAR
VERSION:2.0
PRODID:IEEE vTools.Events//EN
CALSCALE:GREGORIAN
BEGIN:VTIMEZONE
TZID:US/Eastern
BEGIN:DAYLIGHT
DTSTART:20200308T030000
TZOFFSETFROM:-0500
TZOFFSETTO:-0400
RRULE:FREQ=YEARLY;BYDAY=2SU;BYMONTH=3
TZNAME:EDT
END:DAYLIGHT
BEGIN:STANDARD
DTSTART:20201101T010000
TZOFFSETFROM:-0400
TZOFFSETTO:-0500
RRULE:FREQ=YEARLY;BYDAY=1SU;BYMONTH=11
TZNAME:EST
END:STANDARD
END:VTIMEZONE
BEGIN:VEVENT
DTSTAMP:20200925T172854Z
UID:ACA7FCA6-5FC9-4FF2-AC80-5EEF0FF768D7
DTSTART;TZID=US/Eastern:20200924T190000
DTEND;TZID=US/Eastern:20200924T200000
DESCRIPTION:Lecture on the application of ML/AI for autonomous systems\n\nC
 o-sponsored by: Computer Society Chapter\n\nSpeaker(s): Dr. John Fossaceca
 \, \n\nWashington\, District of Columbia\, United States\, Virtual: https:
 //events.vtools.ieee.org/m/240182
LOCATION:Washington\, District of Columbia\, United States\, Virtual: https
 ://events.vtools.ieee.org/m/240182
ORGANIZER:joel.i.goodman@ieee.org
SEQUENCE:6
SUMMARY:Machines Learning On-The-Fly from Humans
URL;VALUE=URI:https://events.vtools.ieee.org/m/240182
X-ALT-DESC:Description: &lt;br /&gt;&lt;p&gt;Lecture on the application of ML/AI for au
 tonomous systems&lt;/p&gt;
END:VEVENT
END:VCALENDAR

