BEGIN:VCALENDAR
VERSION:2.0
PRODID:IEEE vTools.Events//EN
CALSCALE:GREGORIAN
BEGIN:VTIMEZONE
TZID:Canada/Eastern
BEGIN:DAYLIGHT
DTSTART:20200308T030000
TZOFFSETFROM:-0500
TZOFFSETTO:-0400
RRULE:FREQ=YEARLY;BYDAY=2SU;BYMONTH=3
TZNAME:EDT
END:DAYLIGHT
BEGIN:STANDARD
DTSTART:20201101T010000
TZOFFSETFROM:-0400
TZOFFSETTO:-0500
RRULE:FREQ=YEARLY;BYDAY=1SU;BYMONTH=11
TZNAME:EST
END:STANDARD
END:VTIMEZONE
BEGIN:VEVENT
DTSTAMP:20201008T120404Z
UID:A128D93B-98BF-4D2D-B9D9-C15C410A7544
DTSTART;TZID=Canada/Eastern:20201007T170000
DTEND;TZID=Canada/Eastern:20201007T183000
DESCRIPTION:IEEE Ottawa Young Professional Affinity Group presents an Anten
 na Arrays Seminar by MASc. Daniel J. King. Feel free to register and join 
 us in this exciting event. Some of the topics covered are:\n\n- A basic in
 troduction to the theory and practice of antenna arrays\;\n- Information a
 bout current research opportunities and applications\;\n- Specific example
 s in mm-Wave applications!\n\nRegister today!\n\nSpeaker(s): Daniel J. Kin
 g\, \n\nVirtual: https://events.vtools.ieee.org/m/240187
LOCATION:Virtual: https://events.vtools.ieee.org/m/240187
ORGANIZER:joaonizer@ieee.org
SEQUENCE:3
SUMMARY:IEEE Ottawa YPAG: Antenna Arrays Seminar
URL;VALUE=URI:https://events.vtools.ieee.org/m/240187
X-ALT-DESC:Description: &lt;br /&gt;&lt;p&gt;IEEE Ottawa Young Professional Affinity Gr
 oup presents an Antenna Arrays Seminar by MASc. Daniel J. King. Feel free 
 to register and join us in this exciting event. Some of the topics covered
  are:&lt;/p&gt;\n&lt;ul&gt;\n&lt;li&gt;A basic introduction to the theory and practice of an
 tenna arrays\;&lt;/li&gt;\n&lt;li&gt;Information about current research opportunities 
 and applications\;&lt;/li&gt;\n&lt;li&gt;Specific examples in mm-Wave applications!&lt;/l
 i&gt;\n&lt;/ul&gt;\n&lt;p&gt;Register today!&lt;/p&gt;
END:VEVENT
END:VCALENDAR

