BEGIN:VCALENDAR
VERSION:2.0
PRODID:IEEE vTools.Events//EN
CALSCALE:GREGORIAN
BEGIN:VTIMEZONE
TZID:America/Guayaquil
BEGIN:DAYLIGHT
DTSTART:20380118T221407
TZOFFSETFROM:-0500
TZOFFSETTO:-0500
RRULE:FREQ=YEARLY;BYDAY=3MO;BYMONTH=1
TZNAME:-05
END:DAYLIGHT
BEGIN:STANDARD
DTSTART:19930204T230000
TZOFFSETFROM:-0400
TZOFFSETTO:-0500
RRULE:FREQ=YEARLY;BYDAY=1TH;BYMONTH=2
TZNAME:-05
END:STANDARD
END:VTIMEZONE
BEGIN:VEVENT
DTSTAMP:20201012T134743Z
UID:EC199419-9A04-4D3B-B9C4-6B661C2FAFBA
DTSTART;TZID=America/Guayaquil:20201006T020000
DTEND;TZID=America/Guayaquil:20201006T150000
DESCRIPTION:Digital Transformation in Ecuador\n\nSpeaker(s): Ing. Christian
  A. Estay-Niculcar\, \n\nGuayaquil\, Guayas\, Ecuador\, Virtual: https://e
 vents.vtools.ieee.org/m/240641
LOCATION:Guayaquil\, Guayas\, Ecuador\, Virtual: https://events.vtools.ieee
 .org/m/240641
ORGANIZER:galo.valverde@ieee.org
SEQUENCE:2
SUMMARY:[WEBINAR] IEEE Day Computer Society &amp; Industry: Digital Transformat
 ion in Ecuador
URL;VALUE=URI:https://events.vtools.ieee.org/m/240641
X-ALT-DESC:Description: &lt;br /&gt;&lt;p&gt;Digital Transformation in Ecuador&lt;/p&gt;
END:VEVENT
END:VCALENDAR

