BEGIN:VCALENDAR
VERSION:2.0
PRODID:IEEE vTools.Events//EN
CALSCALE:GREGORIAN
BEGIN:VTIMEZONE
TZID:Europe/Riga
BEGIN:DAYLIGHT
DTSTART:20200329T040000
TZOFFSETFROM:+0200
TZOFFSETTO:+0300
RRULE:FREQ=YEARLY;BYDAY=-1SU;BYMONTH=3
TZNAME:EEST
END:DAYLIGHT
BEGIN:STANDARD
DTSTART:20201025T030000
TZOFFSETFROM:+0300
TZOFFSETTO:+0200
RRULE:FREQ=YEARLY;BYDAY=-1SU;BYMONTH=10
TZNAME:EET
END:STANDARD
END:VTIMEZONE
BEGIN:VEVENT
DTSTAMP:20201012T163900Z
UID:FF20F0E8-1EE2-4809-AE36-825AD38B0F55
DTSTART;TZID=Europe/Riga:20201001T120000
DTEND;TZID=Europe/Riga:20201001T144500
DESCRIPTION:Presentation of research papers in 5G mobile technology.\n\nVir
 tual session on 5G mobile technology MTTW&#39;20 workshop\n\nCo-sponsored by: 
 Riga Technical University\n\nAgenda: \n- On Secure Cognitive Radio Network
 s with NOMA: Design of Multiple-Antenna and Performance Analysis\nAnh-Tu L
 e\, Long Nguyen\, Nhu Nguyen\, Dinh-Thuan Do\, Miroslav Voznak\, Jaroslav 
 Zdralek\n- A True Power Allocation Constraint for Non-Orthogonal Multiple 
 Access with M-QAM Signalling\nFerdi Kara\, Hakan Kaya\n- Correlation Matri
 x Bordering for Optimal Massive MIMO Power Allocation Algorithms\nAleksey 
 Gvozdarev\, Tatiana Artemova\n- A Survey on Mobility Management Solutions 
 for 5G Heterogeneous Networks (HetNets)\nAhmet Nezih Kasim\, Ibraheem Shay
 ea\, Sajjad Khan\n- A Novel Deep Learning Approach to CSI Feedback Reporti
 ng for NR 5G Cellular Systems\nElisa Zimaglia\, Daniel Riviello\, Roberto 
 Garello\, Roberto Fantini\n- Interference Suppression Using Location Aware
  Beamforming in 5G Ultra-Dense Networks\nGrigoriy Fokin\n- Utilizing Turbo
  Codes for Secure 5G V2X\nCostas Chaikalis\, Dimitrios Kosmanos\, Nicholas
  Samaras\n- A Survey on Handover Management Techniques Used in 5G Heteroge
 neous Networks (HetNets)\nSafak Sonmez\, Ibraheem Shayea\, Sajjad Khan\n- 
 Electromagnetic Interference Analysis of Industrial IoT Networks: From Leg
 acy Systems to 5G\nRogerio Dionisio\,  Teodora Lolic\,  Pedro Torres\n-\n\
 nĀzenes 12\, Riga\, Latvia\, Latvia\, Virtual: https://events.vtools.ieee
 .org/m/240890
LOCATION:Āzenes 12\, Riga\, Latvia\, Latvia\, Virtual: https://events.vtoo
 ls.ieee.org/m/240890
ORGANIZER:aboltins@ieee.org
SEQUENCE:3
SUMMARY:IEEE Workshop in 5G mobile technology
URL;VALUE=URI:https://events.vtools.ieee.org/m/240890
X-ALT-DESC:Description: &lt;br /&gt;&lt;p&gt;Presentation of research papers in 5G mobi
 le technology.&lt;/p&gt;\n&lt;p&gt;&amp;nbsp\;&lt;/p&gt;\n&lt;p&gt;Virtual session on 5G mobile techno
 logy MTTW&#39;20 workshop&lt;/p&gt;&lt;br /&gt;&lt;br /&gt;Agenda: &lt;br /&gt;&lt;ul class=&quot;paper-sessio
 n&quot;&gt;\n&lt;li class=&quot;paper-clean&quot;&gt;&lt;span class=&quot;paper-title&quot;&gt;On Secure Cognitive
  Radio Networks with NOMA: Design of Multiple-Antenna and Performance Anal
 ysis&lt;/span&gt;\n&lt;div class=&quot;paper-authors&#39;&quot;&gt;&lt;span title=&quot;Industrial Universit
 y of Ho Chi Minh City\, Vietnam&quot; data-bind=&quot;tooltip&quot; data-placement=&quot;top&quot;&gt;
 Anh-Tu&amp;nbsp\;Le&lt;/span&gt;\,&amp;nbsp\;&lt;span title=&quot;Ton Duc Thang University\, Vie
 tnam&quot; data-bind=&quot;tooltip&quot; data-placement=&quot;top&quot;&gt;Long&amp;nbsp\;Nguyen&lt;/span&gt;\,&amp;
 nbsp\;&lt;span title=&quot;Saigon University\, Vietnam&quot; data-bind=&quot;tooltip&quot; data-p
 lacement=&quot;top&quot;&gt;Nhu&amp;nbsp\;Nguyen&lt;/span&gt;\,&amp;nbsp\;&lt;span title=&quot;Wireless Commu
 nications Research Group\, Ton Duc Thang University\, Vietnam&quot; data-bind=&quot;
 tooltip&quot; data-placement=&quot;top&quot;&gt;Dinh-Thuan&amp;nbsp\;Do&lt;/span&gt;\,&amp;nbsp\;&lt;span tit
 le=&quot;VSB - Technical University of Ostrava\, Czech Republic&quot; data-bind=&quot;too
 ltip&quot; data-placement=&quot;top&quot;&gt;Miroslav&amp;nbsp\;Voznak&lt;/span&gt;\,&amp;nbsp\;&lt;span titl
 e=&quot;VSB &amp;ndash\; Technical University of Ostrava\, Czech Republic&quot; data-bin
 d=&quot;tooltip&quot; data-placement=&quot;top&quot;&gt;Jaroslav&amp;nbsp\;Zdralek&lt;/span&gt;&lt;/div&gt;\n&lt;/li
 &gt;\n&lt;li class=&quot;paper-title&quot;&gt;&lt;span class=&quot;paper-title&quot;&gt;A True Power Allocati
 on Constraint for Non-Orthogonal Multiple Access with M-QAM Signalling&lt;/sp
 an&gt;\n&lt;div class=&quot;paper-authors&#39;&quot;&gt;&lt;span title=&quot;Zonguldak B&amp;uuml\;lent Ecevi
 t University\, Turkey&quot; data-bind=&quot;tooltip&quot; data-placement=&quot;top&quot;&gt;Ferdi&amp;nbsp
 \;Kara&lt;/span&gt;\,&amp;nbsp\;&lt;span title=&quot;B&amp;uuml\;lent Ecevit University\, Turkey
 &quot; data-bind=&quot;tooltip&quot; data-placement=&quot;top&quot;&gt;Hakan&amp;nbsp\;Kaya&lt;/span&gt;&lt;/div&gt;\n
 &lt;/li&gt;\n&lt;li class=&quot;paper-clean&quot;&gt;&lt;span class=&quot;paper-title&quot;&gt;Correlation Matri
 x Bordering for Optimal Massive MIMO Power Allocation Algorithms&lt;/span&gt;\n&lt;
 div class=&quot;paper-authors&#39;&quot;&gt;&lt;span title=&quot;P. G. Demidov Yaroslavl State Univ
 ersity\, Russia&quot; data-bind=&quot;tooltip&quot; data-placement=&quot;top&quot;&gt;Aleksey&amp;nbsp\;Gv
 ozdarev&lt;/span&gt;\,&amp;nbsp\;&lt;span title=&quot;P. G. Demidov Yaroslavl State Universi
 ty\, Russia&quot; data-bind=&quot;tooltip&quot; data-placement=&quot;top&quot;&gt;Tatiana&amp;nbsp\;Artemo
 va&lt;/span&gt;&lt;/div&gt;\n&lt;/li&gt;\n&lt;li class=&quot;paper-clean&quot;&gt;&lt;span class=&quot;paper-title&quot;&gt;
 A Survey on Mobility Management Solutions for 5G Heterogeneous Networks (H
 etNets)&lt;/span&gt;\n&lt;div class=&quot;paper-authors&#39;&quot;&gt;&lt;span title=&quot;Istanbul Technica
 l University\, Turkey&quot; data-bind=&quot;tooltip&quot; data-placement=&quot;top&quot;&gt;Ahmet Nezi
 h&amp;nbsp\;Kasim&lt;/span&gt;\,&amp;nbsp\;&lt;span title=&quot;Istanbul Technical University\, 
 Turkey&quot; data-bind=&quot;tooltip&quot; data-placement=&quot;top&quot;&gt;Ibraheem&amp;nbsp\;Shayea&lt;/sp
 an&gt;\,&amp;nbsp\;&lt;span title=&quot;Istanbul Technical University Istanbul (ITU)\, Tu
 rkey&quot; data-bind=&quot;tooltip&quot; data-placement=&quot;top&quot;&gt;Sajjad&amp;nbsp\;Khan&lt;/span&gt;&lt;/d
 iv&gt;\n&lt;/li&gt;\n&lt;li class=&quot;paper-clean&quot;&gt;&lt;span class=&quot;paper-title&quot;&gt;A Novel Deep
  Learning Approach to CSI Feedback Reporting for NR 5G Cellular Systems&lt;/s
 pan&gt;\n&lt;div class=&quot;paper-authors&#39;&quot;&gt;&lt;span title=&quot;Tim S.p.A.\, Italy&quot; data-bi
 nd=&quot;tooltip&quot; data-placement=&quot;top&quot;&gt;Elisa&amp;nbsp\;Zimaglia&lt;/span&gt;\,&amp;nbsp\;&lt;spa
 n title=&quot;Politecnico di Torino\, Italy&quot; data-bind=&quot;tooltip&quot; data-placement
 =&quot;top&quot;&gt;Daniel&amp;nbsp\;Riviello&lt;/span&gt;\,&amp;nbsp\;&lt;span title=&quot;Politecnico di To
 rino\, Italy&quot; data-bind=&quot;tooltip&quot; data-placement=&quot;top&quot;&gt;Roberto&amp;nbsp\;Garel
 lo&lt;/span&gt;\,&amp;nbsp\;&lt;span title=&quot;Telecom Italia SpA\, Italy&quot; data-bind=&quot;tool
 tip&quot; data-placement=&quot;top&quot;&gt;Roberto&amp;nbsp\;Fantini&lt;/span&gt;&lt;/div&gt;\n&lt;/li&gt;\n&lt;li c
 lass=&quot;paper-clean&quot;&gt;&lt;span class=&quot;paper-title&quot;&gt;Interference Suppression Usin
 g Location Aware Beamforming in 5G Ultra-Dense Networks&lt;/span&gt;\n&lt;div class
 =&quot;paper-authors&#39;&quot;&gt;&lt;span title=&quot;The Bonch-Bruevich St. Petersburg State Uni
 versity of Telecommunications\, Russia&quot; data-bind=&quot;tooltip&quot; data-placement
 =&quot;top&quot;&gt;Grigoriy&amp;nbsp\;Fokin&lt;/span&gt;&lt;/div&gt;\n&lt;/li&gt;\n&lt;li class=&quot;paper-clean&quot;&gt;&lt;
 span class=&quot;paper-title&quot;&gt;Utilizing Turbo Codes for Secure 5G V2X&lt;/span&gt;\n&lt;
 div class=&quot;paper-authors&#39;&quot;&gt;&lt;span title=&quot;University of Thessaly\, Greece&quot; d
 ata-bind=&quot;tooltip&quot; data-placement=&quot;top&quot;&gt;Costas&amp;nbsp\;Chaikalis&lt;/span&gt;\,&amp;nb
 sp\;&lt;span title=&quot;University of Thessaly\, Greece&quot; data-bind=&quot;tooltip&quot; data
 -placement=&quot;top&quot;&gt;Dimitrios&amp;nbsp\;Kosmanos&lt;/span&gt;\,&amp;nbsp\;&lt;span title=&quot;TEI 
 of Thessaly\, Greece&quot; data-bind=&quot;tooltip&quot; data-placement=&quot;top&quot;&gt;Nicholas&amp;nb
 sp\;Samaras&lt;/span&gt;&lt;/div&gt;\n&lt;/li&gt;\n&lt;li class=&quot;paper-clean&quot;&gt;&lt;span class=&quot;pape
 r-title&quot;&gt;A Survey on Handover Management Techniques Used in 5G Heterogeneo
 us Networks (HetNets)&lt;/span&gt;\n&lt;div class=&quot;paper-authors&#39;&quot;&gt;&lt;span title=&quot;Ist
 anbul Technical University\, Turkey&quot; data-bind=&quot;tooltip&quot; data-placement=&quot;t
 op&quot;&gt;Safak&amp;nbsp\;Sonmez&lt;/span&gt;\,&amp;nbsp\;&lt;span title=&quot;Istanbul Technical Univ
 ersity\, Turkey&quot; data-bind=&quot;tooltip&quot; data-placement=&quot;top&quot;&gt;Ibraheem&amp;nbsp\;S
 hayea&lt;/span&gt;\,&amp;nbsp\;&lt;span title=&quot;Istanbul Technical University Istanbul (
 ITU)\, Turkey&quot; data-bind=&quot;tooltip&quot; data-placement=&quot;top&quot;&gt;Sajjad&amp;nbsp\;Khan&lt;
 /span&gt;&lt;/div&gt;\n&lt;/li&gt;\n&lt;li&gt;&lt;span class=&quot;paper-title&quot;&gt;Electromagnetic Interfe
 rence Analysis of Industrial IoT Networks: From Legacy Systems to 5G&lt;/span
 &gt;\n&lt;div class=&quot;paper-authors&#39;&quot;&gt;&lt;span style=&quot;text-decoration: underline\;&quot; 
 title=&quot;Instituto Politecnico de Castelo Branco\, Portugal&quot; data-bind=&quot;tool
 tip&quot; data-placement=&quot;top&quot;&gt; Rogerio&amp;nbsp\;Dionisio&lt;/span&gt;\, &lt;span title=&quot;Un
 iversity of Novi Sad | Faculty of Technical Sciences\, Serbia&quot; data-bind=&quot;
 tooltip&quot; data-placement=&quot;top&quot;&gt; Teodora&amp;nbsp\;Lolic&lt;/span&gt;\, &lt;span title=&quot;I
 nstituto Politecnico de Castelo Branco\, Portugal&quot; data-bind=&quot;tooltip&quot; dat
 a-placement=&quot;top&quot;&gt; Pedro&amp;nbsp\;Torres&lt;/span&gt;&lt;/div&gt;\n&lt;/li&gt;\n&lt;li class=&quot;pape
 r-clean&quot;&gt;&lt;/li&gt;\n&lt;/ul&gt;
END:VEVENT
END:VCALENDAR

