BEGIN:VCALENDAR
VERSION:2.0
PRODID:IEEE vTools.Events//EN
CALSCALE:GREGORIAN
BEGIN:VTIMEZONE
TZID:Asia/Kolkata
BEGIN:STANDARD
DTSTART:19451014T230000
TZOFFSETFROM:+0630
TZOFFSETTO:+0530
TZNAME:IST
END:STANDARD
END:VTIMEZONE
BEGIN:VEVENT
DTSTAMP:20200929T144118Z
UID:2F981BBB-1B47-4380-992F-1F1872C18995
DTSTART;TZID=Asia/Kolkata:20200920T193000
DTEND;TZID=Asia/Kolkata:20200920T194500
DESCRIPTION:The IEEE PELS/IAS/PES Joint socities chapter lanuched the Socia
 l media Reach. Now the chapter planned to publicize and popularize the eve
 nts through Whatsapp\, Linkedin\, Facebook\, Instagram &amp; Youtube.\n\nVirtu
 al: https://events.vtools.ieee.org/m/241543
LOCATION:Virtual: https://events.vtools.ieee.org/m/241543
ORGANIZER:sandeep@nitandhra.ac.in
SEQUENCE:0
SUMMARY:Launch of the Social media Reach of the chapter 
URL;VALUE=URI:https://events.vtools.ieee.org/m/241543
X-ALT-DESC:Description: &lt;br /&gt;&lt;p&gt;The IEEE PELS/IAS/PES Joint socities chapt
 er lanuched&amp;nbsp\;the Social media Reach. Now the chapter planned to publi
 cize and popularize the events through Whatsapp\, Linkedin\, Facebook\, In
 stagram &amp;amp\; Youtube.&amp;nbsp\;&lt;/p&gt;
END:VEVENT
END:VCALENDAR

