BEGIN:VCALENDAR
VERSION:2.0
PRODID:IEEE vTools.Events//EN
CALSCALE:GREGORIAN
BEGIN:VTIMEZONE
TZID:US/Eastern
BEGIN:DAYLIGHT
DTSTART:20200308T030000
TZOFFSETFROM:-0500
TZOFFSETTO:-0400
RRULE:FREQ=YEARLY;BYDAY=2SU;BYMONTH=3
TZNAME:EDT
END:DAYLIGHT
BEGIN:STANDARD
DTSTART:20201101T010000
TZOFFSETFROM:-0400
TZOFFSETTO:-0500
RRULE:FREQ=YEARLY;BYDAY=1SU;BYMONTH=11
TZNAME:EST
END:STANDARD
END:VTIMEZONE
BEGIN:VEVENT
DTSTAMP:20201023T143738Z
UID:1784F064-7734-478F-AA8A-6C3017ABAF44
DTSTART;TZID=US/Eastern:20201022T190000
DTEND;TZID=US/Eastern:20201022T200000
DESCRIPTION:FREE Webinar\n\nThe pandemic has destroyed much of the world ec
 onomy\, and laid bare many failures in our health\, finance\, law\, and go
 vernment systems. Digital technologies can help us rebuild by enabling mor
 e resilient\, effective\, secure\, and inclusive systems. In this talk I w
 ill discuss what world leaders\, multilateral organizations (World Bank\, 
 OECD\, UN\, etc) and industry are discussing\, and how IEEE and ACM member
 s can contribute to these digital initiatives and help them to achieve the
  best possible outcomes.\n\nCo-sponsored by: Boston Chapter of the IEEE Co
 mputer Society and GBC/ACM \n\nSpeaker(s): Alex (Sandy) Pentland\, \n\nAge
 nda: \n7:00 PM Technical Presentation\n\n8:00 PM Adjournment\n\nVirtual: h
 ttps://events.vtools.ieee.org/m/241589
LOCATION:Virtual: https://events.vtools.ieee.org/m/241589
ORGANIZER:michael.bannan@ieee.org
SEQUENCE:3
SUMMARY:Webinar - Rebuilding After Covid-19
URL;VALUE=URI:https://events.vtools.ieee.org/m/241589
X-ALT-DESC:Description: &lt;br /&gt;&lt;p align=&quot;LEFT&quot;&gt;&amp;nbsp\;&lt;strong&gt;&lt;span style=&quot;f
 ont-size: medium\;&quot;&gt;FREE Webinar&lt;br /&gt;&lt;/span&gt;&lt;/strong&gt;&lt;/p&gt;\n&lt;p&gt;The pandemi
 c has destroyed much of the world economy\, and laid bare many failures in
  our health\, finance\, law\, and government systems. Digital technologies
  can help us rebuild by enabling more resilient\, effective\, secure\, and
  inclusive systems. In this talk I will discuss what world leaders\, multi
 lateral organizations (World Bank\, OECD\, UN\, etc) and industry are disc
 ussing\, and how IEEE and ACM members can contribute to these digital init
 iatives and help them to achieve the best possible outcomes.&lt;/p&gt;&lt;br /&gt;&lt;br 
 /&gt;Agenda: &lt;br /&gt;&lt;p&gt;&lt;strong&gt;7:00 PM&lt;/strong&gt;&amp;nbsp\;&amp;nbsp\;&amp;nbsp\;Technical 
 Presentation&lt;/p&gt;\n&lt;p&gt;&lt;strong&gt;8:00 PM&lt;/strong&gt;&amp;nbsp\;&amp;nbsp\;&amp;nbsp\;Adjournm
 ent&lt;/p&gt;
END:VEVENT
END:VCALENDAR

