BEGIN:VCALENDAR
VERSION:2.0
PRODID:IEEE vTools.Events//EN
CALSCALE:GREGORIAN
BEGIN:VTIMEZONE
TZID:US/Eastern
BEGIN:DAYLIGHT
DTSTART:20210314T030000
TZOFFSETFROM:-0500
TZOFFSETTO:-0400
RRULE:FREQ=YEARLY;BYDAY=2SU;BYMONTH=3
TZNAME:EDT
END:DAYLIGHT
BEGIN:STANDARD
DTSTART:20201101T010000
TZOFFSETFROM:-0400
TZOFFSETTO:-0500
RRULE:FREQ=YEARLY;BYDAY=1SU;BYMONTH=11
TZNAME:EST
END:STANDARD
END:VTIMEZONE
BEGIN:VEVENT
DTSTAMP:20210125T211634Z
UID:3BB684D4-69E7-4E35-8359-BD095ADB2EBD
DTSTART;TZID=US/Eastern:20201105T173000
DTEND;TZID=US/Eastern:20201105T184500
DESCRIPTION:Video conferencing refers to the conduct of an online meeting b
 etween people in different locations through two-way audio and video trans
 missions. To put it simply\, it is like a conversation between two persons
  (point-to-point) or more people (multipoint) gathering together in a virt
 ual meeting room in order to communicate and collaborate in real time.\n\n
 Besides the audio and video transmission\, the cutting-edge technologies e
 xpand its functionalities\, like screen sharing and file sharing\, etc. Th
 en\, how is video conferencing developed and what is history of video conf
 erencing technology? Here we will briefly talk over the history of video c
 onferencing from the beginning to the present. Time permitting we will com
 pare many of the popular video conferencing platforms.\n\nCo-sponsored by:
  Subra Ganesan\n\nSpeaker(s): Sharan Kalwani\, \n\nAgenda: \nAgenda detail
 s to be posted\n\nBldg: Online Session\, Virtual using Webex\, Rochester\,
  Michigan\, United States\, 48309-4479\, Virtual: https://events.vtools.ie
 ee.org/m/241741
LOCATION:Bldg: Online Session\, Virtual using Webex\, Rochester\, Michigan\
 , United States\, 48309-4479\, Virtual: https://events.vtools.ieee.org/m/2
 41741
ORGANIZER:sharan.kalwani@ieee.org
SEQUENCE:8
SUMMARY:A comprehensive technical history of Video Conferencing
URL;VALUE=URI:https://events.vtools.ieee.org/m/241741
X-ALT-DESC:Description: &lt;br /&gt;&lt;p&gt;Video conferencing refers to the conduct o
 f an online meeting between people in different locations through two-way 
 audio and video transmissions. To put it simply\, it is like a conversatio
 n between two persons (point-to-point) or more people (multipoint) gatheri
 ng together in a virtual meeting room in order to communicate and collabor
 ate in real time.&lt;/p&gt;\n&lt;p&gt;Besides the audio and video transmission\, the c
 utting-edge technologies expand its functionalities\, like screen sharing 
 and file sharing\, etc. Then\, how is video conferencing developed and wha
 t is history of video conferencing technology? Here we will briefly talk o
 ver the history of video conferencing from the beginning to the present. T
 ime permitting we will compare many of the popular video conferencing plat
 forms.&lt;/p&gt;&lt;br /&gt;&lt;br /&gt;Agenda: &lt;br /&gt;&lt;p&gt;&lt;strong&gt;Agenda details to be posted
 &lt;br /&gt;&lt;/strong&gt;&lt;/p&gt;
END:VEVENT
END:VCALENDAR

