BEGIN:VCALENDAR
VERSION:2.0
PRODID:IEEE vTools.Events//EN
CALSCALE:GREGORIAN
BEGIN:VTIMEZONE
TZID:US/Arizona
BEGIN:STANDARD
DTSTART:19671029T010000
TZOFFSETFROM:-0600
TZOFFSETTO:-0700
TZNAME:MST
END:STANDARD
END:VTIMEZONE
BEGIN:VEVENT
DTSTAMP:20201007T141350Z
UID:BE764159-AE44-47FC-88C0-056BA9C451BD
DTSTART;TZID=US/Arizona:20201006T180000
DTEND;TZID=US/Arizona:20201006T193000
DESCRIPTION:Join Phoenix Section to celebrate the IEEE Day\n\nWe will have 
 a message from our chair\, Vivek Gupta.\nJoin in the IEEE Trivia Scavenger
  Hunt.\nBe ready to enjoy performing presentations from our section collea
 gues**\nCelebrate The Accomplishments of Engineers...!\nWe will announce t
 he winner of the IEEE Trivia Scavenger Hunt\nSee the details of the event 
 at: https://site.ieee.org/phoenix/social-meetups/\n\nSpeaker(s): Vivek Gup
 ta\, \n\nAgenda: \nAgenda\n\n- 6:00 pm – 6:10 pm\n- Welcome\n- Words fro
 m our section chair\, Vivek Gupta\n\n- 6:10 pm – 6:40 pm\n- Performing p
 resentations from our section members\n\n- 6:40 pm – 6:50 pm\n- Announce
 ment of the Trivia winner\n\n- 6:50 pm – 7:00 pm\n- Closure\n\nWebex mee
 ting\, Phoenix\, Arizona\, United States\, Virtual: https://events.vtools.
 ieee.org/m/242148
LOCATION:Webex meeting\, Phoenix\, Arizona\, United States\, Virtual: https
 ://events.vtools.ieee.org/m/242148
ORGANIZER:vmgupta@ieee.org
SEQUENCE:1
SUMMARY:IEEE Phoenix Section IEEE Day Celebration
URL;VALUE=URI:https://events.vtools.ieee.org/m/242148
X-ALT-DESC:Description: &lt;br /&gt;&lt;p&gt;Join Phoenix Section to celebrate the IEEE
  Day&lt;/p&gt;\n&lt;p&gt;We will have a message from our chair\, Vivek Gupta.&lt;br /&gt;Joi
 n in the IEEE Trivia Scavenger Hunt. &lt;br /&gt;Be ready to enjoy performing pr
 esentations from our section colleagues**&lt;br /&gt;Celebrate The Accomplishmen
 ts of Engineers...!&lt;br /&gt;We will announce the winner of the IEEE Trivia Sc
 avenger Hunt&lt;br /&gt;See the details of the event at: https://site.ieee.org/p
 hoenix/social-meetups/&lt;/p&gt;&lt;br /&gt;&lt;br /&gt;Agenda: &lt;br /&gt;&lt;p&gt;Agenda&amp;nbsp\;&lt;/p&gt;\n
 &lt;ul&gt;\n&lt;li&gt;&lt;strong&gt;6:00 pm &amp;ndash\; 6:10 pm&lt;/strong&gt;\n&lt;ul&gt;\n&lt;li&gt;Welcome&lt;/li
 &gt;\n&lt;li&gt;Words from our section chair\, Vivek Gupta&lt;/li&gt;\n&lt;/ul&gt;\n&lt;/li&gt;\n&lt;li&gt;
 &lt;strong&gt;6:10 pm &amp;ndash\; 6:40 pm&lt;/strong&gt;\n&lt;ul&gt;\n&lt;li&gt;Performing presentati
 ons from our section members&amp;nbsp\;&lt;/li&gt;\n&lt;/ul&gt;\n&lt;/li&gt;\n&lt;li&gt;&lt;strong&gt;6:40 p
 m &amp;ndash\; 6:50 pm&lt;/strong&gt;\n&lt;ul&gt;\n&lt;li&gt;Announcement of the Trivia winner&lt;/
 li&gt;\n&lt;/ul&gt;\n&lt;/li&gt;\n&lt;li&gt;&lt;strong&gt;6:50 pm &amp;ndash\; 7:00 pm&lt;/strong&gt;\n&lt;ul&gt;\n&lt;l
 i&gt;Closure&lt;/li&gt;\n&lt;/ul&gt;\n&lt;/li&gt;\n&lt;/ul&gt;
END:VEVENT
END:VCALENDAR

