BEGIN:VCALENDAR
VERSION:2.0
PRODID:IEEE vTools.Events//EN
CALSCALE:GREGORIAN
BEGIN:VTIMEZONE
TZID:America/Vancouver
BEGIN:DAYLIGHT
DTSTART:20200308T030000
TZOFFSETFROM:-0800
TZOFFSETTO:-0700
RRULE:FREQ=YEARLY;BYDAY=2SU;BYMONTH=3
TZNAME:PDT
END:DAYLIGHT
BEGIN:STANDARD
DTSTART:20201101T010000
TZOFFSETFROM:-0700
TZOFFSETTO:-0800
RRULE:FREQ=YEARLY;BYDAY=1SU;BYMONTH=11
TZNAME:PST
END:STANDARD
END:VTIMEZONE
BEGIN:VEVENT
DTSTAMP:20201104T194340Z
UID:10E3F1F4-E6EB-4E8B-9031-EEA185C119EC
DTSTART;TZID=America/Vancouver:20201021T170000
DTEND;TZID=America/Vancouver:20201021T174500
DESCRIPTION:Entering the industry after graduation can be a daunting task a
 s you face the challenges of finding and applying for jobs\, interviewing\
 , and succeeding once you&#39;re on the job. This talk aims to provide advice 
 on getting hired and to enable open discussion for you to have any pressin
 g questions answered about the industry\, hiring processes and day-to-day 
 work life.\n\nSpeaker(s): Francis\, \n\nRoom: online\, Bldg: https://ca01w
 eb.zoom.us/j/64269582576\, 1000 KLO Rd.\, Kelowna\, British Columbia\, Can
 ada\, V1Y 4X8
LOCATION:Room: online\, Bldg: https://ca01web.zoom.us/j/64269582576\, 1000 
 KLO Rd.\, Kelowna\, British Columbia\, Canada\, V1Y 4X8
ORGANIZER:youry@ieee.org
SEQUENCE:11
SUMMARY:Entering the Industry after Graduation 
URL;VALUE=URI:https://events.vtools.ieee.org/m/243042
X-ALT-DESC:Description: &lt;br /&gt;&lt;blockquote class=&quot;protonmail_quote&quot;&gt;\n&lt;div c
 lass=&quot;&quot;&gt;\n&lt;p class=&quot;&quot; lang=&quot;en-CA&quot;&gt;Entering the industry after graduation 
 can be a daunting task as you face the challenges of finding and applying 
 for jobs\, interviewing\, and succeeding once you&#39;re on the job. This talk
  aims to provide advice on getting hired and to enable open discussion for
  you to have any pressing questions answered about the industry\, hiring p
 rocesses and day-to-day work life.&lt;/p&gt;\n&lt;/div&gt;\n&lt;/blockquote&gt;
END:VEVENT
END:VCALENDAR

