BEGIN:VCALENDAR
VERSION:2.0
PRODID:IEEE vTools.Events//EN
CALSCALE:GREGORIAN
BEGIN:VTIMEZONE
TZID:Asia/Kolkata
BEGIN:STANDARD
DTSTART:19451014T230000
TZOFFSETFROM:+0630
TZOFFSETTO:+0530
TZNAME:IST
END:STANDARD
END:VTIMEZONE
BEGIN:VEVENT
DTSTAMP:20201014T101037Z
UID:A2847287-E28A-4038-8DA6-2F32F8A7C35B
DTSTART;TZID=Asia/Kolkata:20200727T103000
DTEND;TZID=Asia/Kolkata:20200727T113000
DESCRIPTION:“Indian Technical Education System&quot;\n\nDepartment of Electron
 ics and Communication Engineering\, Sai Vidya Institute of Technology\, Be
 ngaluru in association with IEEE SVIT Student Chapter conducted Webinar on
  the topic &quot;Indian Technical Education System”.\n\nDate of the Event: 27
 th July 2020 at 10:30 AM\n\nSpeaker Details: Dr S S Mantha Former Chairman
  AICTE \, Adj Prof NIAS\, Bangalore \, Chancellor KL University \, Emeritu
 s Professor\, VJTI\, Mumbai.\n\nOnline webinar Platform: Google Meet Appli
 cation\n\nWebinar meeting Link: https://bit.ly/IEEESVITSBWebinarLive\n\nTi
 mings: 10:30 AM to 12:00 AM Total Number of Registrations: 400+\n\nMore th
 an 400 participants are registered for the webinar and more than 190 Parti
 cipants actively participated from various Industry professional’s/ Facu
 lty member’s/ Research scholars/ students from many reputed institutions
  were witnessed the webinar. The webinar is started at 10:30 AM with forma
 l Welcome followed by brief introduction about the speaker\, Dr S S Mantha
  by Dr. Narayan K\, Dean R&amp;D and Professor\, Department of ECE.\n\nDr S S 
 Mantha Former Chairman AICTE \, Adj Prof NIAS\, Bangalore \, Chancellor KL
  University \, Emeritus Professor\, VJTI\, Mumbai\, who delivered an Outst
 anding webinar on Indian Education System”\, The talk was well attended 
 by over 190 participants. It was honor for Sai Vidya Institute of Technolo
 gy\, to have Dr S S Mantha as the invited speaker for the webinar. The web
 inar was organized by IEEE Student Branch\, &amp; Department of ECE. Institute
  would also like acknowledge Dr Narayan .K Dean (R&amp;D) Sincere efforts in o
 rganizing this webinar.\n\nSpeaker(s): Dr S S Mantha\, \n\nAgenda: \n- Anc
 ient Education System\n- Disruption in Education due to Covid-19\n- Import
 ance of research\, innovation and patent.\n- Importance of publication\n- 
 What is quality\, Accreditation\, Assessment\, Ranking and quality assuran
 ce\n- Scholarship of integration\n- NIRF Ranking\n- Next Generation Lab in
  partnership with Industry and International Universities\n- Essential Ski
 ll map for digital transformation\n- How to get students jobs and make the
 m future ready\n- Rise in technology enabled interactive platform to promo
 te learning process for students\n- Current trends for educational digital
  content\n- Consideration for successful future education\n- The Universit
 ies in the future\n\nVirtual: https://events.vtools.ieee.org/m/243111
LOCATION:Virtual: https://events.vtools.ieee.org/m/243111
ORGANIZER:venkatesha.m@saividya.ac.in
SEQUENCE:0
SUMMARY:Indian Technical Education System
URL;VALUE=URI:https://events.vtools.ieee.org/m/243111
X-ALT-DESC:Description: &lt;br /&gt;&lt;p&gt;&lt;strong&gt;&amp;ldquo\;Indian Technical Education
  System&quot;&lt;/strong&gt;&lt;/p&gt;\n&lt;p&gt;Department of Electronics and Communication Engi
 neering\, Sai Vidya Institute of Technology\, Bengaluru in association wit
 h IEEE SVIT Student Chapter conducted Webinar on the topic &quot;Indian Technic
 al Education System&amp;rdquo\;.&lt;/p&gt;\n&lt;p&gt;&lt;strong&gt;Date of the Event: 27th July 
 2020 at 10:30 AM &lt;/strong&gt;&lt;/p&gt;\n&lt;p&gt;&lt;strong&gt;Speaker Details: &lt;/strong&gt;Dr S 
 S Mantha Former Chairman AICTE \, Adj Prof NIAS\, Bangalore \, Chancellor 
 KL University \, Emeritus Professor\, VJTI\, Mumbai.&lt;/p&gt;\n&lt;p&gt;&lt;strong&gt;Onlin
 e webinar Platform: &lt;/strong&gt;Google Meet Application&lt;/p&gt;\n&lt;p&gt;&lt;strong&gt;Webin
 ar meeting Link: &lt;/strong&gt;https://bit.ly/IEEESVITSBWebinarLive&lt;/p&gt;\n&lt;p&gt;&lt;st
 rong&gt;Timings: &lt;/strong&gt;10:30 AM to 12:00 AM Total Number of Registrations:
  400+&lt;/p&gt;\n&lt;p&gt;More than 400 participants are registered for the webinar an
 d more than 190 Participants actively participated from various Industry p
 rofessional&amp;rsquo\;s/ Faculty member&amp;rsquo\;s/ Research scholars/ students
  from many reputed institutions were witnessed the webinar. The webinar is
  started at 10:30 AM with formal Welcome followed by brief introduction ab
 out the speaker\, Dr S S Mantha by Dr. Narayan K\, Dean R&amp;amp\;D and Profe
 ssor\, Department of ECE.&lt;/p&gt;\n&lt;p&gt;Dr S S Mantha Former Chairman AICTE \, A
 dj Prof NIAS\, Bangalore \, Chancellor KL University \, Emeritus Professor
 \, VJTI\, Mumbai\, who delivered an Outstanding webinar on Indian Educatio
 n System&amp;rdquo\;\, The talk was well attended by over 190 participants. It
  was honor for Sai Vidya Institute of Technology\, to have Dr S S Mantha a
 s the invited speaker for the webinar. The webinar was organized by IEEE S
 tudent Branch\, &amp;amp\; Department of ECE. Institute would also like acknow
 ledge Dr Narayan .K Dean (R&amp;amp\;D) Sincere efforts in organizing this web
 inar.&lt;/p&gt;&lt;br /&gt;&lt;br /&gt;Agenda: &lt;br /&gt;&lt;p&gt;&amp;nbsp\;&lt;/p&gt;\n&lt;ol&gt;\n&lt;li&gt;Ancient Educa
 tion System&lt;/li&gt;\n&lt;li&gt;Disruption in Education due to Covid-19&lt;/li&gt;\n&lt;li&gt;Im
 portance of research\, innovation and patent.&lt;/li&gt;\n&lt;li&gt;Importance of publ
 ication&lt;/li&gt;\n&lt;li&gt;What is quality\, Accreditation\, Assessment\, Ranking a
 nd quality assurance&lt;/li&gt;\n&lt;li&gt;Scholarship of integration&lt;/li&gt;\n&lt;li&gt;NIRF R
 anking&lt;/li&gt;\n&lt;li&gt;Next Generation Lab in partnership with Industry and Inte
 rnational Universities&lt;/li&gt;\n&lt;li&gt;Essential Skill map for digital transform
 ation&lt;/li&gt;\n&lt;li&gt;How to get students jobs and make them future ready&lt;/li&gt;\n
 &lt;li&gt;Rise in technology enabled interactive platform to promote learning pr
 ocess for students&lt;/li&gt;\n&lt;li&gt;Current trends for educational digital conten
 t&lt;/li&gt;\n&lt;li&gt;Consideration for successful future education&lt;/li&gt;\n&lt;li&gt;The Un
 iversities in the future&lt;/li&gt;\n&lt;/ol&gt;
END:VEVENT
END:VCALENDAR

