BEGIN:VCALENDAR
VERSION:2.0
PRODID:IEEE vTools.Events//EN
CALSCALE:GREGORIAN
BEGIN:VTIMEZONE
TZID:America/Toronto
BEGIN:DAYLIGHT
DTSTART:20210314T030000
TZOFFSETFROM:-0500
TZOFFSETTO:-0400
RRULE:FREQ=YEARLY;BYDAY=2SU;BYMONTH=3
TZNAME:EDT
END:DAYLIGHT
BEGIN:STANDARD
DTSTART:20201101T010000
TZOFFSETFROM:-0400
TZOFFSETTO:-0500
RRULE:FREQ=YEARLY;BYDAY=1SU;BYMONTH=11
TZNAME:EST
END:STANDARD
END:VTIMEZONE
BEGIN:VEVENT
DTSTAMP:20201207T151241Z
UID:0684BD35-C9C7-4ADA-AF06-EE6B6B353F36
DTSTART;TZID=America/Toronto:20201118T190000
DTEND;TZID=America/Toronto:20201118T220000
DESCRIPTION:Hamilton Section Annual General Meeting 2020\n\nSpeaker(s): Dr.
  Mariano Arriaga\, \n\nAgenda: \n7:00 PM Introduction.\n\n7:05 PM Greeting
 s from IEEE Canada President.\n\n7:15 PM AGM Presentation.\n\n8:00 PM Sect
 ion Nominations and Appintments.\n\n8:05 PM Guest Speaker\n\nHamilton\, On
 tario\, Canada\, Virtual: https://events.vtools.ieee.org/m/243870
LOCATION:Hamilton\, Ontario\, Canada\, Virtual: https://events.vtools.ieee.
 org/m/243870
ORGANIZER:waldemar.smoluch@gmail.com
SEQUENCE:10
SUMMARY:Hamilton Section AGM 2020
URL;VALUE=URI:https://events.vtools.ieee.org/m/243870
X-ALT-DESC:Description: &lt;br /&gt;&lt;p&gt;Hamilton Section Annual General Meeting 20
 20&lt;/p&gt;&lt;br /&gt;&lt;br /&gt;Agenda: &lt;br /&gt;&lt;p&gt;7:00 PM Introduction.&lt;/p&gt;\n&lt;p&gt;7:05 PM G
 reetings from IEEE Canada President.&lt;/p&gt;\n&lt;p&gt;7:15 PM AGM Presentation.&lt;/p&gt;
 \n&lt;p&gt;8:00 PM Section Nominations and Appintments.&lt;/p&gt;\n&lt;p&gt;8:05 PM Guest Sp
 eaker&lt;/p&gt;
END:VEVENT
END:VCALENDAR

