BEGIN:VCALENDAR
VERSION:2.0
PRODID:IEEE vTools.Events//EN
CALSCALE:GREGORIAN
BEGIN:VTIMEZONE
TZID:Canada/Mountain
BEGIN:DAYLIGHT
DTSTART:20210314T030000
TZOFFSETFROM:-0700
TZOFFSETTO:-0600
RRULE:FREQ=YEARLY;BYDAY=2SU;BYMONTH=3
TZNAME:MDT
END:DAYLIGHT
BEGIN:STANDARD
DTSTART:20201101T010000
TZOFFSETFROM:-0600
TZOFFSETTO:-0700
RRULE:FREQ=YEARLY;BYDAY=1SU;BYMONTH=11
TZNAME:MST
END:STANDARD
END:VTIMEZONE
BEGIN:VEVENT
DTSTAMP:20210119T235502Z
UID:3FE1ADFC-8922-424F-9E12-FC78C633318E
DTSTART;TZID=Canada/Mountain:20201201T213800
DTEND;TZID=Canada/Mountain:20201204T213800
DESCRIPTION:Who Can Participate?\n\nThis Hackathon is geared towards Albert
 a post-secondary students pursuing an education in STEM fields in college\
 , undergraduate\, and also graduate programs at masters level. The goal is
  to give students a chance to work on real-world problems while practicing
  teamwork and collaboration. Participants will work together as a group in
  teams of 2-6 members.\n\nTimeline\n\n- Team registration deadline: Nov. 1
 5\, 2020\n- Kickoff meeting: Dec. 1\, 2020\n- Implementation: Dec. 1\, 202
 0 - Feb. 17\, 2021\n- Submission deadline: Feb. 17\, 2021\n- Announcement 
 of the finalists: Feb. 20\, 2021\n- Presentations of finalists: Feb. 27\, 
 2021\n- Announcement of winners: Mar. 1\, 2021\n- Final ceremony: Mar. 8\,
  2021\n\nRegistration\n\nForm a team and submit your team and project desc
 ription on our [registration page](https://bit.ly/3iMu5iQ) before the dead
 line and be sure to answer all of the questions on the submission form. A 
 group can be registered by one of the group members. Submissions are edita
 ble until the submission deadline.\n\nSubmissions\n\nSubmit your project b
 y sending an email to hacktogetheralberta@gmail.com and make sure to inclu
 de the following in your submission email:\n\n- Technical solutions - GitH
 ub or other code repository link. Please ensure that this link is publicly
  shareable so judges can access your project.\n- Concept Ideas - A report 
 including the description and details of the concept idea. Template format
  of the final submission document will be sent to the participants after t
 he registration period.\n- All submissions - Video (max: 2 minutes)\n\n- U
 pload a video and walk-through your solution via YouTube\, and include the
  link in your submission email.\n- By submitting a video\, you are acknowl
 edging that these materials may be used to promote the hackathon\, without
  extra obligation to you.\n\nFinalists will be invited to do a 10-minute o
 nline presentation before the winners are selected.\n\nEvaluation\n\nSubmi
 ssions will be evaluated by a team of judges from different STEM backgroun
 ds. Solutions will be judged based on the following criteria and weighted 
 accordingly:\n\n- 20% – User experience of the technical solution\, qual
 ity of the report for concept ideas\n- 20% – Innovation &amp; creativity\n- 
 20% – Impact &amp; potential\n- 20% – Quality of the implementation and/or
  research.\n- 20% - Final presentation\n\nWinners will be announced after 
 the final presentations.\n\nPrizes\n\nThere will be monetary prizes for th
 e selected submissions of both categories:\n\n- The best technical solutio
 n: $ 500 CAD\n- The best concept idea: $ 500 CAD\n- Runner up for technica
 l solutions: $ 250 CAD\n- Runner up for concept ideas: $ 250 CAD\n\nAll fi
 nalists invited to present their submission will receive honorable mention
  certificates and winners will be recognized via social media.\n\nVirtual:
  https://events.vtools.ieee.org/m/244304
LOCATION:Virtual: https://events.vtools.ieee.org/m/244304
ORGANIZER:s.afkhami.goli@gmail.com
SEQUENCE:5
SUMMARY:HackTogether: Alberta Virtual 2020 Hackathon
URL;VALUE=URI:https://events.vtools.ieee.org/m/244304
X-ALT-DESC:Description: &lt;br /&gt;&lt;h1&gt;&lt;span style=&quot;font-weight: 400\; font-size
 : 18pt\;&quot;&gt;Who Can Participate?&lt;/span&gt;&lt;/h1&gt;\n&lt;p&gt;&lt;span style=&quot;font-weight: 4
 00\;&quot;&gt;This Hackathon is geared towards Alberta post-secondary students pur
 suing an education in STEM fields in college\, undergraduate\, and also gr
 aduate programs at masters level. The goal is to give students a chance to
  work on real-world problems while practicing teamwork and collaboration. 
 Participants will work together as a group in teams of 2-6 members.&lt;/span&gt;
 &lt;/p&gt;\n&lt;p&gt;&amp;nbsp\;&lt;/p&gt;\n&lt;p&gt;&lt;span style=&quot;font-weight: 400\; font-size: 18pt\;
 &quot;&gt;Timeline&lt;/span&gt;&lt;/p&gt;\n&lt;ul&gt;\n&lt;li style=&quot;font-weight: 400\;&quot;&gt;&lt;strong&gt;Team r
 egistration deadline&lt;/strong&gt;&lt;span style=&quot;font-weight: 400\;&quot;&gt;: Nov. 15\, 
 2020&lt;/span&gt;&lt;/li&gt;\n&lt;li style=&quot;font-weight: 400\;&quot;&gt;&lt;strong&gt;Kickoff meeting&lt;/
 strong&gt;&lt;span style=&quot;font-weight: 400\;&quot;&gt;: Dec. 1\, 2020&lt;/span&gt;&lt;/li&gt;\n&lt;li s
 tyle=&quot;font-weight: 400\;&quot;&gt;&lt;strong&gt;Implementation:&lt;/strong&gt;&lt;span style=&quot;fon
 t-weight: 400\;&quot;&gt; Dec. 1\, 2020 - Feb. 17\, 2021&lt;/span&gt;&lt;/li&gt;\n&lt;li style=&quot;f
 ont-weight: 400\;&quot;&gt;&lt;strong&gt;Submission deadline&lt;/strong&gt;&lt;span style=&quot;font-w
 eight: 400\;&quot;&gt;: Feb. 17\, 2021&lt;/span&gt;&lt;/li&gt;\n&lt;li style=&quot;font-weight: 400\;&quot;
 &gt;&lt;strong&gt;Announcement of the finalists&lt;/strong&gt;&lt;span style=&quot;font-weight: 4
 00\;&quot;&gt;: Feb. 20\, 2021&lt;/span&gt;&lt;/li&gt;\n&lt;li style=&quot;font-weight: 400\;&quot;&gt;&lt;strong
 &gt;Presentations of finalists&lt;/strong&gt;&lt;span style=&quot;font-weight: 400\;&quot;&gt;: Feb
 . 27\, 2021&lt;/span&gt;&lt;/li&gt;\n&lt;li style=&quot;font-weight: 400\;&quot;&gt;&lt;strong&gt;Announceme
 nt of winners&lt;/strong&gt;&lt;span style=&quot;font-weight: 400\;&quot;&gt;: Mar. 1\, 2021&lt;/sp
 an&gt;&lt;/li&gt;\n&lt;li style=&quot;font-weight: 400\;&quot;&gt;&lt;strong&gt;Final ceremony&lt;/strong&gt;&lt;s
 pan style=&quot;font-weight: 400\;&quot;&gt;: Mar. 8\, 2021&lt;/span&gt;&lt;/li&gt;\n&lt;/ul&gt;\n&lt;p&gt;&lt;spa
 n style=&quot;font-weight: 400\; font-size: 18pt\;&quot;&gt;Registration&lt;/span&gt;&lt;/p&gt;\n&lt;p
 &gt;&lt;span style=&quot;font-weight: 400\;&quot;&gt;Form a team and submit your team and pro
 ject description on our &lt;/span&gt;&lt;a href=&quot;https://bit.ly/3iMu5iQ&quot;&gt;&lt;span styl
 e=&quot;font-weight: 400\;&quot;&gt;registration page&lt;/span&gt;&lt;/a&gt;&lt;span style=&quot;font-weigh
 t: 400\;&quot;&gt; before the deadline and be sure to answer all of the questions 
 on the submission form. A group can be registered by one of the group memb
 ers. Submissions are editable until the submission deadline.&amp;nbsp\;&amp;nbsp\;
 &lt;/span&gt;&lt;/p&gt;\n&lt;p&gt;&amp;nbsp\;&lt;/p&gt;\n&lt;p&gt;&lt;span style=&quot;font-weight: 400\;&quot;&gt;&lt;span sty
 le=&quot;font-size: 18pt\;&quot;&gt;Submissions&lt;/span&gt;&amp;nbsp\;&lt;/span&gt;&lt;/p&gt;\n&lt;p&gt;&lt;span styl
 e=&quot;font-weight: 400\;&quot;&gt;Submit your project by sending an email to &lt;/span&gt;&lt;
 a href=&quot;mailto:hacktogetheralberta@gmail.com&quot;&gt;&lt;span style=&quot;font-weight: 40
 0\;&quot;&gt;hacktogetheralberta@gmail.com&lt;/span&gt;&lt;/a&gt;&lt;span style=&quot;font-weight: 400
 \;&quot;&gt; and make sure to include the following in your submission email:&lt;/spa
 n&gt;&lt;/p&gt;\n&lt;p&gt;&lt;span style=&quot;font-weight: 400\;&quot;&gt;&amp;nbsp\;&lt;/span&gt;&lt;/p&gt;\n&lt;ul&gt;\n&lt;li 
 style=&quot;font-weight: 400\;&quot;&gt;&lt;span style=&quot;font-weight: 400\;&quot;&gt;Technical solu
 tions - &lt;/span&gt;&lt;strong&gt;GitHub or other code repository link. &lt;/strong&gt;&lt;spa
 n style=&quot;font-weight: 400\;&quot;&gt;Please ensure that this link is publicly shar
 eable so judges can access your project.&lt;/span&gt;&lt;/li&gt;\n&lt;li style=&quot;font-weig
 ht: 400\;&quot;&gt;&lt;span style=&quot;font-weight: 400\;&quot;&gt;Concept Ideas - &lt;/span&gt;&lt;strong
 &gt;A report including the description and details of the concept idea. &lt;/str
 ong&gt;&lt;span style=&quot;font-weight: 400\;&quot;&gt;Template format of the final submissi
 on document will be sent to the participants after the registration period
 .&lt;/span&gt;&lt;/li&gt;\n&lt;li style=&quot;font-weight: 400\;&quot;&gt;&lt;span style=&quot;font-weight: 40
 0\;&quot;&gt;All submissions&lt;/span&gt;&lt;strong&gt; - Video (max: 2 minutes)&lt;/strong&gt;&lt;/li&gt;
 \n&lt;ul&gt;\n&lt;li style=&quot;font-weight: 400\;&quot;&gt;&lt;span style=&quot;font-weight: 400\;&quot;&gt;Up
 load a video and walk-through your solution via YouTube\, and include the 
 link in your submission email.&lt;/span&gt;&lt;/li&gt;\n&lt;li style=&quot;font-weight: 400\;&quot;
 &gt;&lt;span style=&quot;font-weight: 400\;&quot;&gt;By submitting a video\, you are acknowle
 dging that these materials may be used to promote the hackathon\, without 
 extra obligation to you.&lt;/span&gt;&lt;/li&gt;\n&lt;/ul&gt;\n&lt;/ul&gt;\n&lt;p&gt;&lt;span style=&quot;font-w
 eight: 400\;&quot;&gt;&amp;nbsp\;&lt;/span&gt;&lt;/p&gt;\n&lt;p&gt;&lt;span style=&quot;font-weight: 400\;&quot;&gt;Fina
 lists will be invited to do a 10-minute online presentation before the win
 ners are selected.&lt;/span&gt;&lt;/p&gt;\n&lt;p&gt;&lt;span style=&quot;font-weight: 400\;&quot;&gt;&amp;nbsp\;
 &lt;/span&gt;&lt;/p&gt;\n&lt;p&gt;&lt;span style=&quot;font-weight: 400\; font-size: 18pt\;&quot;&gt;Evaluat
 ion&lt;/span&gt;&lt;/p&gt;\n&lt;p&gt;&lt;span style=&quot;font-weight: 400\;&quot;&gt;Submissions will be ev
 aluated by a team of judges from different STEM backgrounds. Solutions wil
 l be judged based on the following criteria and weighted accordingly:&lt;/spa
 n&gt;&lt;/p&gt;\n&lt;ul&gt;\n&lt;li style=&quot;font-weight: 400\;&quot;&gt;&lt;span style=&quot;font-weight: 400
 \;&quot;&gt;2&lt;/span&gt;&lt;span style=&quot;font-weight: 400\;&quot;&gt;0% &amp;ndash\; User experience o
 f the technical solution\, quality of the report for concept ideas&lt;/span&gt;&lt;
 /li&gt;\n&lt;li style=&quot;font-weight: 400\;&quot;&gt;&lt;span style=&quot;font-weight: 400\;&quot;&gt;20% 
 &amp;ndash\; Innovation &amp;amp\; creativity&lt;/span&gt;&lt;/li&gt;\n&lt;li style=&quot;font-weight:
  400\;&quot;&gt;&lt;span style=&quot;font-weight: 400\;&quot;&gt;20% &amp;ndash\; Impact &amp;amp\; potent
 ial&lt;/span&gt;&lt;/li&gt;\n&lt;li style=&quot;font-weight: 400\;&quot;&gt;&lt;span style=&quot;font-weight: 
 400\;&quot;&gt;20% &amp;ndash\; Quality of the implementation and/or research.&lt;/span&gt;&lt;
 /li&gt;\n&lt;li style=&quot;font-weight: 400\;&quot;&gt;&lt;span style=&quot;font-weight: 400\;&quot;&gt;20% 
 - Final presentation&lt;/span&gt;&lt;/li&gt;\n&lt;/ul&gt;\n&lt;p&gt;&lt;span style=&quot;font-weight: 400\
 ;&quot;&gt;Winners will be announced after the final presentations.&lt;/span&gt;&lt;/p&gt;\n&lt;p
 &gt;&lt;span style=&quot;font-weight: 400\; font-size: 18pt\;&quot;&gt;Prizes&lt;/span&gt;&lt;/p&gt;\n&lt;p&gt;
 &lt;span style=&quot;font-weight: 400\;&quot;&gt;There will be monetary prizes for the sel
 ected submissions of both categories:&lt;/span&gt;&lt;/p&gt;\n&lt;ul&gt;\n&lt;li style=&quot;font-we
 ight: 400\;&quot;&gt;&lt;span style=&quot;font-weight: 400\;&quot;&gt;The best technical solution:
  $ 500 CAD&lt;/span&gt;&lt;/li&gt;\n&lt;li style=&quot;font-weight: 400\;&quot;&gt;&lt;span style=&quot;font-w
 eight: 400\;&quot;&gt;The best concept idea: $ 500 CAD&lt;/span&gt;&lt;/li&gt;\n&lt;li style=&quot;fon
 t-weight: 400\;&quot;&gt;&lt;span style=&quot;font-weight: 400\;&quot;&gt;Runner up for technical 
 solutions: $ 250 CAD&lt;/span&gt;&lt;/li&gt;\n&lt;li style=&quot;font-weight: 400\;&quot;&gt;&lt;span sty
 le=&quot;font-weight: 400\;&quot;&gt;Runner up for concept ideas: $ 250 CAD&lt;/span&gt;&lt;/li&gt;
 \n&lt;/ul&gt;\n&lt;p&gt;&lt;span style=&quot;font-weight: 400\;&quot;&gt;All finalists invited to pres
 ent their submission will receive honorable mention certificates and winne
 rs will be recognized via social media.&lt;/span&gt;&lt;/p&gt;\n&lt;p&gt;&lt;span style=&quot;font-w
 eight: 400\;&quot;&gt;&amp;nbsp\;&lt;/span&gt;&lt;/p&gt;
END:VEVENT
END:VCALENDAR

