BEGIN:VCALENDAR
VERSION:2.0
PRODID:IEEE vTools.Events//EN
CALSCALE:GREGORIAN
BEGIN:VTIMEZONE
TZID:US/Eastern
BEGIN:DAYLIGHT
DTSTART:20210314T030000
TZOFFSETFROM:-0500
TZOFFSETTO:-0400
RRULE:FREQ=YEARLY;BYDAY=2SU;BYMONTH=3
TZNAME:EDT
END:DAYLIGHT
BEGIN:STANDARD
DTSTART:20201101T010000
TZOFFSETFROM:-0400
TZOFFSETTO:-0500
RRULE:FREQ=YEARLY;BYDAY=1SU;BYMONTH=11
TZNAME:EST
END:STANDARD
END:VTIMEZONE
BEGIN:VEVENT
DTSTAMP:20201116T215231Z
UID:AEDD50D3-DEA5-4F84-A036-6BA6FEF11196
DTSTART;TZID=US/Eastern:20201107T183000
DTEND;TZID=US/Eastern:20201107T210000
DESCRIPTION:The IEEE Dayton Section Awards Banquet is an annual gathering o
 f IEEE Members and guests to recognize and award significant achievements 
 of Dayton Section members. Another tradition is to recognize the winners o
 f the Dayton area high school science fairs. Winning students will provide
  video demonstrations of their projects. Please join us virtually!\n\nPlea
 se join us!\n\nSpeaker(s): Russ Harrison\, \n\nAgenda: \n6:30 pm – 6:45 
 pm Check-in – Dave Perez\n\n6:45 pm – 7:15 pm: Science Fair Videos &amp; R
 ecognition – Nick Kovacs\n\n7:15 pm – 8:00 pm: Keynote Talk: Russ Harr
 ison\n\n“Technology Engineers\, COVID\, and Public Policy”\n\n8:00 pm 
 - 8:30 pm: Awards &amp; Recognition – Steve Hary\, Charles Cerny\, Guru Subr
 amanyam\n\nDr. Fritz J. Russ Bio-Engineering Award\n\nHarrell V. Noble Awa
 rd\n\nChapter and Affinity Awards\n\nRecognition of new IEEE Life Members\
 n\nKrishna M. Pasala\, Ph.D. Memorial Scholarship\n\nOutstanding Students 
 - IEEE Student Chapters\n\n8:30 pm - 9:00 pm: Members Orientation &amp; Closin
 g Remarks – Charles Cerny\n\nVirtual: https://events.vtools.ieee.org/m/2
 44450
LOCATION:Virtual: https://events.vtools.ieee.org/m/244450
ORGANIZER:fharlow@ieee.org
SEQUENCE:18
SUMMARY:IEEE Dayton Section Virtual Awards Banquet and Member Orientation
URL;VALUE=URI:https://events.vtools.ieee.org/m/244450
X-ALT-DESC:Description: &lt;br /&gt;&lt;p&gt;The IEEE Dayton Section Awards Banquet is 
 an annual gathering of IEEE Members and guests to recognize and award sign
 ificant achievements of Dayton Section members.&amp;nbsp\; Another tradition i
 s to recognize the winners of the Dayton area high school science fairs.&amp;n
 bsp\; Winning students will provide video demonstrations of their projects
 .&amp;nbsp\; Please join us virtually!&lt;/p&gt;\n&lt;p&gt;Please join us!&lt;/p&gt;&lt;br /&gt;&lt;br /&gt;
 Agenda: &lt;br /&gt;&lt;p&gt;6:30 pm &amp;ndash\; 6:45 pm&amp;nbsp\; &lt;strong&gt;Check-in &amp;ndash\;
  Dave Perez&lt;/strong&gt;&lt;/p&gt;\n&lt;p&gt;6:45 pm&amp;nbsp\; &amp;ndash\; &amp;nbsp\;7:15 pm:&amp;nbsp\
 ; &lt;strong&gt;Science Fair Videos &amp;amp\; Recognition &amp;ndash\; Nick Kovacs&lt;/str
 ong&gt;&lt;/p&gt;\n&lt;p&gt;7:15 pm &amp;nbsp\;&amp;ndash\;&amp;nbsp\; 8:00 pm:&amp;nbsp\;&amp;nbsp\; &lt;strong
 &gt;Keynote Talk: Russ Harrison&lt;/strong&gt;&lt;/p&gt;\n&lt;p&gt;&lt;strong&gt;&amp;ldquo\;Technology E
 ngineers\, COVID\, and Public Policy&amp;rdquo\;&lt;/strong&gt;&lt;/p&gt;\n&lt;p&gt;8:00 pm - 8:
 30 pm:&amp;nbsp\;&amp;nbsp\; &lt;strong&gt;Awards &amp;amp\; Recognition &amp;ndash\; Steve Hary
 \, Charles Cerny\, Guru Subramanyam&lt;/strong&gt;&lt;/p&gt;\n&lt;p&gt;Dr. Fritz J. Russ Bio
 -Engineering Award&lt;/p&gt;\n&lt;p&gt;Harrell V. Noble Award&lt;/p&gt;\n&lt;p&gt;Chapter and Affi
 nity Awards&lt;/p&gt;\n&lt;p&gt;Recognition of new IEEE Life Members&lt;/p&gt;\n&lt;p&gt;Krishna M
 . Pasala\, Ph.D. Memorial Scholarship&lt;/p&gt;\n&lt;p&gt;Outstanding Students - IEEE 
 Student Chapters&lt;/p&gt;\n&lt;p&gt;8:30 pm - 9:00 pm:&amp;nbsp\;&amp;nbsp\; Members Orientat
 ion &amp;amp\; Closing Remarks &amp;ndash\; &lt;strong&gt;Charles Cerny&lt;/strong&gt;&lt;/p&gt;
END:VEVENT
END:VCALENDAR

