BEGIN:VCALENDAR
VERSION:2.0
PRODID:IEEE vTools.Events//EN
CALSCALE:GREGORIAN
BEGIN:VTIMEZONE
TZID:America/New_York
BEGIN:DAYLIGHT
DTSTART:20210314T030000
TZOFFSETFROM:-0500
TZOFFSETTO:-0400
RRULE:FREQ=YEARLY;BYDAY=2SU;BYMONTH=3
TZNAME:EDT
END:DAYLIGHT
BEGIN:STANDARD
DTSTART:20201101T010000
TZOFFSETFROM:-0400
TZOFFSETTO:-0500
RRULE:FREQ=YEARLY;BYDAY=1SU;BYMONTH=11
TZNAME:EST
END:STANDARD
END:VTIMEZONE
BEGIN:VEVENT
DTSTAMP:20201202T115403Z
UID:50B864AB-F7B8-4170-98E7-DB94C320EFBD
DTSTART;TZID=America/New_York:20201117T183000
DTEND;TZID=America/New_York:20201117T200000
DESCRIPTION:Show the ongoing efforts to introduce Socially Assistive Roboti
 cs to society.\n\nDescribe and demonstrate some of the solutions where rob
 ots are assisting people with specific\nsocial issues (i.e.\, Autism\, Ped
 iatric Care\, etc.)\n\nGenerate discussion around the significance of Soci
 ally Assistive Robotics\nemphasizing how collaboration between Humans and 
 Robots can be beneficial to all.\n\nQuestion: does this area of robotics g
 et lost amid the noise and glamour of creating robots for other\nuses (i.e
 .\, military\, space travel and exploration\, warehouse and distribution?\
 n\nEncourage attendees to become involved by contributing to research or s
 olutions to advance the use of\nSocially Assistive Robots\n\nCo-sponsored 
 by: Deborah Hurley\n\nSpeaker(s): Mike Radice \, \n\nAgenda: \nDiscussions
  and Demonstrations for Solutions using Socially Assistive Robots in:\nAut
 ism\nHealth Care\nSTEM Education\nSeniors\nCharterCloud and Smart Pepper\n
 Cloud Based Robotics Software\nDiscussion and Questions\n\nVirtual: https:
 //events.vtools.ieee.org/m/245011
LOCATION:Virtual: https://events.vtools.ieee.org/m/245011
ORGANIZER:dahdata@ieee.org
SEQUENCE:19
SUMMARY:Socially Assistive Robots - Changing Perceptions of Robots One Pers
 on and One Robot at a Time 
URL;VALUE=URI:https://events.vtools.ieee.org/m/245011
X-ALT-DESC:Description: &lt;br /&gt;&lt;div&gt;Show the ongoing efforts to introduce So
 cially Assistive Robotics to society. &amp;nbsp\;&lt;/div&gt;\n&lt;div&gt;&amp;nbsp\;&lt;/div&gt;\n&lt;
 div&gt;Describe and demonstrate some of the solutions where robots are assist
 ing people with specific&lt;/div&gt;\n&lt;div&gt;social issues (i.e.\, Autism\, Pediat
 ric Care\, etc.)&lt;/div&gt;\n&lt;div&gt;&amp;nbsp\;&lt;/div&gt;\n&lt;div&gt;Generate discussion aroun
 d the significance of Socially Assistive Robotics&lt;/div&gt;\n&lt;div&gt;emphasizing 
 how collaboration between Humans and Robots can be beneficial to all. &amp;nbs
 p\;&lt;/div&gt;\n&lt;div&gt;&amp;nbsp\;&lt;/div&gt;\n&lt;div&gt;Question: does this area of robotics g
 et lost amid the noise and glamour of creating robots for other&lt;/div&gt;\n&lt;di
 v&gt;uses (i.e.\, military\, space travel and exploration\, warehouse and dis
 tribution?&lt;/div&gt;\n&lt;div&gt;&amp;nbsp\;&lt;/div&gt;\n&lt;div&gt;Encourage attendees to become i
 nvolved by contributing to research or solutions to advance the use of&lt;/di
 v&gt;\n&lt;div&gt;Socially Assistive Robots&lt;/div&gt;&lt;br /&gt;&lt;br /&gt;Agenda: &lt;br /&gt;&lt;div&gt;&lt;st
 rong&gt;Discussions and Demonstrations for Solutions using Socially Assistive
  Robots in:&lt;/strong&gt;&lt;/div&gt;\n&lt;div&gt;&amp;nbsp\; &amp;nbsp\;Autism&lt;/div&gt;\n&lt;div&gt;&amp;nbsp\;
  &amp;nbsp\;Health Care&lt;/div&gt;\n&lt;div&gt;&amp;nbsp\; &amp;nbsp\;STEM Education&lt;/div&gt;\n&lt;div&gt;
 &amp;nbsp\; &amp;nbsp\;Seniors&lt;/div&gt;\n&lt;div&gt;&amp;nbsp\; &amp;nbsp\;CharterCloud and Smart P
 epper&lt;/div&gt;\n&lt;div&gt;&amp;nbsp\; &amp;nbsp\;Cloud Based Robotics Software&lt;/div&gt;\n&lt;div
 &gt;&amp;nbsp\; &amp;nbsp\;Discussion and Questions&lt;/div&gt;
END:VEVENT
END:VCALENDAR

