BEGIN:VCALENDAR
VERSION:2.0
PRODID:IEEE vTools.Events//EN
CALSCALE:GREGORIAN
BEGIN:VTIMEZONE
TZID:Asia/Kolkata
BEGIN:STANDARD
DTSTART:19451014T230000
TZOFFSETFROM:+0630
TZOFFSETTO:+0530
TZNAME:IST
END:STANDARD
END:VTIMEZONE
BEGIN:VEVENT
DTSTAMP:20211008T101002Z
UID:088126BA-3B38-411E-893D-ECF36E8EEDD5
DTSTART;TZID=Asia/Kolkata:20201102T110000
DTEND;TZID=Asia/Kolkata:20201103T160000
DESCRIPTION:Silver Oak University IEEE Student Branch in association with t
 he Department of Computer Engineering\, SOCET\, Silver Oak University is g
 oing to organize a two-day National level webinar on &quot;Cyber Security &amp; Dig
 ital Forensics&quot; sponsored by GUJCOST\, DST\, Government of Gujarat. Any st
 udent having sound IT background\, delegates from the IT industry\, resear
 ch scholars\, and academicians having relevant backgrounds can attend this
  two-day webinar.\n\nEvent details\n\nDate: 2nd November to 3rd November 2
 020\nTopic: Cyber Security &amp; Digital Forensics\n\nEvent contents\n\n- Cybe
 r Ethics\n- Information Gathering &amp; Scanning\n- Google Dorks\n- System Hac
 king &amp; Security\n- Web Application Hacking &amp; Security\n- Investigation Met
 hodologies\n\nCo-sponsored by: GUJCOST\, DST\, Government of Gujarat.\n\nA
 hmedabad\, Gujarat\, India\, Virtual: https://events.vtools.ieee.org/m/245
 539
LOCATION:Ahmedabad\, Gujarat\, India\, Virtual: https://events.vtools.ieee.
 org/m/245539
ORGANIZER:ieee.fbc@socet.edu.in
SEQUENCE:7
SUMMARY:2-day webinar on &quot;Cyber Security &amp; Digital Forensics&quot;
URL;VALUE=URI:https://events.vtools.ieee.org/m/245539
X-ALT-DESC:Description: &lt;br /&gt;&lt;p&gt;&lt;span style=&quot;font-weight: 400\;&quot;&gt;&lt;strong&gt;S
 ilver Oak University IEEE Student Branch&lt;/strong&gt; in association with the 
 &lt;/span&gt;&lt;strong&gt;Department of Computer Engineering\, SOCET\, Silver Oak Uni
 versity&lt;/strong&gt;&lt;span style=&quot;font-weight: 400\;&quot;&gt; is going to organize a t
 wo-day National level webinar on &quot;&lt;strong&gt;Cyber Security &amp;amp\; Digital Fo
 rensics&lt;/strong&gt;&lt;/span&gt;&lt;span style=&quot;font-weight: 400\;&quot;&gt;&quot; sponsored by GUJ
 COST\, DST\, Government of Gujarat.&amp;nbsp\; Any student having sound IT bac
 kground\, delegates from the IT industry\, research scholars\, and academi
 cians having relevant backgrounds can attend this two-day webinar.&lt;/span&gt;&lt;
 /p&gt;\n&lt;p&gt;&lt;strong&gt;Event details&lt;/strong&gt;&lt;/p&gt;\n&lt;p&gt;&lt;strong&gt;Date:&lt;/strong&gt; 2nd 
 November to 3rd November 2020&lt;br /&gt;&lt;strong&gt;Topic:&amp;nbsp\;&lt;/strong&gt;&lt;span sty
 le=&quot;font-weight: 400\;&quot;&gt;Cyber Security &amp;amp\; Digital Forens&lt;/span&gt;ics&lt;/p&gt;
 \n&lt;p&gt;&lt;strong&gt;Event contents&lt;/strong&gt;&lt;/p&gt;\n&lt;p&gt;- Cyber Ethics&lt;br /&gt;- Informa
 tion Gathering &amp;amp\; Scanning&lt;br /&gt;- Google Dorks&lt;br /&gt;- System Hacking &amp;
 amp\; Security&lt;br /&gt;- Web Application Hacking &amp;amp\; Security&lt;br /&gt;- Inves
 tigation Methodologies&lt;/p&gt;\n&lt;p&gt;&amp;nbsp\;&lt;/p&gt;
END:VEVENT
END:VCALENDAR

