BEGIN:VCALENDAR
VERSION:2.0
PRODID:IEEE vTools.Events//EN
CALSCALE:GREGORIAN
BEGIN:VTIMEZONE
TZID:US/Eastern
BEGIN:DAYLIGHT
DTSTART:20210314T030000
TZOFFSETFROM:-0500
TZOFFSETTO:-0400
RRULE:FREQ=YEARLY;BYDAY=2SU;BYMONTH=3
TZNAME:EDT
END:DAYLIGHT
BEGIN:STANDARD
DTSTART:20201101T010000
TZOFFSETFROM:-0400
TZOFFSETTO:-0500
RRULE:FREQ=YEARLY;BYDAY=1SU;BYMONTH=11
TZNAME:EST
END:STANDARD
END:VTIMEZONE
BEGIN:VEVENT
DTSTAMP:20201106T010811Z
UID:767FB14A-BC2E-49DE-80FC-8B1DB27EF16F
DTSTART;TZID=US/Eastern:20201105T183000
DTEND;TZID=US/Eastern:20201105T200000
DESCRIPTION:Smart and Connected Health (SCH) is the use of Internet\, sensi
 ng\, communications and intelligent techniques in support of healthcare ap
 plications. Internet of Things (IoT) systems such as Wireless body area ne
 twork (WBAN) system with various types of biomedical sensors is one of key
  infrastructures of SCH and provide an opportunity to address issues in ra
 pidly increasing mHealth/eHealth applications. However\, there are signifi
 cant challenges in this area\, such as improving the performance of WBANs\
 , analytics of large and continuous physiological data collected from biom
 edical sensors and predictive modeling\, and securing data transmission an
 d protecting data privacy\, especially in mobile and wireless environments
 . In this talk\, I will present the research trends\, challenges and poten
 tial IoT solutions in the related areas including the introduction of two 
 case studies: (1) developing a wearable biosensor system for the remote de
 tection of life threatening events in infants\; (2) a security system to s
 upport reliable and secured data transmissions over WBANs.\n\nSpeaker(s): 
 Dr Honggang Wang - COMSOC Distinguished Lecturer\, \n\nAgenda: \n6:30 PM P
 resentation followed by Q&amp;A\n\nBaltimore\, Maryland\, United States\, Virt
 ual: https://events.vtools.ieee.org/m/245564
LOCATION:Baltimore\, Maryland\, United States\, Virtual: https://events.vto
 ols.ieee.org/m/245564
ORGANIZER:d.herres@ieee.org
SEQUENCE:4
SUMMARY:IoT for Smart and Connected Health 
URL;VALUE=URI:https://events.vtools.ieee.org/m/245564
X-ALT-DESC:Description: &lt;br /&gt;&lt;p&gt;Smart and Connected Health (SCH) is the us
 e of Internet\, sensing\, communications and intelligent techniques in sup
 port of healthcare applications. Internet of Things (IoT) systems such as 
 Wireless body area network (WBAN) system with various types of biomedical 
 sensors is one of key infrastructures of SCH and provide an opportunity to
  address issues in rapidly increasing mHealth/eHealth applications. Howeve
 r\, there are significant challenges in this area\, such as improving the 
 performance of WBANs\, analytics of large and continuous physiological dat
 a collected from biomedical sensors and predictive modeling\, and securing
  data transmission and protecting data privacy\, especially in mobile and 
 wireless environments. In this talk\, I will present the research trends\,
  challenges and potential IoT solutions in the related areas including the
  introduction of two case studies: (1) developing a wearable biosensor sys
 tem for the remote detection of life threatening events in infants\; (2) a
  security system to support reliable and secured data transmissions over W
 BANs.&amp;nbsp\;&lt;/p&gt;&lt;br /&gt;&lt;br /&gt;Agenda: &lt;br /&gt;&lt;p&gt;6:30 PM Presentation followed
  by Q&amp;amp\;A&lt;/p&gt;
END:VEVENT
END:VCALENDAR

