BEGIN:VCALENDAR
VERSION:2.0
PRODID:IEEE vTools.Events//EN
CALSCALE:GREGORIAN
BEGIN:VTIMEZONE
TZID:Canada/Eastern
BEGIN:DAYLIGHT
DTSTART:20200308T030000
TZOFFSETFROM:-0500
TZOFFSETTO:-0400
RRULE:FREQ=YEARLY;BYDAY=2SU;BYMONTH=3
TZNAME:EDT
END:DAYLIGHT
BEGIN:STANDARD
DTSTART:20191103T010000
TZOFFSETFROM:-0400
TZOFFSETTO:-0500
RRULE:FREQ=YEARLY;BYDAY=1SU;BYMONTH=11
TZNAME:EST
END:STANDARD
END:VTIMEZONE
BEGIN:VEVENT
DTSTAMP:20210118T203727Z
UID:4DF0DAA7-6C70-4841-855A-0F4C83838C0C
DTSTART;TZID=Canada/Eastern:20200303T180000
DTEND;TZID=Canada/Eastern:20200303T200000
DESCRIPTION:Rencontre du comité exécutif #2 pour la section de Québec\n\
 nRoom: 1307\, Bldg: Pavillon Adrien-Pouliot\, 2325\, rue de l&#39;Université 
 Québec \, Quebec\, Quebec\, Canada\, G1V 0A6
LOCATION:Room: 1307\, Bldg: Pavillon Adrien-Pouliot\, 2325\, rue de l&#39;Unive
 rsité Québec \, Quebec\, Quebec\, Canada\, G1V 0A6
ORGANIZER:paul.fortier@gel.ulaval.ca
SEQUENCE:1
SUMMARY:Rencontre du comité exécutif - 2020.2
URL;VALUE=URI:https://events.vtools.ieee.org/m/246921
X-ALT-DESC:Description: &lt;br /&gt;&lt;p&gt;Rencontre du comit&amp;eacute\; ex&amp;eacute\;cut
 if #2 pour la section de Qu&amp;eacute\;bec&lt;/p&gt;
END:VEVENT
END:VCALENDAR

