BEGIN:VCALENDAR
VERSION:2.0
PRODID:IEEE vTools.Events//EN
CALSCALE:GREGORIAN
BEGIN:VTIMEZONE
TZID:US/Eastern
BEGIN:DAYLIGHT
DTSTART:20210314T030000
TZOFFSETFROM:-0500
TZOFFSETTO:-0400
RRULE:FREQ=YEARLY;BYDAY=2SU;BYMONTH=3
TZNAME:EDT
END:DAYLIGHT
BEGIN:STANDARD
DTSTART:20201101T010000
TZOFFSETFROM:-0400
TZOFFSETTO:-0500
RRULE:FREQ=YEARLY;BYDAY=1SU;BYMONTH=11
TZNAME:EST
END:STANDARD
END:VTIMEZONE
BEGIN:VEVENT
DTSTAMP:20201120T132300Z
UID:EA892CB2-1DE7-43DC-B03C-4E1CCB15CBAA
DTSTART;TZID=US/Eastern:20201117T193000
DTEND;TZID=US/Eastern:20201117T210000
DESCRIPTION:Show the ongoing efforts to introduce Socially Assistive Roboti
 cs to society.\n\nDescribe and demonstrate some of the solutions where rob
 ots are assisting people with specific\nsocial issues (i.e.\, Autism\, Ped
 iatric Care\, etc.)\n\nGenerate discussion around the significance of Soci
 ally Assistive Robotics\nemphasizing how collaboration between Humans and 
 Robots can be beneficial to all.\n\nQuestion: does this area of robotics g
 et lost amid the noise and glamour of creating robots for other\nuses (i.e
 .\, military\, space travel and exploration\, warehouse and distribution?\
 n\nEncourage attendees to become involved by contributing to research or s
 olutions to advance the use of\nSocially Assistive Robots\n\nCo-sponsored 
 by: Worchester\, MA Section\n\nSpeaker(s): Mike\, \n\nAgenda: \nDiscussion
 s and Demonstrations for Solutions using Socially Assistive Robots in the 
 following areas:\nAutism\nHealth Care\nSTEM Education\nSeniors\nCloud Base
 d Robotics Software\nCharterCloud and Smart Pepper\nDiscussion/Questions\n
 \nvirtual\, Massachusetts\, United States\, Virtual: https://events.vtools
 .ieee.org/m/247473
LOCATION:virtual\, Massachusetts\, United States\, Virtual: https://events.
 vtools.ieee.org/m/247473
ORGANIZER:mimiktam@ieee.org
SEQUENCE:5
SUMMARY:Socially Assistive Robots - Changing Perceptions of Robots One Pers
 on and One Robot at a Time
URL;VALUE=URI:https://events.vtools.ieee.org/m/247473
X-ALT-DESC:Description: &lt;br /&gt;&lt;p&gt;Show the ongoing efforts to introduce Soci
 ally Assistive Robotics to society. &lt;br /&gt; &lt;br /&gt;Describe and demonstrate 
 some of the solutions where robots are assisting people with specific&lt;br /
 &gt;social issues (i.e.\, Autism\, Pediatric Care\, etc.)&lt;br /&gt; &lt;br /&gt;Generat
 e discussion around the significance of Socially Assistive Robotics&lt;br /&gt;e
 mphasizing how collaboration between Humans and Robots can be beneficial t
 o all. &lt;br /&gt; &lt;br /&gt;Question: does this area of robotics get lost amid the
  noise and glamour of creating robots for other&lt;br /&gt;uses (i.e.\, military
 \, space travel and exploration\, warehouse and distribution?&lt;br /&gt; &lt;br /&gt;
 Encourage attendees to become involved by contributing to research or solu
 tions to advance the use of&lt;br /&gt;Socially Assistive Robots&lt;/p&gt;&lt;br /&gt;&lt;br /&gt;
 Agenda: &lt;br /&gt;&lt;div&gt;&lt;strong&gt;Discussions and Demonstrations for Solutions us
 ing Socially Assistive Robots in the following areas:&lt;/strong&gt;&lt;/div&gt;\n&lt;div
 &gt;&amp;nbsp\; &amp;nbsp\;Autism&lt;/div&gt;\n&lt;div&gt;&amp;nbsp\; &amp;nbsp\;Health Care&lt;/div&gt;\n&lt;div&gt;
 &amp;nbsp\; &amp;nbsp\;STEM Education&lt;/div&gt;\n&lt;div&gt;&amp;nbsp\; &amp;nbsp\;Seniors&lt;/div&gt;\n&lt;d
 iv&gt;&amp;nbsp\; &amp;nbsp\;Cloud Based Robotics Software&lt;/div&gt;\n&lt;div&gt;&amp;nbsp\; &amp;nbsp\
 ;CharterCloud and Smart Pepper&lt;/div&gt;\n&lt;div&gt;&amp;nbsp\; &amp;nbsp\;Discussion/Quest
 ions&lt;/div&gt;
END:VEVENT
END:VCALENDAR

