BEGIN:VCALENDAR
VERSION:2.0
PRODID:IEEE vTools.Events//EN
CALSCALE:GREGORIAN
BEGIN:VTIMEZONE
TZID:America/New_York
BEGIN:DAYLIGHT
DTSTART:20210314T030000
TZOFFSETFROM:-0500
TZOFFSETTO:-0400
RRULE:FREQ=YEARLY;BYDAY=2SU;BYMONTH=3
TZNAME:EDT
END:DAYLIGHT
BEGIN:STANDARD
DTSTART:20201101T010000
TZOFFSETFROM:-0400
TZOFFSETTO:-0500
RRULE:FREQ=YEARLY;BYDAY=1SU;BYMONTH=11
TZNAME:EST
END:STANDARD
END:VTIMEZONE
BEGIN:VEVENT
DTSTAMP:20210211T160636Z
UID:4CC01A74-921E-4779-9A24-5C49C530AAD2
DTSTART;TZID=America/New_York:20201202T190000
DTEND;TZID=America/New_York:20201202T203000
DESCRIPTION:Both COVID-19 and climate change are global and involve tempera
 ture increases.\n\nIf we wait for a crisis\, it will be too late. The “s
 tay in place” crisis response to the increase in COVID cases in March br
 ought about reductions within months.\n\nThe response time for a climate c
 risis could take a century\, which is the lifetime of the greenhouse gas C
 O 2 in our atmosphere. A climate crisis could be a 2 to 10-foot rise in se
 a level\, should an Antarctic ice sheet break off. We need to reduce CO 2 
 emissions now or swim later. “A stitch in time saves nine.” The COVID 
 “stay in place” restriction with reduced travel also lowered greenhous
 e gas emissions as much as 17%. Wearing masks and physical distancing is c
 ritical to saving lives and our economy.\n\nGovernment funding to deal wit
 h COVID unemployment could reduce climate change. Grants for more energy e
 fficient residences and businesses would create jobs for contractors. Simi
 lar funding could expedite the deployment of next generation small modular
  nuclear reactors. They are safer with half the construction cost. A MIT s
 tudy showed that a reactor buildup could de-carbonize electricity generati
 on in 30 years. A carbon fee plus dividend could reduce carbon emissions w
 ithout increasing the US national debt.\n\nSpeaker(s): Paul H. Carr\, PhD\
 , IEEE Life Fellow \, \n\nVirtual: https://events.vtools.ieee.org/m/247629
LOCATION:Virtual: https://events.vtools.ieee.org/m/247629
ORGANIZER:lorilee@ll.mit.edu
SEQUENCE:7
SUMMARY:CONFRONT COVID-19 AND CLIMATE CHANGE NOW 
URL;VALUE=URI:https://events.vtools.ieee.org/m/247629
X-ALT-DESC:Description: &lt;br /&gt;&lt;p&gt;Both COVID-19 and climate change are globa
 l and involve temperature increases.&amp;nbsp\;&lt;/p&gt;\n&lt;p&gt;If we wait for a crisi
 s\, it will be too late. The &amp;ldquo\;stay in place&amp;rdquo\; crisis response
  to the increase in COVID cases in March brought about reductions within m
 onths.&amp;nbsp\;&lt;/p&gt;\n&lt;p&gt;The response time for a climate crisis could take a 
 century\, which is the lifetime of the greenhouse gas CO&amp;nbsp\;&lt;sub&gt;2&amp;nbsp
 \;&lt;/sub&gt;in our atmosphere. A climate crisis could be a 2 to 10-foot rise i
 n sea level\, should an Antarctic ice sheet break off.&amp;nbsp\; We need to r
 educe CO&amp;nbsp\;&lt;sub&gt;2&amp;nbsp\;&lt;/sub&gt;emissions now or swim later. &amp;ldquo\;A s
 titch in time saves nine.&amp;rdquo\; &amp;nbsp\;The COVID &amp;ldquo\;stay in place&amp;r
 dquo\; restriction with reduced travel also lowered greenhouse gas emissio
 ns as much as 17%. Wearing masks and physical distancing is critical to sa
 ving lives and our economy.&amp;nbsp\;&lt;/p&gt;\n&lt;p&gt;Government funding to deal with
  COVID unemployment could reduce climate change. Grants for more energy ef
 ficient residences and businesses would create jobs for contractors. Simil
 ar funding could expedite the deployment of next generation small modular 
 nuclear reactors. They are safer with half the construction cost.&amp;nbsp\;A 
 MIT study showed that a reactor buildup could de-carbonize electricity gen
 eration in 30 years. A carbon fee plus dividend could reduce carbon emissi
 ons without increasing the US national debt. &amp;nbsp\;&amp;nbsp\;&lt;/p&gt;
END:VEVENT
END:VCALENDAR

