BEGIN:VCALENDAR
VERSION:2.0
PRODID:IEEE vTools.Events//EN
CALSCALE:GREGORIAN
BEGIN:VTIMEZONE
TZID:America/Buenos_Aires
BEGIN:DAYLIGHT
DTSTART:20380119T001407
TZOFFSETFROM:-0300
TZOFFSETTO:-0300
RRULE:FREQ=YEARLY;BYDAY=3TU;BYMONTH=1
TZNAME:-03
END:DAYLIGHT
BEGIN:STANDARD
DTSTART:20090314T230000
TZOFFSETFROM:-0200
TZOFFSETTO:-0300
RRULE:FREQ=YEARLY;BYDAY=2SA;BYMONTH=3
TZNAME:-03
END:STANDARD
END:VTIMEZONE
BEGIN:VEVENT
DTSTAMP:20201203T225025Z
UID:6487E15E-724C-4615-B434-5D98FC86CD3B
DTSTART;TZID=America/Buenos_Aires:20201127T180000
DTEND;TZID=America/Buenos_Aires:20201127T190000
DESCRIPTION:Seminarios mensuales sobre comunicaciones brindados por profesi
 onales en Argentina. Se realizan en idioma castellano y son abiertos.\n\nC
 o-sponsored by: Univerisdad de Buenos Aires\, Facultad de Ingeniería\n\nS
 peaker(s): Dr. Ing. J. Igancio Alvarez-Hamelin\, \n\nAgenda: \n18:00 Prese
 ntación a cargo de José Ignacio Alvarez-Hamelin (ComSoc Argentina Chair)
 \n\n18:05 De los Proveedores de Información al usuario: ¿cómo funciona 
 Internet? (J. Ignacio Alvarez-Hamelin)\n\n18:50 Preguntas y comentarios\n\
 nPaseo Colon 850\, Buenos Aires\, Distrito Federal\, Argentina\, C1063ACV\
 , Virtual: https://events.vtools.ieee.org/m/247633
LOCATION:Paseo Colon 850\, Buenos Aires\, Distrito Federal\, Argentina\, C1
 063ACV\, Virtual: https://events.vtools.ieee.org/m/247633
ORGANIZER:ihameli@ieee.org
SEQUENCE:7
SUMMARY:IEEE ComSoc Argentina Open Webinar
URL;VALUE=URI:https://events.vtools.ieee.org/m/247633
X-ALT-DESC:Description: &lt;br /&gt;&lt;p&gt;Seminarios mensuales sobre comunicaciones 
 brindados por profesionales en Argentina. Se realizan en idioma castellano
  y son abiertos.&lt;/p&gt;&lt;br /&gt;&lt;br /&gt;Agenda: &lt;br /&gt;&lt;p&gt;18:00 Presentaci&amp;oacute\;
 n a cargo de Jos&amp;eacute\; Ignacio Alvarez-Hamelin (ComSoc Argentina Chair)
 &lt;/p&gt;\n&lt;p&gt;18:05&amp;nbsp\;&lt;strong&gt;De los Proveedores de Informaci&amp;oacute\;n al 
 usuario: &amp;iquest\;c&amp;oacute\;mo funciona Internet?&amp;nbsp\;&lt;/strong&gt;(J. Ignac
 io Alvarez-Hamelin)&lt;/p&gt;\n&lt;p&gt;18:50 Preguntas y comentarios&lt;/p&gt;
END:VEVENT
END:VCALENDAR

