BEGIN:VCALENDAR
VERSION:2.0
PRODID:IEEE vTools.Events//EN
CALSCALE:GREGORIAN
BEGIN:VTIMEZONE
TZID:US/Eastern
BEGIN:DAYLIGHT
DTSTART:20210314T030000
TZOFFSETFROM:-0500
TZOFFSETTO:-0400
RRULE:FREQ=YEARLY;BYDAY=2SU;BYMONTH=3
TZNAME:EDT
END:DAYLIGHT
BEGIN:STANDARD
DTSTART:20201101T010000
TZOFFSETFROM:-0400
TZOFFSETTO:-0500
RRULE:FREQ=YEARLY;BYDAY=1SU;BYMONTH=11
TZNAME:EST
END:STANDARD
END:VTIMEZONE
BEGIN:VEVENT
DTSTAMP:20201208T215459Z
UID:46A59B1C-6E6F-42DF-9594-B3A6544BA544
DTSTART;TZID=US/Eastern:20201208T110000
DTEND;TZID=US/Eastern:20201208T120000
DESCRIPTION:FREE Webinar\n\nTraditional software reliability growth models 
 enable quantitative assessment of the software testing process by characte
 rizing defect detection in terms of testing time or effort. However\, the 
 majority of these parametric models do not identify specific testing activ
 ities underlying defect discovery and thus can only provide general guidan
 ce on how to incrementally allocate effort. This talk presents a non-homog
 eneous Poisson process software reliability growth model incorporating cov
 ariates based on the discrete Cox proportional hazards model\, which expli
 citly links test activities to defect discovery. Efficient and stable expe
 ctation conditional maximization algorithms are derived to estimate the nu
 merical parameters of a model that best characterize the failure data coll
 ected during testing. An optimal test activity allocation problem is formu
 lated to maximize defects discovered\, so that they can be corrected prior
  to release. An overview of the Covariate Software Failure and Reliability
  Assessment Tool (C-SFRAT) will also be provided.\n\nSpeaker(s): Lance Fio
 ndella\, \n\nAgenda: \n11:00 AM Technical Presentation\n\n12:00 PM Adjourn
 ment\n\nVirtual: https://events.vtools.ieee.org/m/247948
LOCATION:Virtual: https://events.vtools.ieee.org/m/247948
ORGANIZER:michael.bannan@ieee.org
SEQUENCE:4
SUMMARY:Webinar - Covariate Software Reliability Models and Applications
URL;VALUE=URI:https://events.vtools.ieee.org/m/247948
X-ALT-DESC:Description: &lt;br /&gt;&lt;p&gt;&lt;strong&gt;&lt;em&gt;FREE Webinar&lt;/em&gt;&lt;/strong&gt;&lt;/p&gt;
 \n&lt;p&gt;Traditional software reliability growth models enable quantitative as
 sessment of the software testing process by characterizing defect detectio
 n in terms of testing time or effort. However\, the majority of these para
 metric models do not identify specific testing activities underlying defec
 t discovery and thus can only provide general guidance on how to increment
 ally allocate effort. This talk presents a non-homogeneous Poisson process
  software reliability growth model incorporating covariates based on the d
 iscrete Cox proportional hazards model\, which explicitly links test activ
 ities to defect discovery. Efficient and stable expectation conditional ma
 ximization algorithms are derived to estimate the numerical parameters of 
 a model that best characterize the failure data collected during testing. 
 An optimal test activity allocation problem is formulated to maximize defe
 cts discovered\, so that they can be corrected prior to release. An overvi
 ew of the Covariate Software Failure and Reliability Assessment Tool (C-SF
 RAT) will also be provided.&lt;/p&gt;&lt;br /&gt;&lt;br /&gt;Agenda: &lt;br /&gt;&lt;p&gt;1&lt;strong&gt;1:00 
 AM&lt;/strong&gt;&amp;nbsp\;&amp;nbsp\;&amp;nbsp\;Technical Presentation&lt;/p&gt;\n&lt;p&gt;&lt;strong&gt;12:
 00 PM&lt;/strong&gt;&amp;nbsp\;&amp;nbsp\;&amp;nbsp\;Adjournment&lt;/p&gt;
END:VEVENT
END:VCALENDAR

