BEGIN:VCALENDAR
VERSION:2.0
PRODID:IEEE vTools.Events//EN
CALSCALE:GREGORIAN
BEGIN:VTIMEZONE
TZID:Canada/Atlantic
BEGIN:DAYLIGHT
DTSTART:20210314T030000
TZOFFSETFROM:-0400
TZOFFSETTO:-0300
RRULE:FREQ=YEARLY;BYDAY=2SU;BYMONTH=3
TZNAME:ADT
END:DAYLIGHT
BEGIN:STANDARD
DTSTART:20201101T010000
TZOFFSETFROM:-0300
TZOFFSETTO:-0400
RRULE:FREQ=YEARLY;BYDAY=1SU;BYMONTH=11
TZNAME:AST
END:STANDARD
END:VTIMEZONE
BEGIN:VEVENT
DTSTAMP:20201121T202719Z
UID:0D2E533C-D65E-40B6-A75D-F47289E6816E
DTSTART;TZID=Canada/Atlantic:20201119T064500
DTEND;TZID=Canada/Atlantic:20201119T074500
DESCRIPTION:CAS AGM Technical Talk\n\nSpeaker(s): Dr. Antonio Moran\, \n\nH
 alifax\, Nova Scotia\, Canada\, Virtual: https://events.vtools.ieee.org/m/
 248164
LOCATION:Halifax\, Nova Scotia\, Canada\, Virtual: https://events.vtools.ie
 ee.org/m/248164
ORGANIZER:macdonaldcaleb2@gmail.com
SEQUENCE:1
SUMMARY:Design of Autonomous and Intelligent Systems Using Deep Fuzzy-Neura
 l Networks
URL;VALUE=URI:https://events.vtools.ieee.org/m/248164
X-ALT-DESC:Description: &lt;br /&gt;&lt;div&gt;&lt;span style=&quot;font-family: verdana\, gene
 va\, sans-serif\;&quot;&gt;&lt;span style=&quot;font-size: 16px\;&quot;&gt;CAS AGM Technical Talk&lt;
 /span&gt;&lt;/span&gt;&lt;/div&gt;
END:VEVENT
END:VCALENDAR

