BEGIN:VCALENDAR
VERSION:2.0
PRODID:IEEE vTools.Events//EN
CALSCALE:GREGORIAN
BEGIN:VTIMEZONE
TZID:Europe/Stockholm
BEGIN:DAYLIGHT
DTSTART:20210328T030000
TZOFFSETFROM:+0100
TZOFFSETTO:+0200
RRULE:FREQ=YEARLY;BYDAY=-1SU;BYMONTH=3
TZNAME:CEST
END:DAYLIGHT
BEGIN:STANDARD
DTSTART:20201025T020000
TZOFFSETFROM:+0200
TZOFFSETTO:+0100
RRULE:FREQ=YEARLY;BYDAY=-1SU;BYMONTH=10
TZNAME:CET
END:STANDARD
END:VTIMEZONE
BEGIN:VEVENT
DTSTAMP:20201214T155406Z
UID:7138ECCD-C4D8-43D6-A307-2D6DAA0A5506
DTSTART;TZID=Europe/Stockholm:20201208T150000
DTEND;TZID=Europe/Stockholm:20201208T160000
DESCRIPTION:Prof. Philippe Tassin (Chalmers) and Prof. Qin Wang (RISE/KTH) 
 will give an introduction to metamaterials and its applications to IR dete
 ction/sensing.\n\nThe webinar will be using Zoom as a meeting tool and a Z
 oom link will be provided after your registration and latest 24 hour befor
 e the meeting. The deadline for registration is 6-Dec-2020 and the number 
 of participants is limited to 250 people.\n\nSpeaker(s): Philippe Tassin\,
  Prof. Qin Wang\n\nAgenda: \n15:00 Introduction\, Dr. Arne Alping (IEEE)\n
 15:10 “Metamaterials: optical properties beyond natural materials”\, P
 rof. Philippe Tassin (Chalmers)\n15:30 “Metamaterials for IR detection/s
 ensing applications”\, Prof. Qin Wang (RISE/KTH)\n15:50 Wrap-up &amp; additi
 onal Q&amp;A\n\nGothenburg\, Vastra Gotalands lan\, Sweden\, Virtual: https://
 events.vtools.ieee.org/m/248279
LOCATION:Gothenburg\, Vastra Gotalands lan\, Sweden\, Virtual: https://even
 ts.vtools.ieee.org/m/248279
ORGANIZER:arne.alping@ieee.com
SEQUENCE:8
SUMMARY:Metamaterials for Photonics
URL;VALUE=URI:https://events.vtools.ieee.org/m/248279
X-ALT-DESC:Description: &lt;br /&gt;&lt;p&gt;&lt;strong&gt;Prof. Philippe Tassin&lt;/strong&gt; (Ch
 almers) and &lt;strong&gt;Prof. Qin Wang&lt;/strong&gt; (RISE/KTH) will give an introd
 uction to metamaterials and its applications to&amp;nbsp\;IR detection/sensing
 .&lt;/p&gt;\n&lt;p&gt;The webinar will be using Zoom as a meeting tool and a&amp;nbsp\;Zoo
 m link will be provided after your registration and latest 24 hour before 
 the meeting. The deadline for registration is 6-Dec-2020 and the number of
  participants is limited to 250 people.&lt;/p&gt;&lt;br /&gt;&lt;br /&gt;Agenda: &lt;br /&gt;&lt;p&gt;15
 :00 Introduction\, Dr. Arne Alping (IEEE)&lt;br /&gt; 15:10 &amp;ldquo\;&lt;strong&gt;Meta
 materials: optical properties beyond natural materials&lt;/strong&gt;&amp;rdquo\;\, 
 Prof. Philippe Tassin (Chalmers)&lt;br /&gt; 15:30&amp;nbsp\;&amp;ldquo\;&lt;strong&gt;Metamat
 erials for IR detection/sensing applications&lt;/strong&gt;&amp;rdquo\;\, Prof. Qin 
 Wang (RISE/KTH)&lt;br /&gt; 15:50 Wrap-up &amp;amp\; additional Q&amp;amp\;A&lt;/p&gt;
END:VEVENT
END:VCALENDAR

