BEGIN:VCALENDAR
VERSION:2.0
PRODID:IEEE vTools.Events//EN
CALSCALE:GREGORIAN
BEGIN:VEVENT
DTSTAMP:20210105T003949Z
UID:A10978D8-9933-461A-A0D3-C8685BDE2192
DTSTART;TZID=Etc/GMT-5:20201216T100000
DTEND;TZID=Etc/GMT-5:20201216T110000
DESCRIPTION:IEEE distinguished speaker\n\nCo-sponsored by: Professor Mojtab
 a Kahrizi-Concordia University\n\nSpeaker(s): Manoj Saxena\, \n\nVirtual: 
 https://events.vtools.ieee.org/m/248499
LOCATION:Virtual: https://events.vtools.ieee.org/m/248499
ORGANIZER:mojtaba.kahrizi@concordia.ca
SEQUENCE:3
SUMMARY:Modeling and Simulation of Robust Ultrasensitive Tunnel Field Effec
 t Transistor Design for Biosensing Applications
URL;VALUE=URI:https://events.vtools.ieee.org/m/248499
X-ALT-DESC:Description: &lt;br /&gt;&lt;p&gt;IEEE distinguished speaker&lt;/p&gt;
END:VEVENT
END:VCALENDAR

