BEGIN:VCALENDAR
VERSION:2.0
PRODID:IEEE vTools.Events//EN
CALSCALE:GREGORIAN
BEGIN:VTIMEZONE
TZID:CET
BEGIN:DAYLIGHT
DTSTART:20210328T030000
TZOFFSETFROM:+0100
TZOFFSETTO:+0200
RRULE:FREQ=YEARLY;BYDAY=-1SU;BYMONTH=3
TZNAME:CEST
END:DAYLIGHT
BEGIN:STANDARD
DTSTART:20201025T020000
TZOFFSETFROM:+0200
TZOFFSETTO:+0100
RRULE:FREQ=YEARLY;BYDAY=-1SU;BYMONTH=10
TZNAME:CET
END:STANDARD
END:VTIMEZONE
BEGIN:VEVENT
DTSTAMP:20201222T094447Z
UID:56BBE8BF-6376-4BEF-B0B7-593C6EE0B0E4
DTSTART;TZID=CET:20201209T183000
DTEND;TZID=CET:20201209T193000
DESCRIPTION:Vabljeni na dogodek &quot;Dan IEEE&quot;\, ki bo 9. decembra 2020 ob 18:3
 0 v MS Teams.\n\nProgram dogodka:\n\n- [IEEE](https://www.ieee.si/) (splo
 šno in o slovenski sekciji) - izr. prof. dr. Aleš Zamuda\n- pregled neka
 terih organizacijskih enot IEEE Slovenija\n\n- odbor Computational Intelli
 gence Society (CIS)\, skupina Young Professionals (YP) - izr. prof. dr. Al
 eš Zamuda\n- odbor Geoscience &amp; Remote Sensing Society - izr. prof. dr. P
 eter Planinšič\n- skupina Women in Engineering (WiE) - asist. Lucija Bre
 zočnik\n- priložnosti študentske veje University of Maribor IEEE Studen
 t Branch (UM IEEE SB) in YP (tekmovanje študentskih prispevkov na ERK\, S
 PCR8) - asist. Jani Dugonik\, izr. prof. dr. Peter Planinšič\n- predstav
 itev nekaterih uspehov študentov na SPCR8 - Vid Keršič\, Kristjan Stopa
 r\n- novost - tekmovanje IEEEXtreme - izr. prof. dr. Aleš Zamuda\, asist.
  Jani Dugonik\, izr. prof. dr. Peter Planinšič\n\nVljudno vabljeni.\n\nO
 rganizacijski odbor dogodka:\nizr. prof. dr. Aleš Zamuda\, podpredsednik 
 IEEE-SI\, predsednik IEEE-SI CIS\, nekdanji predsednik IEEE-SI YP\nizr. pr
 of. dr. Peter Planinšič\, predsednik IEEE-SI GRSS\, mentor UM IEEE-SI SB
 \nasist. Jani Dugonik\, predsednik UM IEEE-SI SB\, podpredsednik IEEE-SI Y
 P\nasist. Lucija Brezočnik\, predsednica IEEE-SI WiE\n\nMedijski sponzorj
 i:\n\n- Univerza v Mariboru\, Fakulteta za elektrotehniko\, računalništv
 o (UM FERI)\n- Tutorji FERI\n\nCo-sponsored by: University of Maribor\, Fa
 culty of Electrical Engineering and Computer Science\n\nAgenda: \nP R O G 
 R A M\n\nSreda\, 9. 12. 2020\n\n18:30 - 18:35 Splošno o IEEE in IEEE Slov
 enia Section ([Aleš Zamuda](mailto:ales.zamuda@um.si))\n\n18:35 - 18:45 O
 dbor CH08873: Computational Intelligence Society Chapter ([Aleš Zamuda](m
 ailto:ales.zamuda@um.si))\n\n18:45 - 18:55 Skupina GD80067: Young Professi
 onals ([Aleš Zamuda](mailto:ales.zamuda@um.si))\n\n18:55 - 19:20 Odbor Ge
 oscience &amp; Remote Sensing Society ([Peter Planinšič](mailto:peter.planin
 sic@um.si))\n\n19:20 - 19:30 Skupina Women in Engineering ([Lucija Brezoč
 nik](mailto:lucija.brezocnik@um.si))\n\n19:30 - 19:40 Priložnosti študen
 tske veje University of Maribor IEEE Student Branch (UM IEEE SB) in YP (te
 kmovanje študentskih prispevkov na ERK\, SPCR8) ([Jani Dugonik](mailto:ja
 ni.dugonik@um.si)\, [Peter Planinšič](mailto:peter.planinsic@um.si))\n\n
 19:40 - 19:50 Predstavitev nekaterih uspehov študentov na SPCR8 (Vid Ker
 šič\, Kristjan Stopar)\n\n19:50 - 20:00 Tekmovanje IEEEXtreme 15.0 ([Ale
 š Zamuda](mailto:ales.zamuda@um.si))\n\nVirtual: https://events.vtools.ie
 ee.org/m/248759
LOCATION:Virtual: https://events.vtools.ieee.org/m/248759
ORGANIZER:ales.zamuda@um.si
SEQUENCE:9
SUMMARY:Dan IEEE
URL;VALUE=URI:https://events.vtools.ieee.org/m/248759
X-ALT-DESC:Description: &lt;br /&gt;&lt;p&gt;&lt;span style=&quot;font-family: verdana\, geneva
 \, sans-serif\; font-size: 12pt\; color: #000000\;&quot;&gt;Vabljeni na dogodek &quot;&lt;
 strong&gt;Dan IEEE&lt;/strong&gt;&quot;\, ki bo 9. decembra 2020 ob 18:30 v MS Teams.&lt;br
  /&gt; &lt;/span&gt;&lt;/p&gt;\n&lt;p&gt;&lt;span style=&quot;font-family: verdana\, geneva\, sans-seri
 f\; font-size: 12pt\; color: #000000\;&quot;&gt;&lt;br /&gt;Program dogodka: &lt;br /&gt; &lt;br 
 /&gt;&lt;/span&gt;&lt;/p&gt;\n&lt;ul&gt;\n&lt;li&gt;&lt;span style=&quot;font-family: verdana\, geneva\, sans
 -serif\; font-size: 12pt\; color: #000000\;&quot;&gt;&lt;a href=&quot;https://www.ieee.si/
 &quot;&gt;IEEE&lt;/a&gt; (splo&amp;scaron\;no in o slovenski&amp;nbsp\;sekciji) - izr. prof. dr.
  Ale&amp;scaron\; Zamuda&lt;/span&gt;&lt;/li&gt;\n&lt;li&gt;&lt;span style=&quot;font-family: verdana\, 
 geneva\, sans-serif\; font-size: 12pt\; color: #000000\;&quot;&gt;pregled nekateri
 h&amp;nbsp\;organizacijskih&amp;nbsp\;enot IEEE Slovenija&lt;br /&gt;&lt;/span&gt;&lt;/li&gt;\n&lt;ul&gt;\
 n&lt;li&gt;&lt;span style=&quot;font-family: verdana\, geneva\, sans-serif\; font-size: 
 12pt\; color: #000000\;&quot;&gt;odbor Computational Intelligence Society (CIS)\, 
 skupina&amp;nbsp\;Young Professionals (YP) - izr. prof. dr. Ale&amp;scaron\; Zamud
 a&lt;/span&gt;&lt;/li&gt;\n&lt;li&gt;&lt;span style=&quot;font-family: verdana\, geneva\, sans-serif
 \; font-size: 12pt\; color: #000000\;&quot;&gt;odbor Geoscience &amp;amp\; Remote Sens
 ing Society -&amp;nbsp\;izr. prof. dr. Peter Planin&amp;scaron\;ič&lt;/span&gt;&lt;/li&gt;\n&lt;
 li&gt;&lt;span style=&quot;font-family: verdana\, geneva\, sans-serif\; font-size: 12
 pt\; color: #000000\;&quot;&gt;skupina Women in Engineering (WiE) - asist. Lucija 
 Brezočnik&lt;/span&gt;&lt;/li&gt;\n&lt;/ul&gt;\n&lt;li&gt;&lt;span style=&quot;font-family: verdana\, gen
 eva\, sans-serif\; font-size: 12pt\; color: #000000\;&quot;&gt;priložnosti &amp;scaro
 n\;tudentske veje University of Maribor IEEE Student Branch (UM IEEE SB) i
 n YP (tekmovanje &amp;scaron\;tudentskih prispevkov na ERK\, SPCR8) - asist. J
 ani Dugonik\, izr. prof. dr. Peter Planin&amp;scaron\;ič&lt;/span&gt;&lt;/li&gt;\n&lt;li&gt;&lt;sp
 an style=&quot;font-family: verdana\, geneva\, sans-serif\; font-size: 12pt\; c
 olor: #000000\;&quot;&gt;predstavitev nekaterih uspehov&amp;nbsp\;&amp;scaron\;tudentov na
  SPCR8 - Vid Ker&amp;scaron\;ič\, Kristjan Stopar&lt;/span&gt;&lt;/li&gt;\n&lt;li&gt;&lt;span styl
 e=&quot;font-family: verdana\, geneva\, sans-serif\; font-size: 12pt\; color: #
 000000\;&quot;&gt;novost - tekmovanje&amp;nbsp\;IEEEXtreme - izr. prof. dr. Ale&amp;scaron
 \; Zamuda\, asist. Jani Dugonik\, izr. prof. dr. Peter Planin&amp;scaron\;ič 
 &lt;/span&gt;&lt;/li&gt;\n&lt;/ul&gt;\n&lt;p&gt;&lt;span style=&quot;font-family: verdana\, geneva\, sans-
 serif\; font-size: 12pt\; color: #000000\;&quot;&gt; &lt;br /&gt;&lt;/span&gt;&lt;/p&gt;\n&lt;p&gt;&lt;span s
 tyle=&quot;font-family: verdana\, geneva\, sans-serif\; font-size: 12pt\; color
 : #000000\;&quot;&gt;Vljudno vabljeni.&lt;br /&gt; &lt;/span&gt;&lt;/p&gt;\n&lt;p&gt;&lt;span style=&quot;font-fam
 ily: verdana\, geneva\, sans-serif\; font-size: 12pt\; color: #000000\;&quot;&gt;&lt;
 br /&gt;Organizacijski odbor dogodka: &lt;br /&gt;izr. prof. dr. Ale&amp;scaron\; Zamud
 a\, podpredsednik IEEE-SI\, predsednik IEEE-SI CIS\, nekdanji predsednik I
 EEE-SI YP&lt;br /&gt;izr. prof. dr. Peter Planin&amp;scaron\;ič\, predsednik IEEE-S
 I GRSS\, mentor UM IEEE-SI SB&lt;br /&gt;asist. Jani Dugonik\, predsednik UM IEE
 E-SI SB\, podpredsednik IEEE-SI YP&lt;br /&gt;asist. Lucija Brezočnik\, predsed
 nica IEEE-SI WiE&lt;/span&gt;&lt;/p&gt;\n&lt;p&gt;&lt;span style=&quot;font-family: verdana\, geneva
 \, sans-serif\; font-size: 12pt\; color: #000000\;&quot;&gt;&amp;nbsp\;&lt;/span&gt;&lt;/p&gt;\n&lt;p
 &gt;&lt;span style=&quot;font-family: verdana\, geneva\, sans-serif\; font-size: 12pt
 \; color: #000000\;&quot;&gt;Medijski sponzorji:&lt;/span&gt;&lt;/p&gt;\n&lt;ul&gt;\n&lt;li&gt;&lt;span style
 =&quot;font-family: verdana\, geneva\, sans-serif\; font-size: 12pt\; color: #0
 00000\;&quot;&gt;Univerza v Mariboru\, Fakulteta za elektrotehniko\, računalni&amp;sc
 aron\;tvo (UM FERI)&lt;/span&gt;&lt;/li&gt;\n&lt;li&gt;&lt;span style=&quot;font-family: verdana\, g
 eneva\, sans-serif\; font-size: 12pt\; color: #000000\;&quot;&gt;Tutorji FERI&lt;/spa
 n&gt;&lt;/li&gt;\n&lt;/ul&gt;&lt;br /&gt;&lt;br /&gt;Agenda: &lt;br /&gt;&lt;p&gt;&lt;strong&gt;&lt;span style=&quot;font-famil
 y: verdana\, geneva\, sans-serif\; font-size: 12pt\; color: #000000\;&quot;&gt;P R
  O G R A M&lt;/span&gt;&lt;/strong&gt;&lt;/p&gt;\n&lt;p&gt;&lt;span style=&quot;font-family: verdana\, gen
 eva\, sans-serif\; font-size: 12pt\; color: #000000\;&quot;&gt;&lt;span style=&quot;text-d
 ecoration: underline\;&quot;&gt;Sreda\, 9. 12. 2020&lt;/span&gt;&lt;br /&gt;&lt;/span&gt;&lt;/p&gt;\n&lt;p&gt;&lt;s
 pan style=&quot;font-family: verdana\, geneva\, sans-serif\; font-size: 12pt\; 
 color: #000000\;&quot;&gt;18:30 - 18:35 &lt;strong&gt;Splo&amp;scaron\;no o IEEE in IEEE Slo
 venia Section&lt;/strong&gt; (&lt;a href=&quot;mailto:ales.zamuda@um.si&quot;&gt;Ale&amp;scaron\; Za
 muda&lt;/a&gt;)&lt;/span&gt;&lt;/p&gt;\n&lt;p&gt;&lt;span style=&quot;font-family: verdana\, geneva\, sans
 -serif\; font-size: 12pt\; color: #000000\;&quot;&gt;18:35 - 18:45 &lt;strong&gt;Odbor C
 H08873: Computational Intelligence Society Chapter&lt;/strong&gt; (&lt;a href=&quot;mail
 to:ales.zamuda@um.si&quot;&gt;Ale&amp;scaron\; Zamuda&lt;/a&gt;)&lt;/span&gt;&lt;/p&gt;\n&lt;p&gt;&lt;span style=
 &quot;font-family: verdana\, geneva\, sans-serif\; font-size: 12pt\; color: #00
 0000\;&quot;&gt;18:45 - 18:55 &lt;strong&gt;Skupina GD80067: Young Professionals&lt;/strong
 &gt; (&lt;a href=&quot;mailto:ales.zamuda@um.si&quot;&gt;Ale&amp;scaron\; Zamuda&lt;/a&gt;)&lt;/span&gt;&lt;/p&gt;\
 n&lt;p&gt;&lt;span style=&quot;font-family: verdana\, geneva\, sans-serif\; font-size: 1
 2pt\; color: #000000\;&quot;&gt;18:55 - 19:20 &lt;strong&gt;Odbor Geoscience &amp;amp\; Remo
 te Sensing Society&lt;/strong&gt; (&lt;a href=&quot;mailto:peter.planinsic@um.si&quot;&gt;Peter 
 Planin&amp;scaron\;ič&lt;/a&gt;)&lt;/span&gt;&lt;/p&gt;\n&lt;p&gt;&lt;span style=&quot;font-family: verdana\,
  geneva\, sans-serif\; font-size: 12pt\; color: #000000\;&quot;&gt;19:20 - 19:30 &lt;
 strong&gt;Skupina Women in Engineering&lt;/strong&gt; (&lt;a href=&quot;mailto:lucija.brezo
 cnik@um.si&quot;&gt;Lucija Brezočnik&lt;/a&gt;)&lt;/span&gt;&lt;/p&gt;\n&lt;p&gt;&lt;span style=&quot;font-family
 : verdana\, geneva\, sans-serif\; font-size: 12pt\; color: #000000\;&quot;&gt;19:3
 0 - 19:40 &lt;strong&gt;P&lt;/strong&gt;&lt;/span&gt;&lt;span style=&quot;font-family: verdana\, gen
 eva\, sans-serif\; font-size: 12pt\; color: #000000\;&quot;&gt;&lt;strong&gt;riložnosti
  &amp;scaron\;tudentske veje University of Maribor IEEE Student Branch (UM IEE
 E SB) in YP (tekmovanje &amp;scaron\;tudentskih prispevkov na ERK\, SPCR8)&lt;/st
 rong&gt; (&lt;a href=&quot;mailto:jani.dugonik@um.si&quot;&gt;Jani Dugonik&lt;/a&gt;\, &lt;a href=&quot;mai
 lto:peter.planinsic@um.si&quot;&gt;Peter Planin&amp;scaron\;ič&lt;/a&gt;)&lt;/span&gt;&lt;/p&gt;\n&lt;p&gt;&lt;s
 pan style=&quot;font-family: verdana\, geneva\, sans-serif\; font-size: 12pt\; 
 color: #000000\;&quot;&gt;19:40 - 19:50 &lt;strong&gt;P&lt;/strong&gt;&lt;/span&gt;&lt;span style=&quot;font
 -family: verdana\, geneva\, sans-serif\; font-size: 12pt\; color: #000000\
 ;&quot;&gt;&lt;strong&gt;redstavitev nekaterih uspehov&amp;nbsp\;&amp;scaron\;tudentov na SPCR8&lt;
 /strong&gt; (Vid Ker&amp;scaron\;ič\, Kristjan Stopar)&lt;/span&gt;&lt;/p&gt;\n&lt;p&gt;&lt;span styl
 e=&quot;font-family: verdana\, geneva\, sans-serif\; font-size: 12pt\; color: #
 000000\;&quot;&gt;19:50 - 20:00&lt;strong&gt; Tekmovanje&amp;nbsp\;IEEEXtreme 15.0&lt;/strong&gt; 
 (&lt;a href=&quot;mailto:ales.zamuda@um.si&quot;&gt;Ale&amp;scaron\; Zamuda&lt;/a&gt;) &lt;/span&gt;&lt;/p&gt;
END:VEVENT
END:VCALENDAR

