BEGIN:VCALENDAR
VERSION:2.0
PRODID:IEEE vTools.Events//EN
CALSCALE:GREGORIAN
BEGIN:VTIMEZONE
TZID:CET
BEGIN:DAYLIGHT
DTSTART:20210328T030000
TZOFFSETFROM:+0100
TZOFFSETTO:+0200
RRULE:FREQ=YEARLY;BYDAY=-1SU;BYMONTH=3
TZNAME:CEST
END:DAYLIGHT
BEGIN:STANDARD
DTSTART:20201025T020000
TZOFFSETFROM:+0200
TZOFFSETTO:+0100
RRULE:FREQ=YEARLY;BYDAY=-1SU;BYMONTH=10
TZNAME:CET
END:STANDARD
END:VTIMEZONE
BEGIN:VEVENT
DTSTAMP:20201120T190247Z
UID:DDC77061-D278-4DF4-AD9E-3BC21FCB88AD
DTSTART;TZID=CET:20201201T153000
DTEND;TZID=CET:20201201T170000
DESCRIPTION:Abstract of the talk: The network slicing is relatively a new c
 oncept that allows for the creation of multiple network and service instan
 ces over a shared infrastructure. There are numerous benefits of the netwo
 rk slicing approach: the network slices can be deployed quickly\, and slic
 e tenants do not need to have the infrastructure to define their solutions
 . Moreover\, each network slice can be appropriately tailored to its servi
 ce(s). In the talk\, the concepts\, standardization efforts (3GPP\, ITU-T\
 , ETSI) and open issues related to network slicing will be presented. The 
 talk will deal with architectural approaches\, management and orchestratio
 ns issues (scalability) and AI usage. I will also discuss the technical li
 mitation of current approaches in the context of a new business model and 
 outline the necessary modifications of the current approaches.\n\nSpeaker(
 s): Dr Sławomir Kukliński \, \n\nVirtual: https://events.vtools.ieee.org
 /m/248767
LOCATION:Virtual: https://events.vtools.ieee.org/m/248767
ORGANIZER:diomidis.michalopoulos@nokia-bell-labs.com
SEQUENCE:1
SUMMARY:IEEE ComSoc Industrial Talk: Network Slicing - concepts\, standardi
 zation\, open issues
URL;VALUE=URI:https://events.vtools.ieee.org/m/248767
X-ALT-DESC:Description: &lt;br /&gt;&lt;p&gt;Abstract of the talk: The network slicing 
 is relatively a new concept that allows for the creation of multiple netwo
 rk and service instances over a shared infrastructure. There are numerous 
 benefits of the network slicing approach: the network slices can be deploy
 ed quickly\, and slice tenants do not need to have the infrastructure to d
 efine their solutions. Moreover\, each network slice can be appropriately 
 tailored to its service(s). In the talk\, the concepts\, standardization e
 fforts (3GPP\, ITU-T\, ETSI) and open issues related to network slicing wi
 ll be presented. The talk will deal with architectural approaches\, manage
 ment and orchestrations issues (scalability) and AI usage. I will also dis
 cuss the technical limitation of current approaches in the context of a ne
 w business model and outline the necessary modifications of the current ap
 proaches.&lt;/p&gt;
END:VEVENT
END:VCALENDAR

