BEGIN:VCALENDAR
VERSION:2.0
PRODID:IEEE vTools.Events//EN
CALSCALE:GREGORIAN
BEGIN:VTIMEZONE
TZID:US/Eastern
BEGIN:DAYLIGHT
DTSTART:20210314T030000
TZOFFSETFROM:-0500
TZOFFSETTO:-0400
RRULE:FREQ=YEARLY;BYDAY=2SU;BYMONTH=3
TZNAME:EDT
END:DAYLIGHT
BEGIN:STANDARD
DTSTART:20201101T010000
TZOFFSETFROM:-0400
TZOFFSETTO:-0500
RRULE:FREQ=YEARLY;BYDAY=1SU;BYMONTH=11
TZNAME:EST
END:STANDARD
END:VTIMEZONE
BEGIN:VEVENT
DTSTAMP:20210712T043706Z
UID:F2117282-48CD-45C8-9331-F77284707D5E
DTSTART;TZID=US/Eastern:20201212T090000
DTEND;TZID=US/Eastern:20201212T103000
DESCRIPTION:Spread the awareness\, NOT the Virus.\n\nCoronavirus Seminar Se
 ries addresses different aspects of the coronavirus pandemic\, bringing to
 gether experts to discuss the causes and consequences of this global pande
 mic.\n\nThe seminars aim to provide our community and the public with stat
 e-of-the-science information about the pandemic and the role of Telemedici
 ne and AI in this panademic.The experts will provide international vision 
 and forward-looking insights to inspire thoughts and enlighten ideas.\n\nS
 peaker(s): Dr Happy Sithole\, Dr Dharam Sing Jat\n\nAgenda: \nDiscussion o
 n the topic :\n\nRole of Telemedicine and AI in COVID-19 Pandemic. Main ai
 m of the seminar is to &#39;Spread the awareness\, NOT the Virus&#39;.\n\nWelcome 
 Message:\n\nWelcome Address by Er S.S. Mundi FIE\, Chairman\, The Institut
 ion of Engineers (India)\, Punjab &amp; Chandigarh State Centre\n\nIntroductio
 n:\n\nIntroduction about IEEE by Dr Harpreet Singh\, President LAG Group M
 ichigan IEEE\, Professor in Electrical &amp; Computer Engineering\, Wayne Stat
 e University\, MI\, USA\n\nLectures:\n\nDr Happy Sithole\, Center Manager:
  National Integrated Cyber - Infrastructure System (NICIS)\, South Africa\
 nTopic: Technology infrastructure and data ecosystem challenges during Cov
 id-19\nDr Sithole will outline the current challenges in the data ecosyste
 m and the technology infrastructure that are relevant to COVID-19. The inf
 rastructure includes registries and clinical data networks to support popu
 lation-level analysis.\n\nDr Dharam Jat\, Professor\, Faculty of Computing
  &amp; Informatics\, Namibia Univeristy of Science &amp; Technology\nTopic: How AI
  play vital role during covid-19 panademic\nAI applied to healthcare inclu
 des a collection of technologies that enable machines to sense\, interpret
 \, act\, and learn. With the evolution of data analytics whether applied t
 o big data\, population health\, practice-specific data\, or patient-speci
 fic data healthcare services will exponentially expand their ability to le
 verage artificial intelligence. This session addresses how IoT sensor data
  and connected health and related devices add a new layer of critical\, re
 al-time data that can transform healthcare functions into data-driven serv
 ices to improve health outcomes\, enable remote diagnostics\, and deliver 
 healthcare more efficiently.\n\nEr Yahsu Bether\, Director of Business\, I
 ntelligence and Data Analytics with Govt. Of Saskatshewan\, Canada\nTopic:
  Trending data and risk analysis of Covid panademic.\nIn this session\, Mr
  Bether will examine current COVID-19 data sets and explore what we can le
 arn about this panademic\, the data and how it can be applied to fight or 
 even prevent the next panademic. This session examines trending data on co
 nsumer familiarity\, use\, and demand for telehealth services and connecte
 d health devices. Also will address the increased risk of infection among 
 healthcare workers and other essential workers\n\nEr Bhupinder Mavi- Secre
 tary IEEE Michigan Group &amp; Vice-Chair IEEE LAG Group\nTopic: Role of Telem
 edicine and Remote Patient Monitoring during Covid-19 panademic\nThis sess
 ion will examine the evolving landscape of telemedicine\, virtual care \, 
 remote patient monitoring and provider education. COVID-19 placed unpreced
 ented pressure on health systems to rapidly embrace virtual care delivery.
  This panademic has reversed well-established consumer preferences for in-
 person visits over remote care. Mr Mavi will shed light on innovation from
  the pre to post COVID era and the growth of virtual care in healthcare.\n
 \nDr Baljit Khehra FIE\, Honorary Secretary\, The Instituion of Engineers 
 (India)\, Punjab &amp; Chandigarh State Centre\nTopic: Neural Network and Math
 ematical modelling played a central role in understanding transmissibility
  and serverity of Covid-19\nDr Khehra will provide an overview on how the 
 Artifical neural network and mathematical modelling has played a central r
 ole developing this understanding\, from estimating key early epidemiologi
 cal values such as outbreak size\, infection tranmissibility and severity 
 of resulting disease\, to evaluating the potential effectiveness of contro
 l measures\, including contact tracing and social distancing measures.\n\n
 Dr Amar Partap Singh Pharwaha\, Professor\, ECE SLIET\, Longowal\, Sangrur
 \, India\nTopic: Role of Soft Computing Technique and connected devices to
  handle covid panademic\nThis session addresses the role of connected heal
 th devices in advancing expanding the future of healthcare. The focal poin
 t of care moved away from the care facility and into the home\, where pati
 ents are encouraged to screen themselves for illness\, seek consultative c
 are remotely\, and recover from illness at home where possible. Care provi
 ders and health systems have leaned on telehealth consultations to make th
 is shift possible.\n\nThank you note\n\nVote of thanks by Prof. T.S Kamal 
 FIE\, Council Member IEI\n\nNovi\, Michigan\, United States\, 48375\, Virt
 ual: https://events.vtools.ieee.org/m/248981
LOCATION:Novi\, Michigan\, United States\, 48375\, Virtual: https://events.
 vtools.ieee.org/m/248981
ORGANIZER:bmavi@outlook.com
SEQUENCE:6
SUMMARY:International Seminar on &#39;Role of Telemedicine and AI in COVID-19 P
 andemic&#39;
URL;VALUE=URI:https://events.vtools.ieee.org/m/248981
X-ALT-DESC:Description: &lt;br /&gt;&lt;p&gt;&lt;span style=&quot;font-size: 14pt\;&quot;&gt;&lt;strong&gt;Sp
 read the awareness\, NOT the Virus.&lt;/strong&gt;&lt;/span&gt;&lt;/p&gt;\n&lt;p&gt;&lt;span style=&quot;f
 ont-size: 14pt\;&quot;&gt;Coronavirus Seminar Series addresses different aspects o
 f the coronavirus pandemic\, bringing together experts to discuss the caus
 es and consequences of this global pandemic.&lt;/span&gt;&lt;/p&gt;\n&lt;p&gt;&lt;br /&gt;&lt;span st
 yle=&quot;font-size: 14pt\;&quot;&gt;The seminars aim to provide our community and the 
 public with state-of-the-science information about the pandemic and the ro
 le of Telemedicine and AI in this panademic.The experts will provide inter
 national vision and forward-looking insights to inspire thoughts and enlig
 hten ideas.&lt;/span&gt;&lt;/p&gt;\n&lt;p&gt;&amp;nbsp\;&lt;/p&gt;&lt;br /&gt;&lt;br /&gt;Agenda: &lt;br /&gt;&lt;p&gt;&lt;strong
 &gt;Discussion on the topic :&lt;/strong&gt;&lt;/p&gt;\n&lt;p&gt;Role of Telemedicine and AI in
  COVID-19 Pandemic. Main aim of the seminar is to &#39;Spread the awareness\, 
 NOT the Virus&#39;.&lt;/p&gt;\n&lt;p&gt;&lt;strong&gt;Welcome Message:&lt;/strong&gt;&lt;/p&gt;\n&lt;p&gt;Welcome 
 Address by Er S.S. Mundi FIE\, Chairman\, The Institution of Engineers (In
 dia)\, Punjab &amp;amp\; Chandigarh State Centre&lt;/p&gt;\n&lt;p&gt;&lt;strong&gt;Introduction:
 &lt;/strong&gt;&lt;/p&gt;\n&lt;p&gt;Introduction about IEEE by Dr Harpreet Singh\, President
  LAG Group Michigan IEEE\, Professor in Electrical &amp;amp\; Computer Enginee
 ring\, Wayne State University\, MI\, USA&lt;/p&gt;\n&lt;p&gt;&lt;span style=&quot;text-decorat
 ion: underline\;&quot;&gt;&lt;strong&gt;Lectures:&lt;/strong&gt;&lt;/span&gt;&lt;/p&gt;\n&lt;p&gt;&lt;strong&gt;Dr Hap
 py Sithole\, Center Manager: National Integrated Cyber - Infrastructure Sy
 stem (NICIS)\, South Africa&lt;/strong&gt;&lt;br /&gt;&lt;strong&gt;Topic&lt;/strong&gt;&lt;strong&gt;:&lt;
 /strong&gt; &lt;em&gt;Technology infrastructure and data ecosystem challenges durin
 g Covid-19&lt;/em&gt;&lt;br /&gt;Dr Sithole will outline the current challenges in the
  data ecosystem and the technology infrastructure that are relevant to COV
 ID-19. The infrastructure includes registries and clinical data networks t
 o support population-level analysis.&amp;nbsp\;&lt;/p&gt;\n&lt;p&gt;&lt;strong&gt;Dr Dharam Jat\
 , Professor\, Faculty of Computing &amp;amp\; Informatics\, Namibia Univeristy
  of Science &amp;amp\; Technology&lt;/strong&gt;&lt;br /&gt;&lt;strong&gt;Topic: &lt;/strong&gt;&lt;em&gt;Ho
 w AI play vital role during covid-19 panademic&lt;/em&gt;&lt;br /&gt;AI applied to hea
 lthcare includes a collection of technologies that enable machines to sens
 e\, interpret\, act\, and learn. With the evolution of data analytics whet
 her applied to big data\, population health\, practice-specific data\, or 
 patient-specific data healthcare services will exponentially expand their 
 ability to leverage artificial intelligence. This session addresses how Io
 T sensor data and connected health and related devices add a new layer of 
 critical\, real-time data that can transform healthcare functions into dat
 a-driven services to improve health outcomes\, enable remote diagnostics\,
  and deliver healthcare more efficiently.&lt;/p&gt;\n&lt;p&gt;&lt;strong&gt;Er Yahsu Bether\
 , Director of Business\, Intelligence and Data Analytics with Govt. Of Sas
 katshewan\, Canada&lt;/strong&gt;&lt;br /&gt;&lt;strong&gt;Topic:&lt;/strong&gt; &lt;em&gt;Trending data
  and risk analysis of Covid panademic.&lt;/em&gt;&lt;br /&gt;In this session\, Mr Beth
 er will examine current COVID-19 data sets and explore what we can learn a
 bout this panademic\, the data and how it can be applied to fight or even 
 prevent the next panademic. This session examines trending data on consume
 r familiarity\, use\, and demand for telehealth services and connected hea
 lth devices. Also will address the increased risk of infection among healt
 hcare workers and other essential workers&lt;/p&gt;\n&lt;p&gt;&lt;strong&gt;Er Bhupinder Mav
 i- Secretary IEEE Michigan Group &amp;amp\; Vice-Chair IEEE LAG Group&lt;/strong&gt;
 &lt;br /&gt;&lt;strong&gt;Topic:&lt;/strong&gt; &lt;em&gt;Role of Telemedicine and Remote Patient 
 Monitoring during Covid-19 panademic&lt;/em&gt;&lt;br /&gt;This session will examine t
 he evolving landscape of telemedicine\, virtual care \, remote patient mon
 itoring and provider education. COVID-19 placed unprecedented pressure on 
 health systems to rapidly embrace virtual care delivery. This panademic ha
 s reversed well-established consumer preferences for in-person visits over
  remote care. Mr Mavi will shed light on innovation from the pre to post C
 OVID era and the growth of virtual care in healthcare.&lt;/p&gt;\n&lt;p&gt;&lt;strong&gt;Dr 
 Baljit Khehra FIE\, Honorary Secretary\, The Instituion of Engineers (Indi
 a)\, Punjab &amp;amp\; Chandigarh State Centre&lt;/strong&gt;&lt;br /&gt;&lt;strong&gt;Topic:&lt;/s
 trong&gt; &lt;em&gt;Neural Network and Mathematical modelling played a central role
  in understanding transmissibility and serverity of Covid-19&lt;/em&gt;&lt;br /&gt;Dr 
 Khehra will provide an overview on how the Artifical neural network and ma
 thematical modelling has played a central role developing this understandi
 ng\, from estimating key early epidemiological values such as outbreak siz
 e\, infection tranmissibility and severity of resulting disease\, to evalu
 ating the potential effectiveness of control measures\, including contact 
 tracing and social distancing measures.&lt;/p&gt;\n&lt;p&gt;&lt;strong&gt;Dr Amar &amp;nbsp\;Par
 tap Singh Pharwaha\, Professor\, ECE SLIET\, Longowal\, Sangrur\, India&lt;/s
 trong&gt;&lt;br /&gt;&lt;strong&gt;Topic:&lt;/strong&gt; &lt;em&gt;Role of Soft Computing Technique a
 nd connected devices to handle covid panademic&lt;/em&gt;&lt;br /&gt;This session addr
 esses the role of connected health devices in advancing expanding the futu
 re of healthcare. The focal point of care moved away from the care facilit
 y and into the home\, where patients are encouraged to screen themselves f
 or illness\, seek consultative care remotely\, and recover from illness at
  home where possible. Care providers and health systems have leaned on tel
 ehealth consultations to make this shift possible.&amp;nbsp\;&lt;/p&gt;\n&lt;p&gt;&lt;strong&gt;
 Thank you note&lt;/strong&gt;&lt;/p&gt;\n&lt;p&gt;Vote of thanks by Prof. T.S Kamal FIE\, Co
 uncil Member IEI&lt;/p&gt;\n&lt;p&gt;&amp;nbsp\;&lt;/p&gt;\n&lt;p&gt;&amp;nbsp\;&lt;/p&gt;
END:VEVENT
END:VCALENDAR

