BEGIN:VCALENDAR
VERSION:2.0
PRODID:IEEE vTools.Events//EN
CALSCALE:GREGORIAN
BEGIN:VTIMEZONE
TZID:MST
BEGIN:STANDARD
DTSTART:19671029T010000
TZOFFSETFROM:-0600
TZOFFSETTO:-0700
TZNAME:MST
END:STANDARD
END:VTIMEZONE
BEGIN:VEVENT
DTSTAMP:20210122T024747Z
UID:29E393EB-FC49-4BCB-A61A-9CDB81060AD9
DTSTART;TZID=MST:20210120T160000
DTEND;TZID=MST:20210120T163000
DESCRIPTION:Join us in welcoming companies from various engineering industr
 ies including power and energy\, tech\, construction\, and consulting. We&#39;
 ll host each company virtually in two slots from 4:00 PM to 5:30 PM and 5:
 30 PM to 7:00 PM.\n\nCompany representatives will have their own virtual m
 eetings set up\, using a platform of their choice. The links for each comp
 any meeting will be emailed out to all attendees closer to the event.\n\nT
 his is a great chance for students to network with industry professionals 
 and ask them questions regarding their work\, company\, and industry. Comp
 anies can meet budding engineers who can make a difference in their workpl
 ace\, and inspire them to work in their fields. There is no booth fee for 
 this event.\n\nThis year&#39;s event features representatives from IBM\, Worle
 y\, TransCanada\, Imperial\, Cenovus/Husky\, Rockwell Automation\, and Sta
 ntec.\n\nVirtual: https://events.vtools.ieee.org/m/249492
LOCATION:Virtual: https://events.vtools.ieee.org/m/249492
ORGANIZER:ieeeuofcsb@gmail.com
SEQUENCE:9
SUMMARY:2021 Industry Mixer 
URL;VALUE=URI:https://events.vtools.ieee.org/m/249492
X-ALT-DESC:Description: &lt;br /&gt;&lt;p&gt;Join us in welcoming companies from variou
 s engineering industries including power and energy\, tech\, construction\
 , and consulting. We&#39;ll host each company virtually in two slots from 4:00
  PM to 5:30 PM and 5:30 PM to 7:00 PM.&amp;nbsp\;&lt;/p&gt;\n&lt;p&gt;Company representati
 ves will have their own virtual meetings set up\, using a platform of thei
 r choice. The links for each company meeting will be emailed out to all at
 tendees closer to the event.&lt;/p&gt;\n&lt;p&gt;This is a great chance for students t
 o network with industry professionals and ask them questions regarding the
 ir work\, company\, and industry. Companies can meet budding engineers who
  can make a difference in their workplace\, and inspire them to work in th
 eir fields. There is no booth fee for this event.&lt;/p&gt;\n&lt;p&gt;This year&#39;s even
 t features representatives from IBM\, Worley\, TransCanada\, Imperial\, Ce
 novus/Husky\, Rockwell Automation\, and Stantec.&lt;/p&gt;
END:VEVENT
END:VCALENDAR

