BEGIN:VCALENDAR
VERSION:2.0
PRODID:IEEE vTools.Events//EN
CALSCALE:GREGORIAN
BEGIN:VTIMEZONE
TZID:Canada/Eastern
BEGIN:DAYLIGHT
DTSTART:20210314T030000
TZOFFSETFROM:-0500
TZOFFSETTO:-0400
RRULE:FREQ=YEARLY;BYDAY=2SU;BYMONTH=3
TZNAME:EDT
END:DAYLIGHT
BEGIN:STANDARD
DTSTART:20201101T010000
TZOFFSETFROM:-0400
TZOFFSETTO:-0500
RRULE:FREQ=YEARLY;BYDAY=1SU;BYMONTH=11
TZNAME:EST
END:STANDARD
END:VTIMEZONE
BEGIN:VEVENT
DTSTAMP:20210206T193138Z
UID:B23A8620-22D8-4F0F-88A8-ACAC637056F1
DTSTART;TZID=Canada/Eastern:20210121T120000
DTEND;TZID=Canada/Eastern:20210121T133000
DESCRIPTION:Officers meeting to follow up on open action items.\n\nToronto\
 , Ontario\, Canada\, Virtual: https://events.vtools.ieee.org/m/249609
LOCATION:Toronto\, Ontario\, Canada\, Virtual: https://events.vtools.ieee.o
 rg/m/249609
ORGANIZER:dustin.dunwell@ieee.org
SEQUENCE:1
SUMMARY:Toronto Section Officer Meeting
URL;VALUE=URI:https://events.vtools.ieee.org/m/249609
X-ALT-DESC:Description: &lt;br /&gt;&lt;p&gt;Officers meeting to follow up on open acti
 on items.&lt;/p&gt;
END:VEVENT
END:VCALENDAR

