BEGIN:VCALENDAR
VERSION:2.0
PRODID:IEEE vTools.Events//EN
CALSCALE:GREGORIAN
BEGIN:VTIMEZONE
TZID:MST
BEGIN:STANDARD
DTSTART:19671029T010000
TZOFFSETFROM:-0600
TZOFFSETTO:-0700
TZNAME:MST
END:STANDARD
END:VTIMEZONE
BEGIN:VEVENT
DTSTAMP:20210122T024833Z
UID:9DA945AE-9AD6-40E8-919C-712E8F303A11
DTSTART;TZID=MST:20210120T160000
DTEND;TZID=MST:20210120T190000
DESCRIPTION:Thank you for choosing to be a part of this year&#39;s industry eve
 nt. We&#39;ll host each company virtually in two sessions:\n\n1st Session: 4:0
 0 PM to 5:30 PM MST\n\n2nd Session: 5:30 PM to 7:00 PM MST\n\nCompany repr
 esentatives will have their own virtual meetings set up\, using a platform
  of their choice. The links for each company meeting will be emailed out t
 o all attendees closer to the event.\n\nThis is a great chance for student
 s to network with industry professionals and ask them questions regarding 
 their work\, company\, and industry. Companies can meet budding engineers 
 who can make a difference in their workplace\, and inspire them to work in
  their fields. There is no booth fee for this event.\n\nCalgary\, Alberta\
 , Canada\, Virtual: https://events.vtools.ieee.org/m/250169
LOCATION:Calgary\, Alberta\, Canada\, Virtual: https://events.vtools.ieee.o
 rg/m/250169
ORGANIZER:ieeeuofcsb@gmail.com
SEQUENCE:7
SUMMARY:2021 Industry Mixer - Exhibitor Sign-Up Page
URL;VALUE=URI:https://events.vtools.ieee.org/m/250169
X-ALT-DESC:Description: &lt;br /&gt;&lt;p&gt;Thank you for choosing to be a part of thi
 s year&#39;s industry event. We&#39;ll host each company virtually in two sessions
 :&lt;/p&gt;\n&lt;p&gt;1st Session: 4:00 PM to 5:30 PM MST&lt;/p&gt;\n&lt;p&gt;2nd Session: 5:30 PM
  to 7:00 PM MST&lt;/p&gt;\n&lt;p&gt;Company representatives will have their own virtua
 l meetings set up\, using a platform of their choice. The links for each c
 ompany meeting will be emailed out to all attendees closer to the event.&lt;/
 p&gt;\n&lt;p&gt;This is a great chance for students to network with industry profes
 sionals and ask them questions regarding their work\, company\, and indust
 ry. Companies can meet budding engineers who can make a difference in thei
 r workplace\, and inspire them to work in their fields. There is no booth 
 fee for this event.&lt;/p&gt;
END:VEVENT
END:VCALENDAR

