BEGIN:VCALENDAR
VERSION:2.0
PRODID:IEEE vTools.Events//EN
CALSCALE:GREGORIAN
BEGIN:VTIMEZONE
TZID:US/Eastern
BEGIN:DAYLIGHT
DTSTART:20210314T030000
TZOFFSETFROM:-0500
TZOFFSETTO:-0400
RRULE:FREQ=YEARLY;BYDAY=2SU;BYMONTH=3
TZNAME:EDT
END:DAYLIGHT
BEGIN:STANDARD
DTSTART:20201101T010000
TZOFFSETFROM:-0400
TZOFFSETTO:-0500
RRULE:FREQ=YEARLY;BYDAY=1SU;BYMONTH=11
TZNAME:EST
END:STANDARD
END:VTIMEZONE
BEGIN:VEVENT
DTSTAMP:20201210T204856Z
UID:21823C0B-A866-4512-8955-A29D2D87DCC2
DTSTART;TZID=US/Eastern:20201202T200000
DTEND;TZID=US/Eastern:20201202T203000
DESCRIPTION:Ithaca Section Technical Session\n\n- Software Defined Radios\n
 - Discuss the technology of Software Defined Radio (SDR)\n- Kirk talked ab
 out ICOM SDRs for amateur radio\n- Example below is the ICOM IC-7610 with 
 Dual Receivers\n- http://www.icomamerica.com/en/products/amateur/hf/7610/d
 efault.aspx\n-\nHas touch screen interface\n\n- Signals versus frequency a
 re Horizontal\, white line\n- Signals versus time going vertically down di
 splayed as waterfalls\n\n- Operates from the 160 meter to 6 meter amateur 
 radio bands\n\n- Joe Ott talked about the SDRs his company Vanteon Corpora
 tion that does SDR work\n- https://www.linkedin.com/company/vanteon-corpor
 ation?trk=public_profile_experience-group-header\n\n- Vanteon Specialties\
 n- RF Wireless Design\, Embedded Firmware\, Analog and High Speed Digital 
 Design\, FPGA Design and Development\, WiSUN\, SDR\, Custom RF Design\, Wi
 Fi\, Bluetooth\, PCB Design\, Software Development\, Hardware Development\
 , Electronics Design\, Android Develpoment\, Communications\, DSP\, Signal
  Processing\, BSP\, RFID\, RTOS Coding\, Technology Assessment\, Electrica
 l Engineering\, Waveform Development\, IoT\, and IIoT\n\nVirtual: https://
 events.vtools.ieee.org/m/251105
LOCATION:Virtual: https://events.vtools.ieee.org/m/251105
ORGANIZER:r.kirkland.smith@ieee.org
SEQUENCE:0
SUMMARY:Technical Discussion Meeting
URL;VALUE=URI:https://events.vtools.ieee.org/m/251105
X-ALT-DESC:Description: &lt;br /&gt;&lt;p&gt;&lt;strong&gt;Ithaca Section Technical Session&lt;/
 strong&gt;&lt;/p&gt;\n&lt;ul&gt;\n&lt;li&gt;Software Defined Radios\n&lt;ul&gt;\n&lt;li&gt;Discuss the tech
 nology of Software Defined Radio (SDR)&lt;/li&gt;\n&lt;li&gt;Kirk talked about ICOM SD
 Rs for amateur radio\n&lt;ul&gt;\n&lt;li&gt;Example below is the ICOM IC-7610 with Dua
 l Receivers&lt;/li&gt;\n&lt;li&gt;&lt;a href=&quot;http://www.icomamerica.com/en/products/amat
 eur/hf/7610/default.aspx&quot;&gt;http://www.icomamerica.com/en/products/amateur/h
 f/7610/default.aspx&lt;/a&gt;&lt;/li&gt;\n&lt;li&gt;\n&lt;p&gt;Has touch screen interface&lt;/p&gt;\n&lt;ul
 &gt;\n&lt;li&gt;Signals versus frequency are Horizontal\, white line&lt;/li&gt;\n&lt;li&gt;Sign
 als versus time going vertically down displayed as waterfalls&lt;/li&gt;\n&lt;/ul&gt;\
 n&lt;/li&gt;\n&lt;li&gt;Operates from the 160 meter to 6 meter amateur radio bands&lt;/li
 &gt;\n&lt;/ul&gt;\n&lt;/li&gt;\n&lt;/ul&gt;\n&lt;/li&gt;\n&lt;/ul&gt;\n&lt;p&gt;&amp;nbsp\;&lt;/p&gt;\n&lt;p&gt;&amp;nbsp\;&lt;/p&gt;\n&lt;ul&gt;
 \n&lt;li&gt;Joe Ott talked about the SDRs his company Vanteon Corporation that d
 oes SDR work&lt;/li&gt;\n&lt;li&gt;&lt;a href=&quot;https://www.linkedin.com/company/vanteon-c
 orporation?trk=public_profile_experience-group-header&quot;&gt;https://www.linkedi
 n.com/company/vanteon-corporation?trk=public_profile_experience-group-head
 er&lt;/a&gt;&lt;/li&gt;\n&lt;/ul&gt;\n&lt;ul&gt;\n&lt;li&gt;&lt;strong&gt;Vanteon&lt;/strong&gt;&lt;strong&gt; Specialties
 &lt;/strong&gt;\n&lt;ul&gt;\n&lt;li&gt;RF Wireless Design\, Embedded Firmware\, Analog and H
 igh Speed Digital Design\, FPGA Design and Development\, WiSUN\, SDR\, Cus
 tom RF Design\, WiFi\, Bluetooth\, PCB Design\, Software Development\, Har
 dware Development\, Electronics Design\, Android Develpoment\, Communicati
 ons\, DSP\, Signal Processing\, BSP\, RFID\, RTOS Coding\, Technology Asse
 ssment\, Electrical Engineering\, Waveform Development\, IoT\, and IIoT&lt;/l
 i&gt;\n&lt;/ul&gt;\n&lt;/li&gt;\n&lt;/ul&gt;
END:VEVENT
END:VCALENDAR

