BEGIN:VCALENDAR
VERSION:2.0
PRODID:IEEE vTools.Events//EN
CALSCALE:GREGORIAN
BEGIN:VTIMEZONE
TZID:Europe/Madrid
BEGIN:DAYLIGHT
DTSTART:20210328T030000
TZOFFSETFROM:+0100
TZOFFSETTO:+0200
RRULE:FREQ=YEARLY;BYDAY=-1SU;BYMONTH=3
TZNAME:CEST
END:DAYLIGHT
BEGIN:STANDARD
DTSTART:20201025T020000
TZOFFSETFROM:+0200
TZOFFSETTO:+0100
RRULE:FREQ=YEARLY;BYDAY=-1SU;BYMONTH=10
TZNAME:CET
END:STANDARD
END:VTIMEZONE
BEGIN:VEVENT
DTSTAMP:20201229T220242Z
UID:0D957162-A2C3-42C6-A3CD-2BEAB075020A
DTSTART;TZID=Europe/Madrid:20201221T190000
DTEND;TZID=Europe/Madrid:20201221T200000
DESCRIPTION:ENTREGA PREMIOS CESEI 2020– CAPÍTULO ESPAÑOL DE LA SOCIEDAD
  DE EDUCACIÓN DEL IEEE\n\nAgenda: \nLunes 21 de diciembre 2020 a las 19:0
 0\n\n* Bienvenida\nOscar M Bonastre / Presidente Capitulo Educación IEEE 
 ESPAÑA\n\n* Presentación de los premios\nManuel Castro / UNED\n\nCoordin
 ador de Premios y Menciones IEEE España\, Miembro de la directiva Capitul
 o Educación IEEE ESPAÑA\n\nCategoría Tesis Doctorales\n– Félix Garc
 ía Loro. Evaluación y aprendizaje en laboratorios remotos: propuesta de 
 un sistema automático de evaluación formativa aplicado al laboratorio re
 moto VISIR. UNED\n– Juan Mateu Ruzafa. Una arquitectura para aplicacione
 s educativas basadas en mundos virtuales e interfaces tangibles. Universid
 ad Autónoma de Madrid\n\nCategoria Trabajos Fin de Master – TFM\n– Fr
 ancisco Jiménez Moral. Debrapp: Creación de una herramienta Mobile learn
 ing para aprendizaje colaborativo. Universidad Rey Juan Carlos\n– David 
 Romero Santos. Experiencias de aprendizaje interactivas basadas en casos r
 eales para el entrenamiento y evaluación de técnicos. Ejemplo de aplicac
 ión al entrenamiento de técnicos en redes locales. Universidad de Cádiz
 .\n\n* Intervención de los premiados\n\n* Interacción de los premiados c
 on la audiencia. Preguntas y Respuestas\n\n* Clausura\n\nVirtual: https://
 events.vtools.ieee.org/m/251876
LOCATION:Virtual: https://events.vtools.ieee.org/m/251876
ORGANIZER:ombonastre@ieee.org
SEQUENCE:3
SUMMARY:ENTREGA PREMIOS CESEI 2020– CAPÍTULO ESPAÑOL DE LA SOCIEDAD DE 
 EDUCACIÓN DEL IEEE
URL;VALUE=URI:https://events.vtools.ieee.org/m/251876
X-ALT-DESC:Description: &lt;br /&gt;&lt;p&gt;ENTREGA PREMIOS CESEI 2020&amp;ndash\; CAP&amp;Iac
 ute\;TULO ESPA&amp;Ntilde\;OL DE LA SOCIEDAD DE EDUCACI&amp;Oacute\;N DEL IEEE&lt;/p&gt;
 &lt;br /&gt;&lt;br /&gt;Agenda: &lt;br /&gt;&lt;p&gt;Lunes 21 de diciembre 2020 a las 19:00&lt;/p&gt;\n&lt;
 p&gt;* Bienvenida&lt;br /&gt;Oscar M Bonastre / Presidente Capitulo Educaci&amp;oacute\
 ;n IEEE ESPA&amp;Ntilde\;A&lt;/p&gt;\n&lt;p&gt;* Presentaci&amp;oacute\;n de los premios&lt;br /&gt;
 Manuel Castro / UNED&lt;/p&gt;\n&lt;p&gt;Coordinador de Premios y Menciones IEEE Espa&amp;
 ntilde\;a\, Miembro de la directiva&amp;nbsp\;Capitulo Educaci&amp;oacute\;n IEEE 
 ESPA&amp;Ntilde\;A&lt;/p&gt;\n&lt;p&gt;&lt;strong&gt;Categor&amp;iacute\;a Tesis Doctorales&lt;/strong&gt;
 &lt;br /&gt;&amp;ndash\; F&amp;eacute\;lix Garc&amp;iacute\;a Loro. Evaluaci&amp;oacute\;n y apr
 endizaje en laboratorios remotos: propuesta de un sistema autom&amp;aacute\;ti
 co de evaluaci&amp;oacute\;n formativa aplicado al laboratorio remoto VISIR. U
 NED&lt;br /&gt;&amp;ndash\; Juan Mateu Ruzafa. Una arquitectura para aplicaciones ed
 ucativas basadas en mundos virtuales e interfaces tangibles. Universidad A
 ut&amp;oacute\;noma de Madrid&lt;/p&gt;\n&lt;p&gt;&lt;strong&gt;Categoria Trabajos Fin de Master
  &amp;ndash\; TFM&lt;/strong&gt;&lt;br /&gt;&amp;ndash\; Francisco Jim&amp;eacute\;nez Moral. Debr
 app: Creaci&amp;oacute\;n de una herramienta Mobile learning para aprendizaje 
 colaborativo. Universidad Rey Juan Carlos&lt;br /&gt;&amp;ndash\; David Romero Santo
 s. Experiencias de aprendizaje interactivas basadas en casos reales para e
 l entrenamiento y evaluaci&amp;oacute\;n de t&amp;eacute\;cnicos. Ejemplo de aplic
 aci&amp;oacute\;n al entrenamiento de t&amp;eacute\;cnicos en redes locales. Unive
 rsidad de C&amp;aacute\;diz.&lt;/p&gt;\n&lt;p&gt;* Intervenci&amp;oacute\;n de los premiados&lt;/
 p&gt;\n&lt;p&gt;* Interacci&amp;oacute\;n de los premiados con la audiencia. Preguntas 
 y Respuestas&lt;/p&gt;\n&lt;p&gt;* Clausura&lt;/p&gt;
END:VEVENT
END:VCALENDAR

