BEGIN:VCALENDAR
VERSION:2.0
PRODID:IEEE vTools.Events//EN
CALSCALE:GREGORIAN
BEGIN:VTIMEZONE
TZID:US/Pacific
BEGIN:DAYLIGHT
DTSTART:20210314T030000
TZOFFSETFROM:-0800
TZOFFSETTO:-0700
RRULE:FREQ=YEARLY;BYDAY=2SU;BYMONTH=3
TZNAME:PDT
END:DAYLIGHT
BEGIN:STANDARD
DTSTART:20211107T010000
TZOFFSETFROM:-0700
TZOFFSETTO:-0800
RRULE:FREQ=YEARLY;BYDAY=1SU;BYMONTH=11
TZNAME:PST
END:STANDARD
END:VTIMEZONE
BEGIN:VEVENT
DTSTAMP:20210403T143636Z
UID:A062037F-6F3A-4E0F-916F-81C3003EB951
DTSTART;TZID=US/Pacific:20210402T070000
DTEND;TZID=US/Pacific:20210402T170000
DESCRIPTION:Our conference will focus on the building industry. How to make
  smart buildings\, ways to reduce operating expenses\, how to design susta
 inable buildings\, how to create and maintain safe buildings\, how are AI 
 (artificial intelligence) and IoT (Internet of Things) being used in build
 ings\, software needed to keep the building energy efficient and peak powe
 r shaving. How cybersecurity and blockchain is important on maintaining th
 e health of the facility and the Power Grid. What power and energy consult
 ants need to be successful in today&#39;s global pandemic? Near space satellit
 e program aka HAB with strong electronics. Proactive Approach to protectin
 g our Distributed Energy Grids. HERO: Virtual Reality Safety Training Asse
 ssment. Wireless and Progress in Society. Digital Storage and Memory for A
 I at the Edge and the Data Center. Blockchain compliments the evolving IoT
  apparatus. Hydrogen Fuel Cells in Locomotives new technology. Word of Mou
 th Remark’able. Long Duration Energy Storage Systems.\n\nTransformationa
 l leadership. Reduction in CO2 emissions from diesel engines. How Smart Me
 ters and Simulations are helping to develop customer-focused resilience in
  Smart Cities. Electrical Safety in the workplace. Construction Catalyst f
 or Adaptive and Responsive Change. Real Teams Win: What Smart Leaders Need
  to Know Now About Achieving Peak Performance. Updates to the NEC NFPA 70 
 2023. Applying agile mindset various interdependencies requires a nimble a
 pproach to succeed. current state of nuclear energy in the world. Groundin
 g and bonding solutions. When do you need analysis of a power system?\n\nK
 EYNOTE – Brian Galonek All Star Incentive Marketing – 7 am PDT Friday 
 April 2\, 2021\n\n- Thomas Domitrovich\, ‘NFPA 70 2023’ Vice President
  Technical Eaton\n- Hamzah Shanbari\, HERO: Virtual Reality Safety Trainin
 g Assessment\n- Terry Becker\, ‘Electrical Safety in the Workplace’ TW
  Becker\n- Tom Steding\, ‘Achieving Peak Performance: Real Teams Win’ 
 Voise\, Inc\n- Erling Hesla\, ‘Data Centers Finding Solutions’ EngePow
 er USA\n- Bianca Holtier Coury\, Building Construction\, Eagle Software\n-
  Lee Herron &#39;Grounding Solutions&#39; Burndy\n- Sanjay Samuel\, &#39;Fuels Cells i
 n Locomotives&#39; Sound Transit\n- Blaine W. Millet\, author and publicist\, 
 &#39;How to become REMARK&#39;able&#39;\n- Hind Abi-Akar\, ‘Maintenance Requirements
  Fluids’ Fluids Engineering Caterpillar\n- Sharan Kalwani\, ‘Proactive
  Approach to protecting our Distributed Energy Grids’\n- Dr. Sayonsom Ch
 andra\, ‘Sync Energy Artificial Intelligence for Energy Analytics’\n- 
 Krishnamurthy Raghunandan (RAGHU)\, ‘Wireless and Progress in Society’
  MTA\n- Mike Brisbois\, ‘Resilient\, Sustainable\, Low Cost Energy Solut
 ions’ Microgrid Corporation\n- David (Davood) Bakhtnia Agile Coach - New
  and Innovative Techniques\n- Tom Coughlin\, &#39;Digital Storage and Memory f
 or AI at the Edge and the Data Center&#39; Coughlin &amp; Associates\n- Siva Jayar
 am\, Long Duration Energy Storage Systems\, RRC Companies\n- Ted DellaVecc
 hia\, ‘Blockchain Technology and Artificial Intelligence in Healthcare
 ’ Symbotix\n- James Burke\, ‘Life on Mars’ NASA Robotics &#39;Near Space
  Satellite Program&#39; Bellevue STEM\n- Marley Smith\, Nuclear Test Engineer 
 &#39;The Current state of Nuclear Energy in the world&#39; Puget Sound Naval Shipy
 ard\n- Wally Adamchik\, Transformational Construction Influencer\n- Tim Ca
 lahan Eversource Power Utility Company - DVAR VVO Pilot - Eversource\n- Da
 n Costello\, &#39;Electrical utility rate structures and strategies for effici
 ent use of electric power&#39; Eaton Corporation\n\nSpeaker(s): Mike Brisbois\
 , Brian Galonek\n\nAgenda: \n*** Final Schedule - All Times are exact ***\
 n06:45 AM PDT Announcements\n07:00 AM PDT Keynote Speaker Brian Galonek\n0
 7:30 AM PDT Terry Becker\, ‘Electrical Safety in the Workplace’ TW Bec
 ker\n07:55 AM PDT Hamzah Shanbari\, HERO: Virtual Reality Safety Training 
 Assessment\n08:20 AM PDT Thomas Domitrovich\, ‘NFPA 70 2023’ Vice Pres
 ident Technical Eaton\n08:45 AM PDT Bianca Holtier Coury\, Building Constr
 uction\, Eagle Software\n09:10 AM PDT Krishnamurthy Raghunandan (RAGHU)\, 
 ‘Wireless and Progress in Society’ MTA\n09:35 AM PDT Ted DellaVecchia\
 , ‘Blockchain Technology and Artificial Intelligence in Healthcare’ Sy
 mbotix\n10:00 AM PDT Sharan Kalwani\, ‘Proactive Approach to protecting 
 our Distributed Energy Grids’\n10:25 AM PDT Siva Jayaram\, Long Duration
  Energy Storage Systems\, RRC Companies\n10:50 AM PDT Dr. Sayonsom Chanda 
 How Smart Meters and Simulations are helping to develop customer-focused r
 esilience in Smart Cities\n11:15 AM PDT Hind Abi-Akar\, ‘Maintenance Req
 uirements Fluids’ Fluids Engineering Caterpillar\n11:40 AM PDT INTERMISS
 ION - NETWORK SWAG - SPECIAL GUEST - Greg Billington - USA Olympic Triathl
 ete 2016 Rio Games\n\n12:00 PM PDT AFTERNOON KEY NOTE Wally Adamchik\, Tra
 nsformational Construction Influence\n12:25 PM PDT Blaine W. Millet\, auth
 or and publicist\, &#39;How to become REMARK&#39;able\n12:50 PM PDT Tom Steding\, 
 ‘Achieving Peak Performance: Real Teams Win’ Voise\, Inc\n01:20 PM PDT
  Tom Coughlin\, &#39;Digital Storage and Memory for AI at the Edge and the Dat
 a Center&#39; Coughlin &amp; Associate\n01:45 PM PDT Tim Calahan Eversource Power 
 Utility Company - DVAR VVO Pilot\n02:10 PM PDT James Burke\, ‘Life on Ma
 rs’ NASA Robotics &#39;Near Space Satellite Program&#39; Bellevue STEM\n02:35 PM
  PDT Marley Smith\, Nuclear Test Engineer &#39;The Current state of Nuclear En
 ergy in the world&#39; Puget Sound Naval Shipyard\n03:00 PM PDT Sanjay Samuel\
 , &#39;Fuels Cells in Locomotives&#39; Sound Transit\n03:25 PM PDT David (Davood) 
 Bakhtnia Agile Coach - New and Innovative Techniques\n03:50 PM PDT Erling 
 Hesla\, ‘Data Centers Finding Solutions’ EngePower USA\n04:15 PM PDT D
 an Costello\, &#39;Electrical utility rate structures and strategies for effic
 ient use of electric power&#39; Eaton Corporation\n04:40 PM PDT Closing - IEEE
  PRIZE PACK- and Special Guest Seth Pavlik and LIVE tribute to all our spe
 akers and consultants\n\nVirtual: https://events.vtools.ieee.org/m/252871
LOCATION:Virtual: https://events.vtools.ieee.org/m/252871
ORGANIZER:mike.brisbois@ieee.org
SEQUENCE:47
SUMMARY:Seattle Electrical Conference - IEEE 2021
URL;VALUE=URI:https://events.vtools.ieee.org/m/252871
X-ALT-DESC:Description: &lt;br /&gt;&lt;p&gt;Our conference will focus on the building 
 industry. How to make smart buildings\, ways to reduce operating expenses\
 , how to design sustainable buildings\, how to create and maintain safe bu
 ildings\, how are AI (artificial intelligence) and IoT (Internet of Things
 ) being used in buildings\, software needed to keep the building energy ef
 ficient and peak power shaving. How cybersecurity and blockchain is import
 ant on maintaining the health of the facility and the Power Grid. What pow
 er and energy consultants need to be successful in today&#39;s global pandemic
 ? Near space satellite program aka HAB with strong electronics. Proactive 
 Approach to protecting our Distributed Energy Grids. HERO: Virtual Reality
  Safety Training Assessment. Wireless and Progress in Society. Digital Sto
 rage and Memory for AI at the Edge and the Data Center. Blockchain complim
 ents the evolving IoT apparatus. Hydrogen Fuel Cells in Locomotives new te
 chnology. Word of Mouth Remark&amp;rsquo\;able. Long Duration Energy Storage S
 ystems.&lt;/p&gt;\n&lt;p&gt;Transformational leadership. Reduction in CO&lt;sub&gt;2&lt;/sub&gt; e
 missions from diesel engines. How Smart Meters and Simulations are helping
  to develop customer-focused resilience in Smart Cities. Electrical Safety
  in the workplace. Construction Catalyst for Adaptive and Responsive Chang
 e. Real Teams Win: What Smart Leaders Need to Know Now About Achieving Pea
 k Performance. Updates to the NEC NFPA 70 2023. Applying agile mindset var
 ious interdependencies requires a nimble approach to succeed. current stat
 e of nuclear energy in the world. Grounding and bonding solutions. When do
  you need analysis of a power system?&lt;/p&gt;\n&lt;p&gt;&lt;strong&gt;KEYNOTE &amp;ndash\; Bri
 an Galonek All Star Incentive Marketing &amp;ndash\; 7 am PDT Friday April 2\,
  2021 &lt;/strong&gt;&lt;/p&gt;\n&lt;ul&gt;\n&lt;li&gt;Thomas Domitrovich\, &amp;lsquo\;NFPA 70 2023&amp;r
 squo\; Vice President Technical Eaton&lt;/li&gt;\n&lt;li&gt;Hamzah Shanbari\,&amp;nbsp\;HE
 RO: Virtual Reality Safety Training Assessment&lt;/li&gt;\n&lt;li&gt;Terry Becker\, &amp;l
 squo\;Electrical Safety in the Workplace&amp;rsquo\; TW Becker&lt;/li&gt;\n&lt;li&gt;Tom S
 teding\, &amp;lsquo\;Achieving Peak Performance: Real Teams Win&amp;rsquo\; Voise\
 , Inc&lt;/li&gt;\n&lt;li&gt;Erling Hesla\, &amp;lsquo\;Data Centers Finding Solutions&amp;rsqu
 o\; EngePower USA&lt;/li&gt;\n&lt;li&gt;Bianca Holtier Coury\, Building Construction\,
  Eagle Software&lt;/li&gt;\n&lt;li&gt;Lee Herron &#39;Grounding Solutions&#39;&amp;nbsp\;Burndy&amp;nb
 sp\;&lt;/li&gt;\n&lt;li&gt;Sanjay Samuel\, &#39;Fuels Cells in Locomotives&#39;&amp;nbsp\; Sound T
 ransit&lt;/li&gt;\n&lt;li&gt;Blaine W. Millet\, author and publicist\, &#39;How to become 
 REMARK&#39;able&#39;&amp;nbsp\;&lt;/li&gt;\n&lt;li&gt;Hind Abi-Akar\, &amp;lsquo\;Maintenance Requirem
 ents Fluids&amp;rsquo\; Fluids Engineering Caterpillar&lt;/li&gt;\n&lt;li&gt;Sharan Kalwan
 i\, &amp;lsquo\;Proactive Approach to protecting our Distributed Energy Grids&amp;
 rsquo\;&lt;/li&gt;\n&lt;li&gt;Dr. Sayonsom Chandra\, &amp;lsquo\;Sync Energy Artificial In
 telligence for Energy Analytics&amp;rsquo\;&lt;/li&gt;\n&lt;li&gt;Krishnamurthy Raghunanda
 n (RAGHU)\, &amp;lsquo\;Wireless and Progress in Society&amp;rsquo\; MTA&lt;/li&gt;\n&lt;li
 &gt;Mike Brisbois\, &amp;lsquo\;Resilient\, Sustainable\, Low Cost Energy Solutio
 ns&amp;rsquo\; Microgrid Corporation&lt;/li&gt;\n&lt;li&gt;David (Davood) Bakhtnia Agile C
 oach - New and Innovative Techniques&lt;/li&gt;\n&lt;li&gt;Tom Coughlin\, &#39;Digital Sto
 rage and Memory for AI at the Edge and the Data Center&#39; Coughlin &amp;amp\; As
 sociates&lt;/li&gt;\n&lt;li&gt;Siva Jayaram\, Long Duration Energy Storage Systems\, R
 RC Companies&lt;/li&gt;\n&lt;li&gt;Ted DellaVecchia\, &amp;lsquo\;Blockchain Technology an
 d Artificial Intelligence in Healthcare&amp;rsquo\; Symbotix&lt;/li&gt;\n&lt;li&gt;James B
 urke\, &amp;lsquo\;Life on Mars&amp;rsquo\; NASA Robotics &#39;Near Space Satellite Pr
 ogram&#39;&amp;nbsp\;Bellevue STEM&amp;nbsp\;&lt;/li&gt;\n&lt;li&gt;Marley Smith\, Nuclear Test En
 gineer &#39;The Current state of Nuclear Energy in the world&#39;&amp;nbsp\;Puget Soun
 d Naval Shipyard&lt;/li&gt;\n&lt;li&gt;Wally Adamchik\, Transformational Construction 
 Influencer&lt;/li&gt;\n&lt;li&gt;Tim Calahan Eversource Power Utility Company - DVAR V
 VO Pilot - Eversource&lt;/li&gt;\n&lt;li&gt;Dan Costello\, &#39;Electrical utility rate st
 ructures and strategies for efficient use of electric power&#39; Eaton Corpora
 tion&lt;/li&gt;\n&lt;/ul&gt;&lt;br /&gt;&lt;br /&gt;Agenda: &lt;br /&gt;&lt;p&gt;*** Final Schedule - All Time
 s are exact ***&lt;br /&gt;06:45 AM PDT Announcements &lt;br /&gt;07:00 AM PDT Keynote
  Speaker Brian Galonek&lt;br /&gt;07:30 AM PDT Terry Becker\, &amp;lsquo\;Electrical
  Safety in the Workplace&amp;rsquo\; TW Becker&lt;br /&gt;07:55 AM PDT Hamzah Shanba
 ri\,&amp;nbsp\;HERO: Virtual Reality Safety Training Assessment&lt;br /&gt;08:20 AM 
 PDT Thomas Domitrovich\, &amp;lsquo\;NFPA 70 2023&amp;rsquo\; Vice President Techn
 ical Eaton&lt;br /&gt;08:45 AM PDT Bianca Holtier Coury\, Building Construction\
 , Eagle Software&lt;br /&gt;09:10 AM PDT Krishnamurthy Raghunandan (RAGHU)\, &amp;ls
 quo\;Wireless and Progress in Society&amp;rsquo\; MTA&lt;br /&gt;09:35 AM PDT Ted De
 llaVecchia\, &amp;lsquo\;Blockchain Technology and Artificial Intelligence in 
 Healthcare&amp;rsquo\; Symbotix&lt;br /&gt;10:00 AM PDT Sharan Kalwani\, &amp;lsquo\;Pro
 active Approach to protecting our Distributed Energy Grids&amp;rsquo\;&lt;br /&gt;10
 :25 AM PDT Siva Jayaram\, Long Duration Energy Storage Systems\, RRC Compa
 nies&lt;br /&gt;10:50 AM PDT Dr. Sayonsom Chanda How Smart Meters and Simulation
 s are helping to develop customer-focused resilience in Smart Cities&lt;br /&gt;
 11:15 AM PDT&amp;nbsp\;Hind Abi-Akar\, &amp;lsquo\;Maintenance Requirements Fluids
 &amp;rsquo\; Fluids Engineering Caterpillar&lt;br /&gt;11:40 AM PDT INTERMISSION - N
 ETWORK SWAG - SPECIAL GUEST - Greg Billington - USA Olympic Triathlete 201
 6 Rio Games&lt;br /&gt;&lt;br /&gt;12:00 PM PDT AFTERNOON KEY NOTE Wally Adamchik\, Tr
 ansformational Construction Influence&lt;br /&gt;12:25 PM PDT Blaine W. Millet\,
  author and publicist\, &#39;How to become REMARK&#39;able&lt;br /&gt;12:50 PM PDT Tom S
 teding\, &amp;lsquo\;Achieving Peak Performance: Real Teams Win&amp;rsquo\; Voise\
 , Inc&lt;br /&gt;01:20 PM PDT Tom Coughlin\, &#39;Digital Storage and Memory for AI 
 at the Edge and the Data Center&#39; Coughlin &amp;amp\; Associate&lt;br /&gt;01:45 PM P
 DT Tim Calahan Eversource Power Utility Company - DVAR VVO Pilot&lt;br /&gt;02:1
 0 PM PDT James Burke\, &amp;lsquo\;Life on Mars&amp;rsquo\; NASA Robotics &#39;Near Sp
 ace Satellite Program&#39;&amp;nbsp\;Bellevue STEM&lt;br /&gt;02:35 PM PDT Marley Smith\
 , Nuclear Test Engineer &#39;The Current state of Nuclear Energy in the world&#39;
 &amp;nbsp\;Puget Sound Naval Shipyard&lt;br /&gt;03:00 PM PDT Sanjay Samuel\, &#39;Fuels
  Cells in Locomotives&#39;&amp;nbsp\; Sound Transit&lt;br /&gt;03:25 PM PDT David (Davoo
 d) Bakhtnia Agile Coach - New and Innovative Techniques&lt;br /&gt;03:50 PM PDT 
 Erling Hesla\, &amp;lsquo\;Data Centers Finding Solutions&amp;rsquo\; EngePower US
 A&lt;br /&gt;04:15 PM PDT Dan Costello\, &#39;Electrical utility rate structures and
  strategies for efficient use of electric power&#39; Eaton Corporation&lt;br /&gt;04
 :40 PM PDT Closing - IEEE PRIZE PACK- and Special Guest Seth Pavlik and LI
 VE tribute to all our speakers and consultants&amp;nbsp\;&lt;/p&gt;
END:VEVENT
END:VCALENDAR

