BEGIN:VCALENDAR
VERSION:2.0
PRODID:IEEE vTools.Events//EN
CALSCALE:GREGORIAN
BEGIN:VTIMEZONE
TZID:Mexico/General
BEGIN:DAYLIGHT
DTSTART:20200405T030000
TZOFFSETFROM:-0600
TZOFFSETTO:-0500
RRULE:FREQ=YEARLY;BYDAY=1SU;BYMONTH=4
TZNAME:CDT
END:DAYLIGHT
BEGIN:STANDARD
DTSTART:20201025T010000
TZOFFSETFROM:-0500
TZOFFSETTO:-0600
RRULE:FREQ=YEARLY;BYDAY=-1SU;BYMONTH=10
TZNAME:CST
END:STANDARD
END:VTIMEZONE
BEGIN:VEVENT
DTSTAMP:20201230T054653Z
UID:6C8BB585-E805-4E7F-B9E2-E1AB8E9C78CB
DTSTART;TZID=Mexico/General:20201002T090000
DTEND;TZID=Mexico/General:20201002T235500
DESCRIPTION:We collaborate with the WiP R9 Representative and also the WiP 
 Representatives from the Perú PES and Centro Occidente PES Chapters\, in 
 order to invite you to the First Mentoring Program.\n\nThe aim of this pro
 gram is to develop soft skills for students and young professionals in ord
 er to start a job or research level in Region 9\, in which 16 female Mento
 rs from the Energy Sector with more than 5 years of experience will have a
  PES mentee to fulfill this objective.\n\nEach mentor and mentee must gath
 er 4-hours in a month during the 3-month program.\n\nCo-sponsored by: Wome
 n in Power R9\n\nSpeaker(s): Carmen Manzano / Arely Hernández \, Gloria C
 ruz Romero\n\nAgenda: \nImportant Dates:\nActivity:\n\nAugust 29\n\nCall f
 or mentees\n\nAugust 29 to September 13\n\nPaper reception (online)\n\nSep
 tember 13 to 20\n\nApplication Review\n\nSeptember 23\n\nResults Publicati
 on\n\nSeptember 26\n\nMentee Training\n\nOctober 2 to December 20\n\nMento
 ring Program Duration\n\nQueretaro\, Queretaro de Arteaga\, Mexico\, Virtu
 al: https://events.vtools.ieee.org/m/253763
LOCATION:Queretaro\, Queretaro de Arteaga\, Mexico\, Virtual: https://event
 s.vtools.ieee.org/m/253763
ORGANIZER:dulceventura01@ieee.org
SEQUENCE:3
SUMMARY:First WiP Mentoring Program 2020
URL;VALUE=URI:https://events.vtools.ieee.org/m/253763
X-ALT-DESC:Description: &lt;br /&gt;&lt;p&gt;We collaborate with the WiP R9 Representat
 ive and also the WiP Representatives from the Per&amp;uacute\; PES and Centro 
 Occidente PES Chapters\, in order to invite you to the First Mentoring Pro
 gram.&amp;nbsp\;&lt;/p&gt;\n&lt;p&gt;The aim of this program is to develop&amp;nbsp\;soft skil
 ls for students and young professionals in order to start a job or researc
 h level&amp;nbsp\;in Region 9\, in which&amp;nbsp\;16 female Mentors from the Ener
 gy Sector with more than 5 years of experience will have a PES mentee to f
 ulfill this objective.&amp;nbsp\;&lt;/p&gt;\n&lt;p&gt;&lt;strong&gt;Each mentor and mentee must 
 gather 4-hours in a month during the 3-month program.&lt;/strong&gt;&lt;/p&gt;&lt;br /&gt;&lt;b
 r /&gt;Agenda: &lt;br /&gt;&lt;table&gt;\n&lt;tbody&gt;\n&lt;tr&gt;\n&lt;td&gt;\n&lt;p&gt;&lt;strong&gt;&lt;span style=&quot;co
 lor: #008000\;&quot;&gt;Important Dates:&lt;/span&gt;&lt;/strong&gt;&lt;/p&gt;\n&lt;/td&gt;\n&lt;td&gt;&lt;strong&gt;&lt;
 span style=&quot;color: #008000\;&quot;&gt;Activity:&lt;/span&gt;&lt;/strong&gt;&lt;/td&gt;\n&lt;/tr&gt;\n&lt;tr&gt;\
 n&lt;td&gt;\n&lt;p&gt;August 29&lt;/p&gt;\n&lt;/td&gt;\n&lt;td&gt;\n&lt;p&gt;Call for mentees&amp;nbsp\;&lt;/p&gt;\n&lt;/td
 &gt;\n&lt;/tr&gt;\n&lt;tr&gt;\n&lt;td&gt;\n&lt;p&gt;&lt;span style=&quot;font-weight: 400\;&quot;&gt;August 29 to Sep
 tember 13&lt;/span&gt;&lt;/p&gt;\n&lt;/td&gt;\n&lt;td&gt;\n&lt;p&gt;&lt;span style=&quot;font-weight: 400\;&quot;&gt;Pap
 er reception (online)&lt;/span&gt;&lt;/p&gt;\n&lt;/td&gt;\n&lt;/tr&gt;\n&lt;tr&gt;\n&lt;td&gt;\n&lt;p&gt;September 1
 3 to 20&lt;/p&gt;\n&lt;/td&gt;\n&lt;td&gt;\n&lt;p&gt;Application Review&lt;/p&gt;\n&lt;/td&gt;\n&lt;/tr&gt;\n&lt;tr&gt;\n&lt;
 td&gt;\n&lt;p&gt;September 23&lt;/p&gt;\n&lt;/td&gt;\n&lt;td&gt;\n&lt;p&gt;Results Publication&lt;/p&gt;\n&lt;/td&gt;\n
 &lt;/tr&gt;\n&lt;tr&gt;\n&lt;td&gt;\n&lt;p&gt;September 26&lt;/p&gt;\n&lt;/td&gt;\n&lt;td&gt;\n&lt;p&gt;Mentee Training&amp;nb
 sp\;&lt;/p&gt;\n&lt;/td&gt;\n&lt;/tr&gt;\n&lt;tr&gt;\n&lt;td&gt;\n&lt;p&gt;&lt;span style=&quot;font-weight: 400\;&quot;&gt;Oc
 tober 2 to December 20&lt;/span&gt;&lt;/p&gt;\n&lt;/td&gt;\n&lt;td&gt;\n&lt;p&gt;Mentoring Program Durat
 ion&lt;/p&gt;\n&lt;/td&gt;\n&lt;/tr&gt;\n&lt;/tbody&gt;\n&lt;/table&gt;\n&lt;p&gt;&amp;nbsp\;&lt;/p&gt;
END:VEVENT
END:VCALENDAR

