BEGIN:VCALENDAR
VERSION:2.0
PRODID:IEEE vTools.Events//EN
CALSCALE:GREGORIAN
BEGIN:VTIMEZONE
TZID:America/New_York
BEGIN:DAYLIGHT
DTSTART:20210314T030000
TZOFFSETFROM:-0500
TZOFFSETTO:-0400
RRULE:FREQ=YEARLY;BYDAY=2SU;BYMONTH=3
TZNAME:EDT
END:DAYLIGHT
BEGIN:STANDARD
DTSTART:20201101T010000
TZOFFSETFROM:-0400
TZOFFSETTO:-0500
RRULE:FREQ=YEARLY;BYDAY=1SU;BYMONTH=11
TZNAME:EST
END:STANDARD
END:VTIMEZONE
BEGIN:VEVENT
DTSTAMP:20201231T163516Z
UID:23F6A60D-3018-4C08-A907-757A6A696715
DTSTART;TZID=America/New_York:20201210T190000
DTEND;TZID=America/New_York:20201210T203000
DESCRIPTION:December Meeting of the IEEE Photonics Society Boston Chapter [
 www.bostonphotonics.org](http://www.bostonphotonics.org/)\n\nNote that\, a
 s previously announced\, officer elections will be held at this meeting.\n
 \nSpeaker(s): Prof. Mikhail Kats\, \n\nAgenda: \nThis seminar begins at 7:
 00 PM and is free and open to the public. All are welcome. For more inform
 ation visit the IEEE Boston Photonics Society website at [www.bostonphoton
 ics.org](http://www.bostonphotonics.org/).\n\nLexington\, Massachusetts\, 
 United States\, 02420\, Virtual: https://events.vtools.ieee.org/m/254304
LOCATION:Lexington\, Massachusetts\, United States\, 02420\, Virtual: https
 ://events.vtools.ieee.org/m/254304
ORGANIZER:cheryl.sorace-agaskar@ll.mit.edu
SEQUENCE:0
SUMMARY:IEEE Photonics Society Boston Chapter December Meeting and Election
 s
URL;VALUE=URI:https://events.vtools.ieee.org/m/254304
X-ALT-DESC:Description: &lt;br /&gt;&lt;p&gt;December Meeting of the IEEE Photonics Soc
 iety Boston Chapter&amp;nbsp\;&lt;a href=&quot;http://www.bostonphotonics.org/&quot;&gt;www.bo
 stonphotonics.org&lt;/a&gt;&lt;/p&gt;\n&lt;p&gt;Note that\, as previously announced\, office
 r elections will be held at this meeting. &amp;nbsp\;&lt;/p&gt;&lt;br /&gt;&lt;br /&gt;Agenda: &lt;
 br /&gt;&lt;p&gt;This seminar begins at 7:00 PM and is free and open to the public.
 &amp;nbsp\;All are welcome. For more information visit the&amp;nbsp\;IEEE&amp;nbsp\;Bo
 ston Photonics Society website at&amp;nbsp\;&lt;a href=&quot;http://www.bostonphotonic
 s.org/&quot;&gt;www.bostonphotonics.org&lt;/a&gt;.&lt;/p&gt;
END:VEVENT
END:VCALENDAR

