BEGIN:VCALENDAR
VERSION:2.0
PRODID:IEEE vTools.Events//EN
CALSCALE:GREGORIAN
BEGIN:VTIMEZONE
TZID:Europe/Zurich
BEGIN:DAYLIGHT
DTSTART:20210328T030000
TZOFFSETFROM:+0100
TZOFFSETTO:+0200
RRULE:FREQ=YEARLY;BYDAY=-1SU;BYMONTH=3
TZNAME:CEST
END:DAYLIGHT
BEGIN:STANDARD
DTSTART:20201025T020000
TZOFFSETFROM:+0200
TZOFFSETTO:+0100
RRULE:FREQ=YEARLY;BYDAY=-1SU;BYMONTH=10
TZNAME:CET
END:STANDARD
END:VTIMEZONE
BEGIN:VEVENT
DTSTAMP:20210129T100559Z
UID:38A3DE5E-2326-4AB8-B612-E78D05E3545F
DTSTART;TZID=Europe/Zurich:20210128T090000
DTEND;TZID=Europe/Zurich:20210128T101500
DESCRIPTION:Dear Members\,\n\nWe hope all of you are doing well and healthy
 .\n\nOur Best wishes for 2021.\n\nTo start this year\, our Swiss Solid Sta
 te Circuit Society chapter is please to host Prof. Makoto Takamiya from To
 kyo University.\n\nThe video conferencing link will be provided on the day
  to registred attendees.\n\nThe topic of the lecture is : &quot; Integrated Pow
 er Management Circuits for Energy-Efficient IoT Systems &quot;\n\nPlease Join a
 t 9:00 AM [CET] mute your headset or microphone.\n\nWe make a group pictur
 e in the begining for society report.\n\nFor the Q&amp;A make sure to have you
 r headset or a proper microphone.\n\nThe Agenda is as follow:\n\n09:00 - 0
 9:05 Welcome participants Teleconference set-up\n\n09:05 - 9:50 Lecture\n\
 n09:50 - 10:15 Questions / Discussion\n\nWe look forward meeting you and h
 aving fruitful discussion.\n\nKind regards\,\n\nMathieu Coustans for your 
 IEEE Switzerland Solid State Circuit Society committee.\n\nSpeaker(s): Pro
 f. Takamiya\, \n\nVirtual: https://events.vtools.ieee.org/m/254880
LOCATION:Virtual: https://events.vtools.ieee.org/m/254880
ORGANIZER:mathieu.coutans@ieee.org
SEQUENCE:2
SUMMARY:IEEE SWISS SSC Distinguished Lecture (WEBINAR) / Integrated Power M
 anagement Circuits for Energy-Efficient IoT Systems
URL;VALUE=URI:https://events.vtools.ieee.org/m/254880
X-ALT-DESC:Description: &lt;br /&gt;&lt;p&gt;Dear Members\,&lt;/p&gt;\n&lt;p&gt;We hope all of you 
 are doing well and healthy.&lt;/p&gt;\n&lt;p&gt;Our Best wishes for 2021.&lt;/p&gt;\n&lt;p&gt;To s
 tart this year\, our Swiss Solid State Circuit Society chapter is please t
 o host Prof.&amp;nbsp\;Makoto Takamiya from Tokyo University.&lt;/p&gt;\n&lt;p&gt;The vide
 o conferencing link will be provided on the day to registred attendees.&lt;/p
 &gt;\n&lt;p&gt;The topic of the lecture is : &quot; Integrated Power Management Circuits
  for Energy-Efficient IoT Systems &quot;&lt;/p&gt;\n&lt;p&gt;Please Join at 9:00 AM [CET] m
 ute your headset or microphone.&lt;/p&gt;\n&lt;p&gt;We make a group picture in the beg
 ining for society report.&lt;/p&gt;\n&lt;p&gt;For the Q&amp;amp\;A make sure to have your 
 headset or a proper microphone.&lt;/p&gt;\n&lt;p&gt;The Agenda is as follow:&lt;/p&gt;\n&lt;p&gt;0
 9:00 - 09:05 Welcome participants Teleconference set-up&lt;/p&gt;\n&lt;p&gt;09:05 - 9:
 50 Lecture&lt;/p&gt;\n&lt;p&gt;09:50 - 10:15 Questions / Discussion&lt;/p&gt;\n&lt;p&gt;We look fo
 rward meeting you and having fruitful discussion.&lt;/p&gt;\n&lt;p&gt;Kind regards\,&lt;/
 p&gt;\n&lt;p&gt;Mathieu Coustans for your IEEE Switzerland Solid State Circuit Soci
 ety committee.&lt;/p&gt;
END:VEVENT
END:VCALENDAR

