BEGIN:VCALENDAR
VERSION:2.0
PRODID:IEEE vTools.Events//EN
CALSCALE:GREGORIAN
BEGIN:VTIMEZONE
TZID:Europe/Zurich
BEGIN:DAYLIGHT
DTSTART:20210328T030000
TZOFFSETFROM:+0100
TZOFFSETTO:+0200
RRULE:FREQ=YEARLY;BYDAY=-1SU;BYMONTH=3
TZNAME:CEST
END:DAYLIGHT
BEGIN:STANDARD
DTSTART:20201025T020000
TZOFFSETFROM:+0200
TZOFFSETTO:+0100
RRULE:FREQ=YEARLY;BYDAY=-1SU;BYMONTH=10
TZNAME:CET
END:STANDARD
END:VTIMEZONE
BEGIN:VEVENT
DTSTAMP:20210325T101826Z
UID:2598D250-A775-4707-A79B-D0AD1400E071
DTSTART;TZID=Europe/Zurich:20210325T100000
DTEND;TZID=Europe/Zurich:20210325T111500
DESCRIPTION:Dear Members\,\n\nWe hope all of you are doing well and healthy
 .\n\nAs of 25th of March 2021\, our Swiss Solid State Circuit Society chap
 ter is please to host Kazuko Nishimura\, Manager in the Technology Innovat
 ion Division (Corporate R&amp;D Division)\, at Panasonic.\n\nThe video confere
 ncing link will be provided on the day to registred attendees.\n\nThe topi
 c of the lecture is : &quot; An Organic-Photoconductive-Film CMOS Image Sensor
 ’s Advanced Technologies &quot;\n\nPlease Join at 10:00 AM [CET] mute your he
 adset or microphone.\n\nWe make a group picture in the begining for societ
 y report.\n\nFor the Q&amp;A make sure to have your headset or a proper microp
 hone.\n\nThe Agenda is as follow:\n\n10:00 - 10:05 Welcome participants Te
 leconference set-up\n\n10:05 - 10:50 Lecture\n\n10:50 - 11:15 Questions / 
 Discussion\n\nWe look forward meeting you and having fruitful discussion.\
 n\nKind regards\,\n\nMathieu Coustans for your IEEE Switzerland Solid Stat
 e Circuit Society committee.\n\nSpeaker(s): Kazuko Nishimura\, \n\nVirtual
 : https://events.vtools.ieee.org/m/254883
LOCATION:Virtual: https://events.vtools.ieee.org/m/254883
ORGANIZER:mathieu.coutans@ieee.org
SEQUENCE:3
SUMMARY:IEEE SWISS SSC Distinguished Lecture (WEBINAR) / An Organic-Photoco
 nductive-Film CMOS Image Sensor’s Advanced Technologies
URL;VALUE=URI:https://events.vtools.ieee.org/m/254883
X-ALT-DESC:Description: &lt;br /&gt;&lt;p&gt;Dear Members\,&lt;/p&gt;\n&lt;p&gt;We hope all of you 
 are doing well and healthy.&lt;/p&gt;\n&lt;p&gt;As of 25th of March 2021\, our Swiss S
 olid State Circuit Society chapter is please to host&amp;nbsp\;Kazuko Nishimur
 a\,&amp;nbsp\;Manager in the Technology Innovation Division (Corporate R&amp;amp\;
 D Division)\, at Panasonic.&lt;/p&gt;\n&lt;p&gt;The video conferencing link will be pr
 ovided on the day to registred attendees.&lt;/p&gt;\n&lt;p&gt;The topic of the lecture
  is : &quot; An Organic-Photoconductive-Film CMOS Image Sensor&amp;rsquo\;s Advance
 d Technologies &quot;&lt;/p&gt;\n&lt;p&gt;Please Join at 10:00 AM [CET] mute your headset o
 r microphone.&lt;/p&gt;\n&lt;p&gt;We make a group picture in the begining for society 
 report.&lt;/p&gt;\n&lt;p&gt;For the Q&amp;amp\;A make sure to have your headset or a prope
 r microphone.&lt;/p&gt;\n&lt;p&gt;The Agenda is as follow:&lt;/p&gt;\n&lt;p&gt;10:00 - 10:05 Welco
 me participants Teleconference set-up&lt;/p&gt;\n&lt;p&gt;10:05 - 10:50 Lecture&lt;/p&gt;\n&lt;
 p&gt;10:50 - 11:15 Questions / Discussion&lt;/p&gt;\n&lt;p&gt;We look forward meeting you
  and having fruitful discussion.&lt;/p&gt;\n&lt;p&gt;Kind regards\,&lt;/p&gt;\n&lt;p&gt;Mathieu Co
 ustans for your IEEE Switzerland Solid State Circuit Society committee.&lt;/p
 &gt;
END:VEVENT
END:VCALENDAR

