BEGIN:VCALENDAR
VERSION:2.0
PRODID:IEEE vTools.Events//EN
CALSCALE:GREGORIAN
BEGIN:VTIMEZONE
TZID:America/Panama
BEGIN:STANDARD
DTSTART:19080422T001936
TZOFFSETFROM:-0640
TZOFFSETTO:-0500
TZNAME:EST
END:STANDARD
END:VTIMEZONE
BEGIN:VEVENT
DTSTAMP:20210116T225146Z
UID:A0B1F6C2-BC94-44C6-96D5-126DA5FEC3C2
DTSTART;TZID=America/Panama:20210109T100000
DTEND;TZID=America/Panama:20210109T120000
DESCRIPTION:Planificacion de los eventos del año\n\nPanama\, Panama\, Pana
 ma
LOCATION:Panama\, Panama\, Panama
ORGANIZER:susana.lau@ieee.org
SEQUENCE:1
SUMMARY:Seguimiento Planificación STAR 1.0 y 2.0 2021
URL;VALUE=URI:https://events.vtools.ieee.org/m/255228
X-ALT-DESC:Description: &lt;br /&gt;&lt;p&gt;Planificacion de los eventos del a&amp;ntilde\
 ;o&lt;/p&gt;
END:VEVENT
END:VCALENDAR

