BEGIN:VCALENDAR
VERSION:2.0
PRODID:IEEE vTools.Events//EN
CALSCALE:GREGORIAN
BEGIN:VTIMEZONE
TZID:US/Eastern
BEGIN:DAYLIGHT
DTSTART:20210314T030000
TZOFFSETFROM:-0500
TZOFFSETTO:-0400
RRULE:FREQ=YEARLY;BYDAY=2SU;BYMONTH=3
TZNAME:EDT
END:DAYLIGHT
BEGIN:STANDARD
DTSTART:20201101T010000
TZOFFSETFROM:-0400
TZOFFSETTO:-0500
RRULE:FREQ=YEARLY;BYDAY=1SU;BYMONTH=11
TZNAME:EST
END:STANDARD
END:VTIMEZONE
BEGIN:VEVENT
DTSTAMP:20210205T145314Z
UID:4F68D257-9562-41C0-941E-FD16C1C6B4EE
DTSTART;TZID=US/Eastern:20210123T080000
DTEND;TZID=US/Eastern:20210123T090000
DESCRIPTION:FWCS WIE First Virtual Profesional Workshop to officially launc
 h the Women International Network Connection (WINC) Program.\n\nBuild your
  Personal Brand Workshop!\n\nSpeaker(s): Dr. Carrie Root\, \n\nAgenda: \nH
 aving a “personal brand” is important for professional success\, as a 
 leader\; it is the unique ‘story’ which sets individuals apart.It make
 s others mentally aware of one’s unique strengths and establishes person
 al connections. Celebrities have personal brands. Promotional speakers hav
 e personal brands. “The Liam Neeson of Trouble Shooting” is an IT guy 
 who knows his personal brand. How do you define YOU? What is your personal
  brand?\n\nJoin us for an interactive discussion and build YOUR personal b
 rand!\n\nTampa\, Florida\, United States\, Virtual: https://events.vtools.
 ieee.org/m/255254
LOCATION:Tampa\, Florida\, United States\, Virtual: https://events.vtools.i
 eee.org/m/255254
ORGANIZER:dianaaristizabal@ieee.org
SEQUENCE:2
SUMMARY:WIE Virtual Personal Brand Workshop
URL;VALUE=URI:https://events.vtools.ieee.org/m/255254
X-ALT-DESC:Description: &lt;br /&gt;&lt;p&gt;FWCS WIE First Virtual Profesional Worksho
 p to officially launch the Women International Network Connection (WINC) P
 rogram.&amp;nbsp\;&lt;/p&gt;\n&lt;p&gt;Build your Personal Brand Workshop!&amp;nbsp\;&lt;/p&gt;&lt;br /
 &gt;&lt;br /&gt;Agenda: &lt;br /&gt;&lt;p&gt;&lt;span style=&quot;font-family: arial\, helvetica\, sans
 -serif\; font-size: 12pt\;&quot;&gt;&lt;a&gt;Having a &amp;ldquo\;personal brand&amp;rdquo\; is 
 important for professional success\, as a leader\; it is the unique &amp;lsquo
 \;story&amp;rsquo\; which sets individuals apart. &amp;nbsp\;&lt;/a&gt;It makes others m
 entally aware of one&amp;rsquo\;s unique strengths and establishes personal co
 nnections.&amp;nbsp\;Celebrities have personal brands. Promotional speakers ha
 ve personal brands. &amp;ldquo\;The Liam Neeson of Trouble Shooting&amp;rdquo\; is
  an IT guy who knows his personal brand. How do you define YOU? What is yo
 ur personal brand?&amp;nbsp\;&lt;/span&gt;&lt;/p&gt;\n&lt;p&gt;&lt;span style=&quot;font-family: arial\,
  helvetica\, sans-serif\; font-size: 12pt\;&quot;&gt;Join us for an interactive di
 scussion and build YOUR personal brand!&lt;/span&gt;&lt;/p&gt;
END:VEVENT
END:VCALENDAR

