BEGIN:VCALENDAR
VERSION:2.0
PRODID:IEEE vTools.Events//EN
CALSCALE:GREGORIAN
BEGIN:VTIMEZONE
TZID:US/Eastern
BEGIN:DAYLIGHT
DTSTART:20210314T030000
TZOFFSETFROM:-0500
TZOFFSETTO:-0400
RRULE:FREQ=YEARLY;BYDAY=2SU;BYMONTH=3
TZNAME:EDT
END:DAYLIGHT
BEGIN:STANDARD
DTSTART:20201101T010000
TZOFFSETFROM:-0400
TZOFFSETTO:-0500
RRULE:FREQ=YEARLY;BYDAY=1SU;BYMONTH=11
TZNAME:EST
END:STANDARD
END:VTIMEZONE
BEGIN:VEVENT
DTSTAMP:20210112T153559Z
UID:A58C5B8D-7D32-4641-BA46-ACACA3534544
DTSTART;TZID=US/Eastern:20210224T180000
DTEND;TZID=US/Eastern:20210224T200000
DESCRIPTION:Canton Engineers Week Banquet: Beermaking\, A Statistical Appro
 ach\n\nSpeaker(s): Francisco Estremera\, \n\nAgenda: \n6:00 PM - Introduct
 ions\n\n6:05 PM - Awards Presentations\n\n6:30 pm - Speaker Presentation\n
 \nVirtual: https://events.vtools.ieee.org/m/255633
LOCATION:Virtual: https://events.vtools.ieee.org/m/255633
ORGANIZER:r.buchanan@ieee.org
SEQUENCE:2
SUMMARY:Canton Engineers Week Banquet
URL;VALUE=URI:https://events.vtools.ieee.org/m/255633
X-ALT-DESC:Description: &lt;br /&gt;&lt;p&gt;Canton Engineers Week Banquet:&amp;nbsp\; Beer
 making\, A Statistical Approach&lt;/p&gt;&lt;br /&gt;&lt;br /&gt;Agenda: &lt;br /&gt;&lt;p&gt;6:00 PM - 
 Introductions&lt;/p&gt;\n&lt;p&gt;6:05 PM - Awards Presentations&lt;/p&gt;\n&lt;p&gt;6:30 pm - Spe
 aker Presentation&lt;/p&gt;
END:VEVENT
END:VCALENDAR

