BEGIN:VCALENDAR
VERSION:2.0
PRODID:IEEE vTools.Events//EN
CALSCALE:GREGORIAN
BEGIN:VTIMEZONE
TZID:America/Denver
BEGIN:DAYLIGHT
DTSTART:20210314T030000
TZOFFSETFROM:-0700
TZOFFSETTO:-0600
RRULE:FREQ=YEARLY;BYDAY=2SU;BYMONTH=3
TZNAME:MDT
END:DAYLIGHT
BEGIN:STANDARD
DTSTART:20201101T010000
TZOFFSETFROM:-0600
TZOFFSETTO:-0700
RRULE:FREQ=YEARLY;BYDAY=1SU;BYMONTH=11
TZNAME:MST
END:STANDARD
END:VTIMEZONE
BEGIN:VEVENT
DTSTAMP:20210108T033048Z
UID:E9151223-E9CE-4543-AA42-DA7A15DDA045
DTSTART;TZID=America/Denver:20210119T183000
DTEND;TZID=America/Denver:20210119T203000
DESCRIPTION:WebEx Meeting\nHosted by MGA-WebEx-DN Denver Secretary\n\nTuesd
 ay\, January\, 2021 6:30 pm | 1.5 hours | (UTC-06:00) Mountain Time (US &amp; 
 Canada)\n\nMeeting number: 590 296 900\nMeeting password: PaQ7G9DV3JK\n\nh
 ttps://ieeemeetings.webex.com/ieeemeetings/j.php?MTID=m8463ba47e933f5d97b2
 6e859008c5d8d\n\nJoin from a video system or application\nDial 590296900@i
 eeemeetings.webex.com\nYou can also dial 173.243.2.68 and enter your meeti
 ng number.\n\nTo dial from an IEEE Video Conference System: *1 590 296 900
 \n\nJoin by phone\nTap to call in from a mobile device (attendees only)\n+
 1-415-655-0002 United States Toll\n1-855-282-6330 United States Toll Free\
 n\nAccess code: 590 296 900\nGlobal call-in numbers | Toll-free calling re
 strictions\n\nAgenda: \nWebEx Meeting\nHosted by MGA-WebEx-DN Denver Secre
 tary\n\nTuesday\, January 19\, 2021 6:30 pm | 1.5 hours | (UTC-06:00) Moun
 tain Time (US &amp; Canada)\n\nMeeting number: 590 296 900\nMeeting password: 
 PaQ7G9DV3JK\n\nhttps://ieeemeetings.webex.com/ieeemeetings/j.php?MTID=m846
 3ba47e933f5d97b26e859008c5d8d\n\nJoin from a video system or application\n
 Dial 590296900@ieeemeetings.webex.com\nYou can also dial 173.243.2.68 and 
 enter your meeting number.\n\nTo dial from an IEEE Video Conference System
 : *1 590 296 900\n\nJoin by phone\nTap to call in from a mobile device (at
 tendees only)\n+1-415-655-0002 United States Toll\n1-855-282-6330 United S
 tates Toll Free\nGlobal call-in numbers | Toll-free calling restrictions\n
 \nOnline only! \, Denver\, Colorado\, United States
LOCATION:Online only! \, Denver\, Colorado\, United States
ORGANIZER:jrupe@ieee.org
SEQUENCE:0
SUMMARY:IEEE Denver ExCom January 2021 Meeting (Webex only)
URL;VALUE=URI:https://events.vtools.ieee.org/m/255683
X-ALT-DESC:Description: &lt;br /&gt;&lt;p&gt;WebEx Meeting&lt;br /&gt;Hosted by MGA-WebEx-DN 
 Denver Secretary&lt;/p&gt;\n&lt;p&gt;Tuesday\, January\, 2021 6:30 pm | 1.5 hours | (U
 TC-06:00) Mountain Time (US &amp;amp\; Canada)&lt;/p&gt;\n&lt;p&gt;&lt;br /&gt;Meeting number: &lt;
 span style=&quot;color: #000000\; font-family: verdana\, geneva\, sans-serif\; 
 font-size: 14px\; font-style: normal\; font-variant-ligatures: normal\; fo
 nt-variant-caps: normal\; font-weight: 400\; letter-spacing: normal\; text
 -align: start\; text-indent: 0px\; text-transform: none\; white-space: nor
 mal\; word-spacing: 0px\; -webkit-text-stroke-width: 0px\; background-colo
 r: #ffffff\; text-decoration-style: initial\; text-decoration-color: initi
 al\; display: inline !important\; float: none\;&quot;&gt;590 296 900&lt;/span&gt;&lt;br /&gt;M
 eeting password: PaQ7G9DV3JK&lt;/p&gt;\n&lt;p&gt;&lt;span style=&quot;color: #0000ff\; font-fa
 mily: verdana\, geneva\, sans-serif\; font-size: 14px\; font-style: normal
 \; font-variant-ligatures: normal\; font-variant-caps: normal\; font-weigh
 t: 400\; letter-spacing: normal\; text-align: start\; text-indent: 0px\; t
 ext-transform: none\; white-space: normal\; word-spacing: 0px\; -webkit-te
 xt-stroke-width: 0px\; text-decoration-style: initial\; text-decoration-co
 lor: initial\; display: inline !important\; float: none\;&quot;&gt;https://ieeemee
 tings.webex.com/ieeemeetings/j.php?MTID=m8463ba47e933f5d97b26e859008c5d8d&lt;
 /span&gt;&lt;/p&gt;\n&lt;section style=&quot;box-sizing: border-box\; display: block\; colo
 r: #000000\; font-family: ciscosansttregular\, &#39;Helvetica Neue&#39;\, Helvetic
 a\, Arial\, sans-serif\, &#39;Times New Roman&#39;\; font-size: 14px\; font-style:
  normal\; font-variant-ligatures: normal\; font-variant-caps: normal\; fon
 t-weight: 400\; letter-spacing: normal\; orphans: 2\; text-align: start\; 
 text-indent: 0px\; text-transform: none\; white-space: normal\; widows: 2\
 ; word-spacing: 0px\; -webkit-text-stroke-width: 0px\; background-color: #
 ffffff\; text-decoration-style: initial\; text-decoration-color: initial\;
 &quot;&gt;\n&lt;dl style=&quot;box-sizing: border-box\; margin: 8px 0px\; color: #666666\;
 &quot;&gt;&lt;/dl&gt;\n&lt;/section&gt;\n&lt;section style=&quot;box-sizing: border-box\; display: blo
 ck\; color: #000000\; font-family: ciscosansttregular\, &#39;Helvetica Neue&#39;\,
  Helvetica\, Arial\, sans-serif\, &#39;Times New Roman&#39;\; font-size: 14px\; fo
 nt-style: normal\; font-variant-ligatures: normal\; font-variant-caps: nor
 mal\; font-weight: 400\; letter-spacing: normal\; orphans: 2\; text-align:
  start\; text-indent: 0px\; text-transform: none\; white-space: normal\; w
 idows: 2\; word-spacing: 0px\; -webkit-text-stroke-width: 0px\; background
 -color: #ffffff\; text-decoration-style: initial\; text-decoration-color: 
 initial\;&quot;&gt;\n&lt;dl style=&quot;box-sizing: border-box\; margin: 8px 0px\; color: 
 #666666\;&quot;&gt;\n&lt;dd style=&quot;box-sizing: border-box\; margin-left: 200px\; marg
 in-bottom: 6px\;&quot;&gt;\n&lt;div style=&quot;box-sizing: border-box\;&quot;&gt;\n&lt;div id=&quot;mdp_a
 udio_telephony_type&quot; class=&quot;accessCodeArea&quot; style=&quot;box-sizing: border-box\
 ; margin-top: 12px\;&quot;&gt;&amp;nbsp\;&lt;/div&gt;\n&lt;/div&gt;\n&lt;/dd&gt;\n&lt;/dl&gt;\n&lt;/section&gt;\n&lt;p&gt;
 Join from a video system or application&lt;br /&gt;Dial 590296900@ieeemeetings.w
 ebex.com&lt;br /&gt;You can also dial 173.243.2.68 and enter your meeting number
 .&lt;br /&gt; &lt;br /&gt;To dial from an IEEE Video Conference System: *1 590 296 900
 &lt;/p&gt;\n&lt;p&gt;Join by phone&lt;br /&gt;Tap to call in from a mobile device (attendees
  only)&lt;br /&gt;+1-415-655-0002 United States Toll&lt;br /&gt;1-855-282-6330 United 
 States Toll Free&lt;/p&gt;\n&lt;p&gt;Access code: 590 296 900&lt;br /&gt;Global call-in numb
 ers | Toll-free calling restrictions&lt;/p&gt;&lt;br /&gt;&lt;br /&gt;Agenda: &lt;br /&gt;&lt;p&gt;WebEx
  Meeting&lt;br /&gt;Hosted by MGA-WebEx-DN Denver Secretary&lt;/p&gt;\n&lt;p&gt;Tuesday\, Ja
 nuary 19\, 2021 6:30 pm | 1.5 hours | (UTC-06:00) Mountain Time (US &amp;amp\;
  Canada)&lt;/p&gt;\n&lt;p&gt;&lt;br /&gt;Meeting number: 590 296 900&lt;br /&gt;Meeting password: 
 PaQ7G9DV3JK&lt;/p&gt;\n&lt;p&gt;&lt;span style=&quot;color: #666666\; font-family: verdana\, g
 eneva\, sans-serif\; font-size: 14px\; font-style: normal\; font-variant-l
 igatures: normal\; font-variant-caps: normal\; font-weight: 400\; letter-s
 pacing: normal\; text-align: start\; text-indent: 0px\; text-transform: no
 ne\; white-space: normal\; word-spacing: 0px\; -webkit-text-stroke-width: 
 0px\; background-color: #ffffff\; text-decoration-style: initial\; text-de
 coration-color: initial\; display: inline !important\; float: none\;&quot;&gt;http
 s://ieeemeetings.webex.com/ieeemeetings/j.php?MTID=m8463ba47e933f5d97b26e8
 59008c5d8d&lt;/span&gt;&lt;/p&gt;\n&lt;p&gt;Join from a video system or application&lt;br /&gt;Dia
 l 590296900@ieeemeetings.webex.com&lt;br /&gt;You can also dial 173.243.2.68 and
  enter your meeting number.&lt;/p&gt;\n&lt;p&gt;To dial from an IEEE Video Conference 
 System: *1 590 296 900&lt;/p&gt;\n&lt;p&gt;Join by phone&lt;br /&gt;Tap to call in from a mo
 bile device (attendees only)&lt;br /&gt;+1-415-655-0002 United States Toll&lt;br /&gt;
 1-855-282-6330 United States Toll Free&lt;br /&gt;Global call-in numbers | Toll-
 free calling restrictions&lt;/p&gt;
END:VEVENT
END:VCALENDAR

