BEGIN:VCALENDAR
VERSION:2.0
PRODID:IEEE vTools.Events//EN
CALSCALE:GREGORIAN
BEGIN:VTIMEZONE
TZID:Asia/Dhaka
BEGIN:DAYLIGHT
DTSTART:20380119T091407
TZOFFSETFROM:+0600
TZOFFSETTO:+0600
RRULE:FREQ=YEARLY;BYDAY=3TU;BYMONTH=1
TZNAME:+06
END:DAYLIGHT
BEGIN:STANDARD
DTSTART:20091231T230000
TZOFFSETFROM:+0700
TZOFFSETTO:+0600
RRULE:FREQ=YEARLY;BYDAY=-1TH;BYMONTH=12
TZNAME:+06
END:STANDARD
END:VTIMEZONE
BEGIN:VEVENT
DTSTAMP:20210108T114840Z
UID:EE3767D5-3C9D-4BA5-BD07-8A077A17CFB0
DTSTART;TZID=Asia/Dhaka:20201216T093000
DTEND;TZID=Asia/Dhaka:20201216T103000
DESCRIPTION:When we think of Bangabandhu Sheikh Mujibur Rahman\, we think o
 f independence\, leadership\, inspiration\, and patriotism. He was a true 
 leader by all means- a powerful voice that encouraged millions. To this da
 y\, the people of Bangladesh remember his visions\, strong willpower\, and
  undying love towards this nation\, with utmost pride and glory. To honor 
 and celebrate the 100th birth year of Bangabandhu Sheikh Mujibur Rahman\, 
 Government has declared the year 2020 as Mujib Borsho.\nOn this glorious m
 onth of December\, along with celebrating the birth of a sovereign Banglad
 esh\, RUET Authority is taking an initiative: &#39;BIJOY 2020&#39; which will be v
 olunteered by IEEE CS RUET SBC - to celebrate the life and achievements of
  the Father of the Nation.\nThere will be a quiz contest on &quot;Bangabandhu J
 onmoshotobarshiki and Bangladesh&quot; among the current students of RUET on th
 at day. It will be free for all . So those who want to participate have to
  register before the registration deadline. There will be three winners (C
 hampion\, 1st runner up and 2nd runner up).\n**Topic:\n1. Different sphere
 s in life of Bangabandhu Sheikh Mujibur Rahman\n2. Liberation war and Bang
 ladesh\n**Meeting Platform: ZOOM\n**Quiz Platform: Google Form\n**Event Da
 te: 16 December 2020\n**Event Time: 9:30 AM to 10:30 AM\n**Questions: 40\n
 **Time: 15 minutes\nRegistration Link: [https://forms.gle/NPuRwYT2T8kmMbAJ
 6](https://forms.gle/NPuRwYT2T8kmMbAJ6?fbclid=IwAR3lhIe3fxZSLWUrLMO_XG_ca2
 VpsrsQLrp18cqeauXAK9Rk_StpS1s6M4Y)\n***Registration Deadline: 15 December\
 ,2020 till 11.59 PM***\n\nRajshahi-6204\, Bangladesh\, Rajshahi\, Rajshahi
 \, Bangladesh\, 6204
LOCATION:Rajshahi-6204\, Bangladesh\, Rajshahi\, Rajshahi\, Bangladesh\, 62
 04
ORGANIZER:sumaiyachdy1996@gmail.com
SEQUENCE:0
SUMMARY:BIJOY 2020
URL;VALUE=URI:https://events.vtools.ieee.org/m/255705
X-ALT-DESC:Description: &lt;br /&gt;&lt;p&gt;When we think of Bangabandhu Sheikh Mujibu
 r Rahman\, we think of independence\, leadership\, inspiration\, and patri
 otism. He was a true leader by all means- a powerful voice that encouraged
  millions. To this day\, the people of Bangladesh remember his visions\, s
 trong willpower\, and undying love towards this nation\, with utmost pride
  and glory. To honor and celebrate the 100th birth year of Bangabandhu She
 ikh Mujibur Rahman\, Government has declared the year 2020 as Mujib Borsho
 .&lt;br /&gt;On this glorious month of December\, along with celebrating the bir
 th of a sovereign Bangladesh\, RUET Authority is taking an initiative: &#39;BI
 JOY 2020&#39; which will be volunteered by IEEE CS RUET SBC - to celebrate the
  life and achievements of the Father of the Nation.&lt;br /&gt;There will be a q
 uiz contest on &quot;Bangabandhu Jonmoshotobarshiki and Bangladesh&quot; among the c
 urrent students of RUET on that day. It will be free for all . So those wh
 o want to participate have to register before the registration deadline. T
 here will be three winners (Champion\, 1st runner up and 2nd runner up).&lt;b
 r /&gt;**Topic:&lt;br /&gt;1. Different spheres in life of Bangabandhu Sheikh Mujib
 ur Rahman&lt;br /&gt;2. Liberation war and Bangladesh&lt;br /&gt;**Meeting Platform: Z
 OOM&lt;br /&gt;**Quiz Platform: Google Form&lt;br /&gt;**Event Date: 16 December 2020&lt;
 br /&gt;**Event Time: 9:30 AM to 10:30 AM&lt;br /&gt;**Questions: 40&lt;br /&gt;**Time: 1
 5 minutes&lt;br /&gt;Registration Link:&amp;nbsp\;&lt;a class=&quot;oajrlxb2 g5ia77u1 qu0x05
 1f esr5mh6w e9989ue4 r7d6kgcz rq0escxv nhd2j8a9 nc684nl6 p7hjln8o kvgmc6g5
  cxmmr5t8 oygrvhab hcukyx3x jb3vyjys rz4wbd8a qt6c0cv9 a8nywdso i1ao9s8h e
 suyzwwr f1sip0of lzcic4wl py34i1dx gpro0wi8&quot; tabindex=&quot;0&quot; role=&quot;link&quot; href
 =&quot;https://forms.gle/NPuRwYT2T8kmMbAJ6?fbclid=IwAR3lhIe3fxZSLWUrLMO_XG_ca2V
 psrsQLrp18cqeauXAK9Rk_StpS1s6M4Y&quot; target=&quot;_blank&quot; rel=&quot;nofollow noopener&quot;&gt;
 https://forms.gle/NPuRwYT2T8kmMbAJ6&lt;/a&gt;&lt;br /&gt;***Registration Deadline: 15 
 December\,2020 till 11.59 PM***&lt;/p&gt;
END:VEVENT
END:VCALENDAR

